Workbook

Sheet Handleiding | Manuel
A2: Handleiding
A3: Opmerking: In 2025 werd de NACE-nomenclatuur 2008 ingeruild voor de NACE-nomenclatuur 2025. Een heel aantal NACE-codes bleven overanderd, maar dat geldt zeker niet voor alle codes. In dit tabblad - en ook in de volgende tabbladen met een vermelding van NACE 25 - brengen we dan ook de verdeling van de gegevens naar NACE- sectie volgens de NACE 25 nomenclatuur. Voor 2025 is dat vanzelfsprekend, maar ook voor de gegevens uit 2024 geven we hier de verdeling volgens NACE 25. We creëren als het ware een fictieve situatie waarin de nieuwe NACE-nomenclatuur 2025 al van kracht was in 2024. Dat is noodzakelijk om de gegevens uit 2025 te vergelijken met hun tegenhanger uit 2024. Deze retropolatie beperkt zich tot het jaar 2024. Voor de voorgaande kwartalen voorzien we enkel een verdeling naar de destijds van toepassing zijnde NACE-nomenclatuur 2008. Die gegevens vindt u onder de tabbladen met vermelding NACE 08. Remarque: En 2025, la nomenclature NACE 2008 a été remplacée par la nomenclature NACE 2025. Un certain nombre de codes NACE sont demeurés inchangés, mais cette stabilité ne s’applique pas à l’ensemble des codes. Dès lors, le présent onglet - et aussi les onglets suivants avec une mention du NACE 25 - présente la répartition des données par section NACE selon la nomenclature NACE 2025. Pour l’année 2025, cette approche s’impose naturellement ; toutefois, pour les données relatives à l’année 2024, la répartition est également fournie sur la base de la nomenclature NACE 2025. Il s’agit ainsi de créer une situation fictive dans laquelle la nouvelle nomenclature NACE 2025 aurait déjà été d’application en 2024. Cette démarche est indispensable afin de permettre une comparaison cohérente entre les données de 2025 et celles de 2024. Pour les années précédentes, nous ne prévoyons qu’une répartition selon la nomenclature NACE 2008 alors en vigueur. Vous trouverez ces données sous les onglets portant la mention NACE 08.
A5: In dit excelbestand worden gegevens weergegeven met door Excel gegenereerde subtotalen
A6: Dit heeft als extra voordeel dat u voor elk kwartaal de detailrijen kunt weergeven en verbergen.
A7: Met behulp van het overzicht aan de linkerkant van elk tabblad kunt u de data verbergen met de – knopjes en weergeven met de + knopjes.
A9: Wilt u de subtotalen verwijderen? Volg dan onderstaande stappen:
A10: 1.Selecteer een cel in het bereik dat subtotalen bevat.
A11: 2.Klik in het lint op het tabblad 'Gegevens' in de groep 'Overzicht' op 'Subtotaal'.
A12: 3.Klik in het dialoogvenster Subtotaal op 'Alles verwijderen'.
A14: Manuel
A16: Les données dans ce fichier Excel sont affichées avec des sous-totaux générés par Excel.
A17: Cela présente l'avantage supplémentaire que vous pouvez afficher et masquer les lignes de détail pour chaque trimestre.
... A23: 3. Dans la boîte de dialogue Sous-total, cliquez sur Supprimer tout.

Sheet Inhoudstafel | Table de matière
A2: Opmerking: In 2025 werd de NACE-nomenclatuur 2008 ingeruild voor de NACE-nomenclatuur 2025. Een heel aantal NACE-codes bleven overanderd, maar dat geldt zeker niet voor alle codes. In dit tabblad - en ook in de volgende tabbladen met een vermelding van NACE 25 - brengen we dan ook de verdeling van de gegevens naar NACE- sectie volgens de NACE 25 nomenclatuur. Voor 2025 is dat vanzelfsprekend, maar ook voor de gegevens uit 2024 geven we hier de verdeling volgens NACE 25. We creëren als het ware een fictieve situatie waarin de nieuwe NACE-nomenclatuur 2025 al van kracht was in 2024. Dat is noodzakelijk om de gegevens uit 2025 te vergelijken met hun tegenhanger uit 2024. Deze retropolatie beperkt zich tot het jaar 2024. Voor de voorgaande kwartalen voorzien we enkel een verdeling naar de destijds van toepassing zijnde NACE-nomenclatuur 2008. Die gegevens vindt u onder de tabbladen met vermelding NACE 08. Remarque: En 2025, la nomenclature NACE 2008 a été remplacée par la nomenclature NACE 2025. Un certain nombre de codes NACE sont demeurés inchangés, mais cette stabilité ne s’applique pas à l’ensemble des codes. Dès lors, le présent onglet - et aussi les onglets suivants avec une mention du NACE 25 - présente la répartition des données par section NACE selon la nomenclature NACE 2025. Pour l’année 2025, cette approche s’impose naturellement ; toutefois, pour les données relatives à l’année 2024, la répartition est également fournie sur la base de la nomenclature NACE 2025. Il s’agit ainsi de créer une situation fictive dans laquelle la nouvelle nomenclature NACE 2025 aurait déjà été d’application en 2024. Cette démarche est indispensable afin de permettre une comparaison cohérente entre les données de 2025 et celles de 2024. Pour les années précédentes, nous ne prévoyons qu’une répartition selon la nomenclature NACE 2008 alors en vigueur. Vous trouverez ces données sous les onglets portant la mention NACE 08.
A4: Inhoudstafel | B4: naam tabblad
A6: De tabellen in dit bestand geven informatie over ee totale, speciale en/of normale uitzendtewerkstelling weer. Voor de duidelijkheid kan u hier een overzicht terugvinden van de verschillende tabellen met een korte beschrijving.
A8: Totale Uitzendtewerkstelling
A9: evolutie VTE vanaf het eerste kwartaal van 2014 | B9: evolutie VTE |évolution ETP
A10: Kerncijfers totale uitzendtewerkstelling | B10: algemeen | générale
A12: Speciale Uitzendtewerkstelling
A13: Kerncijfers speciale uitzendtewerkstelling | B13: INTS
A15: Normale uitzendtewerkgstelling
A16: Kerncijfers normale uitzendtewerkstelling | B16: INTN
A17: Verdeling normale uitzendtewerkstelling naar NACE gebruiker | B17: NACE user INTN
A18: Verdeling normale uitzendtewerkstelling naar leeftijdsklasse en geslacht | B18: lftd-geslacht|age-sexe
A19: Verdeling normale uitzendtewerkstelling naar woonplaats werknemer | B19: woonplaats l lieu de résidence
A20: Verdeling normale uitzendtewerkstelling naar leeftijdsklasse en aantal uitzendkantoren | B20: lftd-WG | age-empl
A21: Verdeling normale uitzendtewerkstelling naar geslacht en aantal uitzendkantoren | B21: geslacht-WG | sexe-empl
A22: Verdeling normale tewerkstelling naar leeftijdsklasse en aantal gebruikers | B22: lftd-users | age-utilisateur
A23: Verdeling normale tewerkstelling naar geslacht en aantal gebruikers | B23: gesl-users | sexe-utilisateur
A24: Verdeling normale uitzendtewerkstelling naar leeftijdsklasse en NACE gebruiker | B24: NACE-lftd | NACE-age
A25: Verdeling normale tewerkstelling naar geslacht en NACE gebruiker | B25: gesl-NACE | sexe-NACE
A26: Verdeling naar specifieke dimensieklasse interim | B26: dimensie | Dimension
A27: verdeling naar uurklasse | B27: Uurklassen_Classes d'heure
... A34: Table de matières | B34: Onglet respectif
A36: Les tableaux dans le présent fichier Excel contenant les données brutes, fournissent des informations sur le travail intérimaire en général (total), le travail intérimaire normal et le travail intérimaire spécial. Ci-dessous, vous trouverez un aperçu des différents tableaux accompagné d'une brève description.
A38: Le travail intérimaire en général (total)
A39: Évolution de l'ETP à partir du premier trimestre 2014 | B39: evolutie VTE | évolution ETP
A40: Chiffres clés travail intérimaire général (total) | B40: algemeen | générale
A42: Le travail intérimaire spécial
A43: Chiffres clés travail intérimaire spécial | B43: INTS
A45: Le travail intérimaire normal
A46: Chiffres clés travail inyérimaire normal | B46: INTN
A47: Répartition travail intérimaire normal par code NACE de l'utilisateur | B47: NACE user INTN
A48: Répartition travail intérimaire normal par tranche d'âge et sexe | B48: lftd-geslacht|âge-sexe
A49: Répartition travail intérimaire normal par lieu de domicile de l'intérimaire | B49: woonplaats l lieu de résidence
A50: Répartition travail intérimaire normal par tranche d'âge et nombre d'agences d'intérim | B50: lftd-WG | âge-empl
A51: Répartition travail intérimaire normal par sexe et nombre d'agences d'intérim | B51: geslacht-WG | sexe-empl
A52: Répartition travail intérimaire normal par tranche d'âge et nombre d'utilisateur | B52: lftd-users | âge-utilisateur
A53: Répartition travail intérimaire normal par sexe et nombre d'utilisateur | B53: gesl-users | sexe-utilisateur
A54: Répartition travail intérimaire normal par tranche d'âge et NACE de l'utilisateur | B54: NACE-lftd | NACE-âge
A55: Répartition travail intérimaire normal par sexe et NACE utilisateur | B55: gesl-NACE | sexe-NACE
A56: Répartition par classes dimensionnelles spécifiques pour travailleurs intérimaires | B56: dimensie | Dimension
...

Sheet evolutie VTE | évolution ETP
A1: Jaar Année | B1: VTE normale interimtewerkstelling ETP emploi intérimaire normal | C1: VTE bijzondere interimtewerkstelling ETP emploi intérimaire spécial | D1: VTE totale interimtewerkstelling ETP emploi intérimaire total
A2: 2025 | B2: 85988.352 | C2: 8956.2125 | D2: 94944.565
A3: 2024 | B3: 87518.008 | C3: 7317.625 | D3: 94835.633
A4: 2023 | B4: 91466.167 | C4: 5657.555 | D4: 97123.723
A5: 2022 | B5: 102243.95 | C5: 4392.9625 | D5: 106636.91
A6: 2021 | B6: 103602.96 | C6: 2901.985 | D6: 106504.95
A7: 2020 | B7: 90082.852 | C7: 2054.5325 | D7: 92137.385
A8: 2019 | B8: 107084.71 | C8: 2296.12 | D8: 109380.83
A9: 2018 | B9: 111134.24 | C9: 1711.315 | D9: 112845.56
A10: 2017 | B10: 108757.72 | C10: 1265.925 | D10: 110023.65
A11: 2016 | B11: 102992.46 | C11: 1094.065 | D11: 104086.52
A12: 2015 | B12: 94424.337 | C12: 900.655 | D12: 95324.992
A13: 2014 | B13: 85216.02 | C13: 1189.1 | D13: 86405.12

Sheet Algemeen | générale
A1: Jaar Année | B1: Tewerkgestelde interimwerknemers Travailleurs intérimaires occupés | C1: Uitzendopdrachten Missions intérimaires | D1: VTE | ETP | E1: Lonen (in €1.000) Rémunérations (en €1.000)
A2: 2025 | B2: 468911 | C2: 739143 | D2: 94944.565 | E2: 3314847.7
A3: 2024 | B3: 461499 | C3: 741909 | D3: 94835.633 | E3: 3212022.1
A4: 2023 | B4: 456047 | C4: 735202 | D4: 97123.723 | E4: 3205811.1

Sheet INTS
A1: Jaar Année | B1: Tewerkgestelde interimwerknemers Travailleurs intérimaires occupés | C1: Uitzendopdrachten Missions intérimaires | D1: VTE | ETP | E1: Lonen (in €1.000) Rémunérations (en €1.000)
A2: 2025 | B2: 119884 | C2: 174227 | D2: 8956.2125 | E2: 262257.93
A3: 2024 | B3: 101434 | C3: 149736 | D3: 7317.625 | E3: 207202.88
A4: 2023 | B4: 81595 | C4: 121561 | D4: 5657.555 | E4: 147086.99

Sheet INTN
A1: Jaar Année | B1: Tewerkgestelde interimwerknemers Travailleurs intérimaires occupés | C1: Uitzendopdrachten Missions intérimaires | D1: VTE | ETP | E1: Lonen (in €1.000) Rémunérations (en €1.000)
A2: 2025 | B2: 366492 | C2: 564916 | D2: 85988.352 | E2: 3052589.8
A3: 2024 | B3: 377205 | C3: 592173 | D3: 87518.008 | E3: 3004819.2
A4: 2023 | B4: 389840 | C4: 613641 | D4: 91466.167 | E4: 3058724.1

Sheet INTN Statu-geslacht|Statu-sexe
A1: Jaar Année | B1: Geslacht | Sexe | C1: Gewest | D1: Région | E1: VTE Arbeiders| ETP Ouvriers | F1: VTE Bedienden| ETP Employés
A2: 2025 | B2: Man-Homme | C2: BRUSSELS HOOFDSTEDELIJK GEWEST | D2: REGION DE BRUXELLES-CAPITALE | E2: 2423.7975 | F2: 1653.73
A3: 2025 | B3: Man-Homme | C3: Vlaams Gewest | D3: Région Flamande | E3: 28697.38 | F3: 8344.4025
A4: 2025 | B4: Man-Homme | C4: Waals Gewest | D4: Région Wallonne | E4: 11858.13 | F4: 3405.935
A5: 2025 | B5: Man-Homme | C5: BUURLANDEN | D5: PAYS LIMITROPHES | E5: 3183.2575 | F5: 242.5725
A6: 2025 | B6: Man-Homme | C6: NIET LOCALISEERBAAR | D6: NON LOCALISABLE | E6: 1373.515 | F6: 279.41
A7: 2025 | B7: Man-Homme | C7: OVERIGE LANDEN | D7: AUTRES PAYS | E7: 424.2275 | F7: 73.8
B8: Totaal Man-Homme | E8: =SUBTOTAL(9,E2:E7) -> 47960.308 | F8: =SUBTOTAL(9,F2:F7) -> 13999.85
A9: 2025 | B9: Vrouw-Femme | C9: BRUSSELS HOOFDSTEDELIJK GEWEST | D9: REGION DE BRUXELLES-CAPITALE | E9: 439.9325 | F9: 1520.9825
A10: 2025 | B10: Vrouw-Femme | C10: Vlaams Gewest | D10: Région Flamande | E10: 5746.4375 | F10: 8651.9775
A11: 2025 | B11: Vrouw-Femme | C11: Waals Gewest | D11: Région Wallonne | E11: 2420.155 | F11: 3599.7525
A12: 2025 | B12: Vrouw-Femme | C12: BUURLANDEN | D12: PAYS LIMITROPHES | E12: 939.1825 | F12: 206.365
A13: 2025 | B13: Vrouw-Femme | C13: NIET LOCALISEERBAAR | D13: NON LOCALISABLE | E13: 237.9425 | F13: 175.585
A14: 2025 | B14: Vrouw-Femme | C14: OVERIGE LANDEN | D14: AUTRES PAYS | E14: 59.615 | F14: 30.2675
B15: Totaal Vrouw-Femme | E15: =SUBTOTAL(9,E9:E14) -> 9843.265 | F15: =SUBTOTAL(9,F9:F14) -> 14184.93
A16: Totaal 2025 | E16: =SUBTOTAL(9,E2:E14) -> 57803.573 | F16: =SUBTOTAL(9,F2:F14) -> 28184.78
A17: 2024 | B17: Man-Homme | C17: BRUSSELS HOOFDSTEDELIJK GEWEST | D17: REGION DE BRUXELLES-CAPITALE | E17: 2447.39 | F17: 1913.6575
A18: 2024 | B18: Man-Homme | C18: Vlaams Gewest | D18: Région Flamande | E18: 27991.507 | F18: 8368.41
A19: 2024 | B19: Man-Homme | C19: Waals Gewest | D19: Région Wallonne | E19: 12030.712 | F19: 3597.675
A20: 2024 | B20: Man-Homme | C20: BUURLANDEN | D20: PAYS LIMITROPHES | E20: 3178.01 | F20: 213.9275
A21: 2024 | B21: Man-Homme | C21: NIET LOCALISEERBAAR | D21: NON LOCALISABLE | E21: 1365.0925 | F21: 282.255
A22: 2024 | B22: Man-Homme | C22: OVERIGE LANDEN | D22: AUTRES PAYS | E22: 435.2775 | F22: 91.92
B23: Totaal Man-Homme | E23: =SUBTOTAL(9,E17:E22) -> 47447.99 | F23: =SUBTOTAL(9,F17:F22) -> 14467.845
A24: 2024 | B24: Vrouw-Femme | C24: BRUSSELS HOOFDSTEDELIJK GEWEST | D24: REGION DE BRUXELLES-CAPITALE | E24: 434.84 | F24: 1741.3575
A25: 2024 | B25: Vrouw-Femme | C25: Vlaams Gewest | D25: Région Flamande | E25: 5983.4175 | F25: 9438.8725
A26: 2024 | B26: Vrouw-Femme | C26: Waals Gewest | D26: Région Wallonne | E26: 2379.235 | F26: 3976.265
A27: 2024 | B27: Vrouw-Femme | C27: BUURLANDEN | D27: PAYS LIMITROPHES | E27: 942.8725 | F27: 212.705
A28: 2024 | B28: Vrouw-Femme | C28: NIET LOCALISEERBAAR | D28: NON LOCALISABLE | E28: 230.29 | F28: 172.2325
A29: 2024 | B29: Vrouw-Femme | C29: OVERIGE LANDEN | D29: AUTRES PAYS | E29: 59.6325 | F29: 30.4525
B30: Totaal Vrouw-Femme | E30: =SUBTOTAL(9,E24:E29) -> 10030.288 | F30: =SUBTOTAL(9,F24:F29) -> 15571.885
A31: Totaal 2024 | E31: =SUBTOTAL(9,E17:E29) -> 57478.277 | F31: =SUBTOTAL(9,F17:F29) -> 30039.73
A32: 2023 | B32: Man-Homme | C32: BRUSSELS HOOFDSTEDELIJK GEWEST | D32: REGION DE BRUXELLES-CAPITALE | E32: 2654.065 | F32: 1925.6575
A33: 2023 | B33: Man-Homme | C33: Vlaams Gewest | D33: Région Flamande | E33: 28456.217 | F33: 9128.5525
A34: 2023 | B34: Man-Homme | C34: Waals Gewest | D34: Région Wallonne | E34: 12241.4 | F34: 3489.7075
A35: 2023 | B35: Man-Homme | C35: BUURLANDEN | D35: PAYS LIMITROPHES | E35: 3044.1225 | F35: 177.705
A36: 2023 | B36: Man-Homme | C36: NIET LOCALISEERBAAR | D36: NON LOCALISABLE | E36: 1653.63 | F36: 321.285
A37: 2023 | B37: Man-Homme | C37: OVERIGE LANDEN | D37: AUTRES PAYS | E37: 465.925 | F37: 60.2775
B38: Totaal Man-Homme | E38: =SUBTOTAL(9,E32:E37) -> 48515.36 | F38: =SUBTOTAL(9,F32:F37) -> 15103.185
A39: 2023 | B39: Vrouw-Femme | C39: BRUSSELS HOOFDSTEDELIJK GEWEST | D39: REGION DE BRUXELLES-CAPITALE | E39: 439.68 | F39: 1837.7675
A40: 2023 | B40: Vrouw-Femme | C40: Vlaams Gewest | D40: Région Flamande | E40: 6516.105 | F40: 10699.327
...

Sheet NACE user INTN (NACE08)
C1: Opmerking: In 2025 werd de NACE-nomenclatuur 2008 ingeruild voor de NACE-nomenclatuur 2025. Een heel aantal NACE-codes bleven overanderd, maar dat geldt zeker niet voor alle codes. In dit tabblad - en ook in de volgende tabbladen met een vermelding van NACE 25 - brengen we dan ook de verdeling van de gegevens naar NACE- sectie volgens de NACE 25 nomenclatuur. Voor 2025 is dat vanzelfsprekend, maar ook voor de gegevens uit 2024 geven we hier de verdeling volgens NACE 25. We creëren als het ware een fictieve situatie waarin de nieuwe NACE-nomenclatuur 2025 al van kracht was in 2024. Dat is noodzakelijk om de gegevens uit 2025 te vergelijken met hun tegenhanger uit 2024. Deze retropolatie beperkt zich tot het jaar 2024. Voor de voorgaande kwartalen voorzien we enkel een verdeling naar de destijds van toepassing zijnde NACE-nomenclatuur 2008. Die gegevens vindt u onder de tabbladen met vermelding NACE 08. Remarque: En 2025, la nomenclature NACE 2008 a été remplacée par la nomenclature NACE 2025. Un certain nombre de codes NACE sont demeurés inchangés, mais cette stabilité ne s’applique pas à l’ensemble des codes. Dès lors, le présent onglet - et aussi les onglets suivants avec une mention du NACE 25 - présente la répartition des données par section NACE selon la nomenclature NACE 2025. Pour l’année 2025, cette approche s’impose naturellement ; toutefois, pour les données relatives à l’année 2024, la répartition est également fournie sur la base de la nomenclature NACE 2025. Il s’agit ainsi de créer une situation fictive dans laquelle la nouvelle nomenclature NACE 2025 aurait déjà été d’application en 2024. Cette démarche est indispensable afin de permettre une comparaison cohérente entre les données de 2025 et celles de 2024. Pour les années précédentes, nous ne prévoyons qu’une répartition selon la nomenclature NACE 2008 alors en vigueur. Vous trouverez ces données sous les onglets portant la mention NACE 08.
A2: Jaar Année | B2: Sectie NACE gebruiker Section NACE Utilisateur | C2: Sectie NACE gebruiker | D2: section NACE utilisateur | E2: Tewerkgestelde interimwerknemers INTN Travailleurs intérimaires occupés INTN | F2: Uitzendopdrachten INTN Missions intérimaires INTN | G2: Arbeidsvolume in VTE INTN Volume de travail en ETP INTN | H2: Lonen INTN (in € 1.000) Rémunérations INTN (en € 1.000) | I2: aantal gebruikers nombre d'utilisateurs
A3: 2024 | B3: A | C3: Landbouw, bosbouw en visserij | D3: Agriculture, sylviculture et pêche | E3: 1771 | F3: 2697 | G3: 384.0425 | H3: 10524.241 | I3: 684
A4: 2024 | B4: B | C4: Winning van delfstoffen | D4: Industries extractives | E4: 156 | F4: 204 | G4: 46.92 | H4: 1718.6097 | I4: 36
A5: 2024 | B5: C | C5: Industrie | D5: Industries manufacturières | E5: 90275 | F5: 140588 | G5: 26888.367 | H5: 973694.86 | I5: 6305
A6: 2024 | B6: D | C6: Productie en distributie van elektriciteit, gas, stoom en gekoelde lucht | D6: Production et distribution d'électricité, de gaz, de vapeur et d'air conditionné | E6: 253 | F6: 328 | G6: 98.045 | H6: 3421.8328 | I6: 36
A7: 2024 | B7: E | C7: Distributie van water; afval- en afvalwaterbeheer en sanering | D7: Production et distribution d'eau; assainissement, gestion des déchets et dépollution | E7: 8180 | F7: 12784 | G7: 2359.6875 | H7: 77758.855 | I7: 371
A8: 2024 | B8: F | C8: bouwnijverheid | D8: Construction | E8: 16904 | F8: 24212 | G8: 4225.6175 | H8: 149604.6 | I8: 5464
A9: 2024 | B9: G | C9: Groot- en detailhandel; reparatie van auto's en motorfietsen | D9: Commerce; réparation d'automobiles et de motocycles | E9: 84801 | F9: 129261 | G9: 17971.855 | H9: 567392.58 | I9: 12295
A10: 2024 | B10: H | C10: Vervoer en opslag | D10: Transports et entreposage | E10: 57359 | F10: 87466 | G10: 15156.417 | H10: 499347.93 | I10: 2367
A11: 2024 | B11: I | C11: Verschaffen van accommodatie en maaltijden | D11: Hébergement et restauration | E11: 24648 | F11: 43624 | G11: 2836.78 | H11: 89945.107 | I11: 6279
A12: 2024 | B12: J | C12: Informatie en communicatie | D12: Information et communication | E12: 5590 | F12: 8723 | G12: 1278.6075 | H12: 49192.723 | I12: 1178
A13: 2024 | B13: K | C13: Financiële activiteiten en verzekeringen | D13: Activités financières et 'assurance | E13: 2169 | F13: 2777 | G13: 658.14 | H13: 24532.141 | I13: 640
A14: 2024 | B14: L | C14: Exploitatie van en handel in onroerend goed | D14: Activités immobilières | E14: 928 | F14: 1348 | G14: 185.925 | H14: 6370.8082 | I14: 483
... A24: 2024 | B24: Onbekend - Inconnu | C24: Onbekend | D24: Inconnu | E24: 4357 | F24: 7347 | G24: 813.88 | H24: 28755.236 | I24: 2785
A25: Totaal 2024 | E25: =SUBTOTAL(9,E3:E24) -> 377205 | F25: =SUBTOTAL(9,F3:F24) -> 592173 | G25: =SUBTOTAL(9,G3:G24) -> 87518.007 | H25: =SUBTOTAL(9,H3:H24) -> 3004819.2 | I25: =SUBTOTAL(9,I3:I24) -> 50815
A26: 2023 | B26: A | C26: Landbouw, bosbouw en visserij | D26: Agriculture, sylviculture et pêche | E26: 1826 | F26: 2837 | G26: 390.945 | H26: 10141.69 | I26: 725
A27: 2023 | B27: B | C27: Winning van delfstoffen | D27: Industries extractives | E27: 164 | F27: 226 | G27: 54.305 | H27: 1969.4207 | I27: 37
A28: 2023 | B28: C | C28: Industrie | D28: Industries manufacturières | E28: 95025 | F28: 148152 | G28: 28310.845 | H28: 993116.35 | I28: 6507
A29: 2023 | B29: D | C29: Productie en distributie van elektriciteit, gas, stoom en gekoelde lucht | D29: Production et distribution d'électricité, de gaz, de vapeur et d'air conditionné | E29: 305 | F29: 384 | G29: 98.5575 | H29: 3354.637 | I29: 38
A30: 2023 | B30: E | C30: Distributie van water; afval- en afvalwaterbeheer en sanering | D30: Production et distribution d'eau; assainissement, gestion des déchets et dépollution | E30: 7669 | F30: 12056 | G30: 2227.7125 | H30: 71438.426 | I30: 378
A31: 2023 | B31: F | C31: bouwnijverheid | D31: Construction | E31: 19328 | F31: 28589 | G31: 4906.785 | H31: 167527.46 | I31: 6015
A32: 2023 | B32: G | C32: Groot- en detailhandel; reparatie van auto's en motorfietsen | D32: Commerce; réparation d'automobiles et de motocycles | E32: 85278 | F32: 131630 | G32: 18090.665 | H32: 554480.06 | I32: 12589
A33: 2023 | B33: H | C33: Vervoer en opslag | D33: Transports et entreposage | E33: 58305 | F33: 87319 | G33: 15931.078 | H33: 522634.94 | I33: 2495
A34: 2023 | B34: I | C34: Verschaffen van accommodatie en maaltijden | D34: Hébergement et restauration | E34: 24371 | F34: 43328 | G34: 2808.5825 | H34: 86515.371 | I34: 6099
A35: 2023 | B35: J | C35: Informatie en communicatie | D35: Information et communication | E35: 5340 | F35: 8286 | G35: 1182.8475 | H35: 44496.14 | I35: 1293
A36: 2023 | B36: K | C36: Financiële activiteiten en verzekeringen | D36: Activités financières et 'assurance | E36: 2528 | F36: 3305 | G36: 778.575 | H36: 28696.878 | I36: 646
A37: 2023 | B37: L | C37: Exploitatie van en handel in onroerend goed | D37: Activités immobilières | E37: 1052 | F37: 1514 | G37: 211.0975 | H37: 6980.6783 | I37: 528
... A47: 2023 | B47: Onbekend - Inconnu | C47: Onbekend | D47: Inconnu | E47: 5026 | F47: 9644 | G47: 952.565 | H47: 34165.87 | I47: 2496
A48: Totaal 2023 | E48: =SUBTOTAL(9,E26:E47) -> 389840 | F48: =SUBTOTAL(9,F26:F47) -> 613641 | G48: =SUBTOTAL(9,G26:G47) -> 91466.167 | H48: =SUBTOTAL(9,H26:H47) -> 3058724.1 | I48: =SUBTOTAL(9,I26:I47) -> 52241

Sheet NACE user INTN (NACE25)
C1: Opmerking: In 2025 werd de NACE-nomenclatuur 2008 ingeruild voor de NACE-nomenclatuur 2025. Een heel aantal NACE-codes bleven overanderd, maar dat geldt zeker niet voor alle codes. In dit tabblad - en ook in de volgende tabbladen met een vermelding van NACE 25 - brengen we dan ook de verdeling van de gegevens naar NACE- sectie volgens de NACE 25 nomenclatuur. Voor 2025 is dat vanzelfsprekend, maar ook voor de gegevens uit 2024 geven we hier de verdeling volgens NACE 25. We creëren als het ware een fictieve situatie waarin de nieuwe NACE-nomenclatuur 2025 al van kracht was in 2024. Dat is noodzakelijk om de gegevens uit 2025 te vergelijken met hun tegenhanger uit 2024. Deze retropolatie beperkt zich tot het jaar 2024. Voor de voorgaande kwartalen voorzien we enkel een verdeling naar de destijds van toepassing zijnde NACE-nomenclatuur 2008. Die gegevens vindt u onder de tabbladen met vermelding NACE 08. Remarque: En 2025, la nomenclature NACE 2008 a été remplacée par la nomenclature NACE 2025. Un certain nombre de codes NACE sont demeurés inchangés, mais cette stabilité ne s’applique pas à l’ensemble des codes. Dès lors, le présent onglet - et aussi les onglets suivants avec une mention du NACE 25 - présente la répartition des données par section NACE selon la nomenclature NACE 2025. Pour l’année 2025, cette approche s’impose naturellement ; toutefois, pour les données relatives à l’année 2024, la répartition est également fournie sur la base de la nomenclature NACE 2025. Il s’agit ainsi de créer une situation fictive dans laquelle la nouvelle nomenclature NACE 2025 aurait déjà été d’application en 2024. Cette démarche est indispensable afin de permettre une comparaison cohérente entre les données de 2025 et celles de 2024. Pour les années précédentes, nous ne prévoyons qu’une répartition selon la nomenclature NACE 2008 alors en vigueur. Vous trouverez ces données sous les onglets portant la mention NACE 08.
A2: Jaar Année | B2: Sectie NACE gebruiker Section NACE Utilisateur | C2: Sectie NACE gebruiker | D2: section NACE utilisateur | E2: Tewerkgestelde interimwerknemers INTN Travailleurs intérimaires occupés INTN | F2: Uitzendopdrachten INTN Missions intérimaires INTN | G2: Arbeidsvolume in VTE INTN Volume de travail en ETP INTN | H2: Lonen INTN (in € 1.000) Rémunérations INTN (en € 1.000) | I2: aantal gebruikers nombre d'utilisateurs
A3: 2025 | B3: A | C3: Landbouw, bosbouw en visserij | D3: Agriculture, sylviculture et pêche | E3: 1839 | F3: 2700 | G3: 391.14 | H3: 11074.274 | I3: 719
A4: 2025 | B4: B | C4: Winning van delfstoffen | D4: Industries extractives | E4: 165 | F4: 208 | G4: 56.2875 | H4: 2195.2841 | I4: 35
A5: 2025 | B5: C | C5: Industrie | D5: Industrie manufacturière | E5: 89892 | F5: 137308 | G5: 26987.147 | H5: 1007963.6 | I5: 6063
A6: 2025 | B6: D | C6: Productie en distributie van elektriciteit, gas, stoom en gekoelde lucht | D6: Production et distribution d'électricité, de gaz, de vapeur et d'air conditionné | E6: 219 | F6: 271 | G6: 76.6475 | H6: 2825.4251 | I6: 43
A7: 2025 | B7: E | C7: Distributie van water; afval- en afvalwaterbeheer en sanering | D7: Production et distribution d'eau; assainissement, gestion des déchets et dépollution | E7: 7922 | F7: 12141 | G7: 2314.87 | H7: 78588.029 | I7: 360
A8: 2025 | B8: F | C8: Bouwnijverheid | D8: Construction | E8: 15713 | F8: 22200 | G8: 3970.19 | H8: 145438.48 | I8: 5180
A9: 2025 | B9: G | C9: Groot- en detailhandel | D9: Commerce | E9: 80075 | F9: 119601 | G9: 17302.735 | H9: 562581.1 | I9: 11169
A10: 2025 | B10: H | C10: Vervoer en opslag | D10: Transports et entreposage | E10: 56629 | F10: 85092 | G10: 15206.188 | H10: 523237.01 | I10: 2370
A11: 2025 | B11: I | C11: Verschaffen van accommodatie en maaltijden | D11: Hébergement et restauration | E11: 24244 | F11: 42415 | G11: 2765.81 | H11: 90469.444 | I11: 6324
A12: 2025 | B12: J | C12: Activiteiten van uitgeverijen, omroepactiviteiten en productie en distributie van inhoud | D12: Édition, diffusion et activités de production et de distribution de contenu | E12: 3174 | F12: 5370 | G12: 721.7575 | H12: 31051.159 | I12: 690
A13: 2025 | B13: K | C13: Telecommunicatie, computerprogrammering, consultancy, informatica-infrastructuur en andere activiteiten op het gebied van informatiediensten | D13: Télécommunications, programmation informatique, conseil, infrastructure informatique et autres activités de service d'informa | E13: 1582 | F13: 2166 | G13: 462.05 | H13: 15916.734 | I13: 495
A14: 2025 | B14: L | C14: Financiële activiteiten en verzekeringen | D14: Activités financières et d'assurance | E14: 1899 | F14: 2419 | G14: 579.005 | H14: 21846.122 | I14: 568
... A24: 2025 | B24: V | C24: Activiteiten van extraterritoriale organisaties en instanties | D24: Activités des organisations et organismes extraterritoriaux | E24: 1678 | F24: 1757 | G24: 507.6125 | H24: 22503.437 | I24: 13
A25: 2025 | B25: Onbekend | E25: 3997 | F25: 6614 | G25: 736.54 | H25: 26376.995 | I25: 2682
A26: Totaal 2025 | E26: =SUBTOTAL(9,E3:E25) -> 366492 | F26: =SUBTOTAL(9,F3:F25) -> 564916 | G26: =SUBTOTAL(9,G3:G25) -> 85988.353 | H26: =SUBTOTAL(9,H3:H25) -> 3052589.8 | I26: =SUBTOTAL(9,I3:I25) -> 49134
A27: 2024 | B27: A | C27: Landbouw, bosbouw en visserij | D27: Agriculture, sylviculture et pêche | E27: 1771 | F27: 2697 | G27: 384.0425 | H27: 10524.241 | I27: 684
A28: 2024 | B28: B | C28: Winning van delfstoffen | D28: Industries extractives | E28: 156 | F28: 204 | G28: 46.92 | H28: 1718.6097 | I28: 36
A29: 2024 | B29: C | C29: Industrie | D29: Industrie manufacturière | E29: 90275 | F29: 140588 | G29: 26888.367 | H29: 973694.86 | I29: 6305
A30: 2024 | B30: D | C30: Productie en distributie van elektriciteit, gas, stoom en gekoelde lucht | D30: Production et distribution d'électricité, de gaz, de vapeur et d'air conditionné | E30: 253 | F30: 328 | G30: 98.045 | H30: 3421.8328 | I30: 36
A31: 2024 | B31: E | C31: Distributie van water; afval- en afvalwaterbeheer en sanering | D31: Production et distribution d'eau; assainissement, gestion des déchets et dépollution | E31: 8180 | F31: 12784 | G31: 2359.6875 | H31: 77758.855 | I31: 371
A32: 2024 | B32: F | C32: Bouwnijverheid | D32: Construction | E32: 16672 | F32: 23840 | G32: 4180.745 | H32: 148040.02 | I32: 5346
A33: 2024 | B33: G | C33: Groot- en detailhandel | D33: Commerce | E33: 82435 | F33: 125742 | G33: 17402.023 | H33: 548197.42 | I33: 11628
A34: 2024 | B34: H | C34: Vervoer en opslag | D34: Transports et entreposage | E34: 57359 | F34: 87466 | G34: 15156.417 | H34: 499347.93 | I34: 2367
A35: 2024 | B35: I | C35: Verschaffen van accommodatie en maaltijden | D35: Hébergement et restauration | E35: 24647 | F35: 43623 | G35: 2836.7375 | H35: 89943.931 | I35: 6278
A36: 2024 | B36: J | C36: Activiteiten van uitgeverijen, omroepactiviteiten en productie en distributie van inhoud | D36: Édition, diffusion et activités de production et de distribution de contenu | E36: 3387 | F36: 5682 | G36: 753.0275 | H36: 31863.828 | I36: 649
A37: 2024 | B37: K | C37: Telecommunicatie, computerprogrammering, consultancy, informatica-infrastructuur en andere activiteiten op het gebied van informatiediensten | D37: Télécommunications, programmation informatique, conseil, infrastructure informatique et autres activités de service d'informa | E37: 2203 | F37: 3041 | G37: 525.58 | H37: 17328.894 | I37: 529
A38: 2024 | B38: L | C38: Financiële activiteiten en verzekeringen | D38: Activités financières et d'assurance | E38: 2169 | F38: 2777 | G38: 658.14 | H38: 24532.141 | I38: 640
... A48: 2024 | B48: V | C48: Activiteiten van extraterritoriale organisaties en instanties | D48: Activités des organisations et organismes extraterritoriaux | E48: 1678 | F48: 1791 | G48: 544.405 | H48: 23299.75 | I48: 14
A49: 2024 | B49: Onbekend | E49: 4357 | F49: 7347 | G49: 813.88 | H49: 28755.236 | I49: 2785
A50: Totaal 2024 | E50: =SUBTOTAL(9,E27:E49) -> 377205 | F50: =SUBTOTAL(9,F27:F49) -> 592173 | G50: =SUBTOTAL(9,G27:G49) -> 87518.007 | H50: =SUBTOTAL(9,H27:H49) -> 3004819.2 | I50: =SUBTOTAL(9,I27:I49) -> 50811

Sheet lftd-geslacht | âge-sexe
A1: Jaar Année | B1: Geslacht Sexe | C1: Leeftijdsklasse Classe d'âge | D1: Tewerkgestelde uitzendwerknemers INTN Travailleurs intérimaires occupés INTN | E1: Uitzendopdrachten INTN Missions intérimaires INTN | F1: Arbeidsvolume in VTE INTN Volume de travail en ETP INTN | G1: Lonen INTN (in €1.000) Rémunérations INTN (en €1.000)
A2: 2025 | B2: Man-Homme | C2: -18 | D2: 1087 | E2: 1147 | F2: 21.525 | G2: 618.8299
A3: 2025 | B3: Man-Homme | C3: 18-19 | D3: 13346 | E3: 19534 | F3: 1889.645 | G3: 64263.923
A4: 2025 | B4: Man-Homme | C4: 20-24 | D4: 57329 | E4: 91119 | F4: 13040.697 | G4: 452170.3
A5: 2025 | B5: Man-Homme | C5: 25-29 | D5: 45111 | E5: 72509 | F5: 11955.35 | G5: 420759.5
A6: 2025 | B6: Man-Homme | C6: 30-34 | D6: 31558 | E6: 50939 | F6: 8756.5425 | G6: 312291.5
A7: 2025 | B7: Man-Homme | C7: 35-39 | D7: 24714 | E7: 39571 | F7: 7073.8275 | G7: 253770.79
A8: 2025 | B8: Man-Homme | C8: 40-44 | D8: 20011 | E8: 32072 | F8: 5892.7 | G8: 213388.27
A9: 2025 | B9: Man-Homme | C9: 45-49 | D9: 16085 | E9: 25936 | F9: 4805.535 | G9: 175003.81
A10: 2025 | B10: Man-Homme | C10: 50-54 | D10: 12307 | E10: 19750 | F10: 3712.915 | G10: 135518.69
A11: 2025 | B11: Man-Homme | C11: 55-59 | D11: 9055 | E11: 14616 | F11: 2742.585 | G11: 100495.32
A12: 2025 | B12: Man-Homme | C12: 60-64 | D12: 4970 | E12: 7061 | F12: 1279.98 | G12: 47693.963
A13: 2025 | B13: Man-Homme | C13: 65+ | D13: 3874 | E13: 4733 | F13: 788.855 | G13: 32086.176
... A25: 2025 | B25: Vrouw-Femme | C25: 65+ | D25: 1752 | E25: 2411 | F25: 285.4275 | G25: 12319.605
A26: Totaal 2025 | D26: =SUBTOTAL(9,D2:D25) -> 366492 | E26: =SUBTOTAL(9,E2:E25) -> 564916 | F26: =SUBTOTAL(9,F2:F25) -> 85988.353 | G26: =SUBTOTAL(9,G2:G25) -> 3052589.8
A27: 2024 | B27: Man-Homme | C27: -18 | D27: 1261 | E27: 1329 | F27: 26.285 | G27: 745.28032
A28: 2024 | B28: Man-Homme | C28: 18-19 | D28: 13670 | E28: 20574 | F28: 1869.8775 | G28: 60690.74
A29: 2024 | B29: Man-Homme | C29: 20-24 | D29: 58835 | E29: 94921 | F29: 13190.552 | G29: 439937.94
A30: 2024 | B30: Man-Homme | C30: 25-29 | D30: 45265 | E30: 73730 | F30: 11633.847 | G30: 395511.13
A31: 2024 | B31: Man-Homme | C31: 30-34 | D31: 32011 | E31: 52503 | F31: 8753.9275 | G31: 301016.17
A32: 2024 | B32: Man-Homme | C32: 35-39 | D32: 24965 | E32: 41494 | F32: 7020.5675 | G32: 243514.8
A33: 2024 | B33: Man-Homme | C33: 40-44 | D33: 20452 | E33: 33320 | F33: 5972.0325 | G33: 209912.41
A34: 2024 | B34: Man-Homme | C34: 45-49 | D34: 16093 | E34: 26403 | F34: 4739.4175 | G34: 166643.81
A35: 2024 | B35: Man-Homme | C35: 50-54 | D35: 12704 | E35: 20873 | F35: 3865.905 | G35: 136243.92
A36: 2024 | B36: Man-Homme | C36: 55-59 | D36: 8986 | E36: 14554 | F36: 2702.605 | G36: 95721.263
A37: 2024 | B37: Man-Homme | C37: 60-64 | D37: 5164 | E37: 7247 | F37: 1289.89 | G37: 46785.177
A38: 2024 | B38: Man-Homme | C38: 65+ | D38: 4215 | E38: 5288 | F38: 850.9275 | G38: 33618.947
... A50: 2024 | B50: Vrouw-Femme | C50: 65+ | D50: 1745 | E50: 2384 | F50: 281.105 | G50: 12038.682
A51: Totaal 2024 | D51: =SUBTOTAL(9,D27:D50) -> 377205 | E51: =SUBTOTAL(9,E27:E50) -> 592173 | F51: =SUBTOTAL(9,F27:F50) -> 87518.007 | G51: =SUBTOTAL(9,G27:G50) -> 3004819.2
A52: 2023 | B52: Man-Homme | C52: -18 | D52: 1600 | E52: 1682 | F52: 31.335 | G52: 833.59787
A53: 2023 | B53: Man-Homme | C53: 18-19 | D53: 14213 | E53: 21595 | F53: 2099.3175 | G53: 67410.679
A54: 2023 | B54: Man-Homme | C54: 20-24 | D54: 59369 | E54: 96601 | F54: 13521.652 | G54: 440650.86
A55: 2023 | B55: Man-Homme | C55: 25-29 | D55: 45626 | E55: 74876 | F55: 11849.155 | G55: 392609.47
A56: 2023 | B56: Man-Homme | C56: 30-34 | D56: 32663 | E56: 53515 | F56: 8979.1825 | G56: 301996.36
A57: 2023 | B57: Man-Homme | C57: 35-39 | D57: 25128 | E57: 41325 | F57: 7174.555 | G57: 242772.09
A58: 2023 | B58: Man-Homme | C58: 40-44 | D58: 20917 | E58: 34056 | F58: 6146.725 | G58: 209358.02
A59: 2023 | B59: Man-Homme | C59: 45-49 | D59: 16247 | E59: 26696 | F59: 4898.095 | G59: 166851.06
A60: 2023 | B60: Man-Homme | C60: 50-54 | D60: 13034 | E60: 21277 | F60: 3929.955 | G60: 134142.61
A61: 2023 | B61: Man-Homme | C61: 55-59 | D61: 9026 | E61: 14454 | F61: 2789.4725 | G61: 95696.772
A62: 2023 | B62: Man-Homme | C62: 60-64 | D62: 5246 | E62: 7540 | F62: 1371.9575 | G62: 48591.17
...

Sheet Cor woonplaats | lieu de réside
A1: Opmerking: De Kruispuntbank Sociale Zekerheid (KSZ) kende vanaf 2018 tot eind 2024 problemen met het up to date houden van de woonplaatsgegevens en dat had ook gevolgen voor onze statistieken. De onnauwkeurigheden werden ondertussen gecorrigeerd voor wat betreft de data uit 2023 en 2024. De onderstaande tabel is voor wat betreft de jaren 2023 en 2024 dan ook gebaseerd op de gecorrigeerde woonplaatsgegevens waardoor de cijfers kunnen afwijken van eerder gepubliceerde verdelingen naar woonplaats. U vindt hieronder zowel de gecorrigeerde gegevens als de gegevens die we in het verleden publiceerden op basis van afwijkende KSZ-data. Remarque : La Banque-carrefour de la Sécurité sociale (BCSS) a rencontré, de 2018 à fin 2024, des difficultés pour maintenir à jour les données relatives au lieu de résidence, ce qui a également eu des répercussions sur nos statistiques. Les inexactitudes ont entre-temps été corrigées pour ce qui concerne les données de 2023 et 2024. Le tableau ci-dessous, pour les années 2023 et 2024, est donc basé sur les données corrigées relatives au lieu de résidence, ce qui peut entraîner des écarts par rapport aux répartitions publiées précédemment selon le lieu de résidence. Vous trouverez ci-dessous à la fois les données corrigées et les données que nous avions publiées par le passé sur la base des données erronées de la BCSS.
A2: Jaar Année | B2: Gewest gecorrigeerd | C2: Région corrigé | D2: NIScode gewest Code NIS région | E2: Niet gecorrigeerd tewerkgestelde uitzendwerknemers INTN Non-corrigé travailleurs intérimaires occupés INTN | F2: Gecorrigeerd tewerkgestelde uitzendwerknemers INTN Corrigé travailleurs intérimaires occupés INTN | G2: Niet gecorrigeerd uitzendopdrachten INTN Non-corrigé missions intérimaires INTN | H2: Gecorrigeerd uitzendopdrachten INTN Corrigé missions intérimaires INTN | I2: Niet-gecorrigeerd arbeidsvolume in VTE INTN Non-corrigé volume de travail en ETP INTN | J2: Gecorrigeerd arbeidsvolume in VTE INTN Corrigé volume de travail en ETP INTN | K2: Niet gecorrigeerd lonen INTN (in €1.000) Non-corrigé rémunérations INTN (en €1.000) | L2: Gecorrigeerd lonen INTN (in €1.000) Corrigé rémunérations INTN (en €1.000)
A3: 2024 | B3: BRUSSELS HOOFDSTEDELIJK GEWEST | C3: REGION DE BRUXELLES-CAPITALE | D3: 4000 | E3: 30289 | F3: 29610 | G3: 47841 | H3: 46633 | I3: 6708.5925 | J3: 6537.245 | K3: 240055.89 | L3: 233920.73
A4: 2024 | B4: BUURLANDEN | C4: PAYS LIMITROPHES | D4: 2 | E4: 18977 | F4: 18899 | G4: 29185 | H4: 29005 | I4: 4569.795 | J4: 4547.515 | K4: 156876.52 | L4: 156119.61
A5: 2024 | B5: NIET LOCALISEERBAAR | C5: NON LOCALISABLE | D5: 0 | E5: 7422 | F5: 10002 | G5: 10849 | H5: 15028 | I5: 1502.715 | J5: 2049.87 | K5: 51035.308 | L5: 69340.539
A6: 2024 | B6: OVERIGE LANDEN | C6: AUTRES PAYS | D6: 7 | E6: 2432 | F6: 2380 | G6: 3058 | H6: 3028 | I6: 630.4925 | J6: 617.2825 | K6: 22650.242 | L6: 22210.161
A7: 2024 | B7: Vlaams Gewest | C7: Région Flamande | D7: 2000 | E7: 215507 | F7: 214752 | G7: 339962 | H7: 338910 | I7: 51808.74 | J7: 51782.208 | K7: 1782661.8 | L7: 1781736.4
A8: 2024 | B8: Waals Gewest | C8: Région Wallonne | D8: 3000 | E8: 102578 | F8: 101562 | G8: 161278 | H8: 159569 | I8: 22297.672 | J8: 21983.888 | K8: 751539.51 | L8: 741491.84
A9: Totaal 2024 | E9: =SUBTOTAL(9,E3:E8) -> 377205 | F9: =SUBTOTAL(9,F3:F8) -> 377205 | G9: =SUBTOTAL(9,G3:G8) -> 592173 | H9: =SUBTOTAL(9,H3:H8) -> 592173 | I9: =SUBTOTAL(9,I3:I8) -> 87518.007 | J9: =SUBTOTAL(9,J3:J8) -> 87518.008 | K9: =SUBTOTAL(9,K3:K8) -> 3004819.2 | L9: =SUBTOTAL(9,L3:L8) -> 3004819.2
A10: 2023 | B10: BRUSSELS HOOFDSTEDELIJK GEWEST | C10: REGION DE BRUXELLES-CAPITALE | D10: 4000 | E10: 31596 | F10: 30762 | G10: 50483 | H10: 48954 | I10: 7090.965 | J10: 6857.17 | K10: 246722.46 | L10: 238495.35
A11: 2023 | B11: BUURLANDEN | C11: PAYS LIMITROPHES | D11: 2 | E11: 18723 | F11: 18369 | G11: 28179 | H11: 27681 | I11: 4449.9825 | J11: 4365.47 | K11: 149719.57 | L11: 146900.61
A12: 2023 | B12: NIET LOCALISEERBAAR | C12: NON LOCALISABLE | D12: 0 | E12: 7551 | F12: 11783 | G12: 10318 | H12: 18047 | I12: 1425.4975 | J12: 2499.9625 | K12: 46875.065 | L12: 81978.432
A13: 2023 | B13: OVERIGE LANDEN | C13: AUTRES PAYS | D13: 7 | E13: 2605 | F13: 2475 | G13: 3223 | H13: 3166 | I13: 651.55 | J13: 618.3925 | K13: 22140.502 | L13: 20911.462
A14: 2023 | B14: Vlaams Gewest | C14: Région Flamande | D14: 2000 | E14: 225573 | F14: 223925 | G14: 357616 | H14: 354294 | I14: 55136.042 | J14: 54800.202 | K14: 1849289.7 | L14: 1838481.6
A15: 2023 | B15: Waals Gewest | C15: Région Wallonne | D15: 3000 | E15: 103792 | F15: 102526 | G15: 163822 | H15: 161499 | I15: 22712.13 | J15: 22324.97 | K15: 743976.78 | L15: 731956.68
A16: Totaal 2023 | E16: =SUBTOTAL(9,E10:E15) -> 389840 | F16: =SUBTOTAL(9,F10:F15) -> 389840 | G16: =SUBTOTAL(9,G10:G15) -> 613641 | H16: =SUBTOTAL(9,H10:H15) -> 613641 | I16: =SUBTOTAL(9,I10:I15) -> 91466.167 | J16: =SUBTOTAL(9,J10:J15) -> 91466.167 | K16: =SUBTOTAL(9,K10:K15) -> 3058724.1 | L16: =SUBTOTAL(9,L10:L15) -> 3058724.1

Sheet woonplaats | lieu de résidence
A1: Opmerking: De Kruispuntbank Sociale Zekerheid (KSZ) kende vanaf 2018 tot eind 2024 problemen met het up to date houden van de woonplaatsgegevens en dat had ook gevolgen voor onze statistieken. De onnauwkeurigheden werden ondertussen gecorrigeerd voor wat betreft de data uit 2023 en 2024. De onderstaande tabel is voor wat betreft de jaren 2023 en 2024 dan ook gebaseerd op de gecorrigeerde woonplaatsgegevens. In het tabblad 'Cor woonplaats | lieu de réside' vindt u zowel de gecorrigeerde gegevens als de gegevens die we in het verleden publiceerden op basis van afwijkende KSZ-data. Remarque : La Banque-Carrefour de la Sécurité sociale (BCSS) a rencontré, de 2018 à fin 2024, des difficultés à maintenir à jour les données relatives au lieu de résidence, ce qui a également eu des répercussions sur nos statistiques. Les inexactitudes ont entre-temps été corrigées en ce qui concerne les données de 2023 et 2024. Le tableau ci-dessous repose donc, pour les années 2023 et 2024, sur les données de lieu de résidence corrigées. Dans l'onglet 'Cor woonplaats | lieu de réside' vous trouverez à la fois les données corrigées et celles que nous avions publiées par le passé sur la base des données de la BCSS.
A2: Jaar Année | B2: Gewest | C2: Région | D2: NIScode gewest Code NIS région | E2: Tewerkgestelde uitzendwerknemers INTN travailleurs intérimaires occupés INTN | F2: Uitzendopdrachten INTN Missions intérimaires INTN | G2: Arbeidsvolume in VTE INTN Volume de travail en ETP INTN | H2: Lonen INTN (in €1.000) Rémunérations INTN (en €1.000)
A3: 2025 | B3: BRUSSELS HOOFDSTEDELIJK GEWEST | C3: REGION DE BRUXELLES-CAPITALE | D3: 4000 | E3: 27788 | F3: 42743 | G3: 6038.4425 | H3: 221909.62
A4: 2025 | B4: BUURLANDEN | C4: PAYS LIMITROPHES | D4: 2 | E4: 18605 | F4: 27716 | G4: 4571.3775 | H4: 161579.91
A5: 2025 | B5: NIET LOCALISEERBAAR | C5: NON LOCALISABLE | D5: 0 | E5: 10064 | F5: 15166 | G5: 2066.4525 | H5: 72324.625
A6: 2025 | B6: OVERIGE LANDEN | C6: AUTRES PAYS | D6: 7 | E6: 2373 | F6: 3079 | G6: 587.91 | H6: 21134.31
A7: 2025 | B7: Vlaams Gewest | C7: Région Flamande | D7: 2000 | E7: 209209 | F7: 326746 | G7: 51440.197 | H7: 1835157
A8: 2025 | B8: Waals Gewest | C8: Région Wallonne | D8: 3000 | E8: 98453 | F8: 149466 | G8: 21283.972 | H8: 740484.29
A9: Totaal 2025 | E9: =SUBTOTAL(9,E3:E8) -> 366492 | F9: =SUBTOTAL(9,F3:F8) -> 564916 | G9: =SUBTOTAL(9,G3:G8) -> 85988.352 | H9: =SUBTOTAL(9,H3:H8) -> 3052589.8
A10: 2024 | B10: BRUSSELS HOOFDSTEDELIJK GEWEST | C10: REGION DE BRUXELLES-CAPITALE | D10: 4000 | E10: 29610 | F10: 46633 | G10: 6537.245 | H10: 233920.73
A11: 2024 | B11: BUURLANDEN | C11: PAYS LIMITROPHES | D11: 2 | E11: 18899 | F11: 29005 | G11: 4547.515 | H11: 156119.61
A12: 2024 | B12: NIET LOCALISEERBAAR | C12: NON LOCALISABLE | D12: 0 | E12: 10002 | F12: 15028 | G12: 2049.87 | H12: 69340.539
A13: 2024 | B13: OVERIGE LANDEN | C13: AUTRES PAYS | D13: 7 | E13: 2380 | F13: 3028 | G13: 617.2825 | H13: 22210.161
A14: 2024 | B14: Vlaams Gewest | C14: Région Flamande | D14: 2000 | E14: 214752 | F14: 338910 | G14: 51782.208 | H14: 1781736.4
A15: 2024 | B15: Waals Gewest | C15: Région Wallonne | D15: 3000 | E15: 101562 | F15: 159569 | G15: 21983.888 | H15: 741491.84
A16: Totaal 2024 | E16: =SUBTOTAL(9,E10:E15) -> 377205 | F16: =SUBTOTAL(9,F10:F15) -> 592173 | G16: =SUBTOTAL(9,G10:G15) -> 87518.008 | H16: =SUBTOTAL(9,H10:H15) -> 3004819.2
A17: 2023 | B17: BRUSSELS HOOFDSTEDELIJK GEWEST | C17: REGION DE BRUXELLES-CAPITALE | D17: 4000 | E17: 30762 | F17: 48954 | G17: 6857.17 | H17: 238495.35
A18: 2023 | B18: BUURLANDEN | C18: PAYS LIMITROPHES | D18: 2 | E18: 18369 | F18: 27681 | G18: 4365.47 | H18: 146900.61
A19: 2023 | B19: NIET LOCALISEERBAAR | C19: NON LOCALISABLE | D19: 0 | E19: 11783 | F19: 18047 | G19: 2499.9625 | H19: 81978.432
A20: 2023 | B20: OVERIGE LANDEN | C20: AUTRES PAYS | D20: 7 | E20: 2475 | F20: 3166 | G20: 618.3925 | H20: 20911.462
A21: 2023 | B21: Vlaams Gewest | C21: Région Flamande | D21: 2000 | E21: 223925 | F21: 354294 | G21: 54800.202 | H21: 1838481.6
A22: 2023 | B22: Waals Gewest | C22: Région Wallonne | D22: 3000 | E22: 102526 | F22: 161499 | G22: 22324.97 | H22: 731956.68
A23: Totaal 2023 | E23: =SUBTOTAL(9,E17:E22) -> 389840 | F23: =SUBTOTAL(9,F17:F22) -> 613641 | G23: =SUBTOTAL(9,G17:G22) -> 91466.167 | H23: =SUBTOTAL(9,H17:H22) -> 3058724.1

Sheet lftd-WG | âge-empl
A1: Jaar Année | B1: Aantal werkgevers (uitzendkantoren) Nombre d'employeur (agences d'intérim) | C1: leeftijdsklasse classe d'âge | D1: Tewerkgestelde uitzendwerknemers INTN Travailleurs intérimaires occupés INTN | E1: uitzendopdrachten INTN missions intérimaires INTN | F1: VTE INTN ETP INTN
A2: 2025 | B2: 1 | C2: -18 | D2: 1997 | E2: 2036 | F2: 30.005
A3: 2025 | B3: 1 | C3: 18-19 | D3: 15111 | E3: 16519 | F3: 1570.35
A4: 2025 | B4: 1 | C4: 20-24 | D4: 64776 | E4: 72980 | F4: 11047.395
A5: 2025 | B5: 1 | C5: 25-29 | D5: 51686 | E5: 59708 | F5: 10716.802
A6: 2025 | B6: 1 | C6: 30-34 | D6: 34136 | E6: 39940 | F6: 7421.0825
A7: 2025 | B7: 1 | C7: 35-39 | D7: 27244 | E7: 31908 | F7: 6029.9275
A8: 2025 | B8: 1 | C8: 40-44 | D8: 23024 | E8: 27203 | F8: 5279.325
A9: 2025 | B9: 1 | C9: 45-49 | D9: 19024 | E9: 23189 | F9: 4452.05
A10: 2025 | B10: 1 | C10: 50-54 | D10: 14765 | E10: 18131 | F10: 3519.795
A11: 2025 | B11: 1 | C11: 55-59 | D11: 11049 | E11: 13678 | F11: 2665.34
A12: 2025 | B12: 1 | C12: 60-64 | D12: 6405 | E12: 7747 | F12: 1338.82
A13: 2025 | B13: 1 | C13: 65+ | D13: 4725 | E13: 5423 | F13: 802.085
B14: Totaal 1 | D14: =SUBTOTAL(9,D2:D13) -> 273942 | E14: =SUBTOTAL(9,E2:E13) -> 318462 | F14: =SUBTOTAL(9,F2:F13) -> 54872.977
A15: 2025 | B15: 2 | C15: -18 | D15: 46 | E15: 80 | F15: 3.6075
A16: 2025 | B16: 2 | C16: 18-19 | D16: 2904 | E16: 6225 | F16: 559.5025
A17: 2025 | B17: 2 | C17: 20-24 | D17: 16122 | E17: 34522 | F17: 4524.5275
A18: 2025 | B18: 2 | C18: 25-29 | D18: 13211 | E18: 27951 | F18: 4326.835
A19: 2025 | B19: 2 | C19: 30-34 | D19: 8792 | E19: 18785 | F19: 2986.2025
A20: 2025 | B20: 2 | C20: 35-39 | D20: 6754 | E20: 14703 | F20: 2382.9725
A21: 2025 | B21: 2 | C21: 40-44 | D21: 5522 | E21: 11966 | F21: 1932.8775
A22: 2025 | B22: 2 | C22: 45-49 | D22: 4694 | E22: 10252 | F22: 1652.98
A23: 2025 | B23: 2 | C23: 50-54 | D23: 3673 | E23: 7891 | F23: 1340.8375
A24: 2025 | B24: 2 | C24: 55-59 | D24: 2600 | E24: 5622 | F24: 966.75
A25: 2025 | B25: 2 | C25: 60-64 | D25: 1145 | E25: 2209 | F25: 387.0025
A26: 2025 | B26: 2 | C26: 65+ | D26: 794 | E26: 1274 | F26: 234.8975
B27: Totaal 2 | D27: =SUBTOTAL(9,D15:D26) -> 66257 | E27: =SUBTOTAL(9,E15:E26) -> 141480 | F27: =SUBTOTAL(9,F15:F26) -> 21298.993
A28: 2025 | B28: 3 | C28: -18 | D28: 3 | E28: 11 | F28: 0.63
A29: 2025 | B29: 3 | C29: 18-19 | D29: 747 | E29: 2521 | F29: 188.31
A30: 2025 | B30: 3 | C30: 20-24 | D30: 4597 | E30: 15191 | F30: 1535.775
A31: 2025 | B31: 3 | C31: 25-29 | D31: 3640 | E31: 12277 | F31: 1328.0175
A32: 2025 | B32: 3 | C32: 30-34 | D32: 2477 | E32: 8294 | F32: 921.7975
A33: 2025 | B33: 3 | C33: 35-39 | D33: 2001 | E33: 6830 | F33: 773.655
A34: 2025 | B34: 3 | C34: 40-44 | D34: 1591 | E34: 5618 | F34: 627.585
A35: 2025 | B35: 3 | C35: 45-49 | D35: 1251 | E35: 4469 | F35: 479.755
A36: 2025 | B36: 3 | C36: 50-54 | D36: 920 | E36: 3171 | F36: 369.0125
A37: 2025 | B37: 3 | C37: 55-59 | D37: 612 | E37: 2175 | F37: 239.97
A38: 2025 | B38: 3 | C38: 60-64 | D38: 240 | E38: 805 | F38: 100.635
A39: 2025 | B39: 3 | C39: 65+ | D39: 89 | E39: 323 | F39: 29.1525
B40: Totaal 3 | D40: =SUBTOTAL(9,D28:D39) -> 18168 | E40: =SUBTOTAL(9,E28:E39) -> 61685 | F40: =SUBTOTAL(9,F28:F39) -> 6594.295
...

Sheet geslacht-WG | sexe-empl
A1: Jaar Année | B1: Aantal werkgevers (uitzendkantoren) Nombre d'employeur (agences d'intérim) | C1: Geslacht | Sexe | D1: Tewerkgestelde uitzendwerknemers INTN Travailleurs intérimaires occupés INTN | E1: uitzendopdrachten INTN missions intérimaires INTN | F1: VTE INTN ETP INTN | G1: Lonen INTN (in € 1.000) Rémunérations INTN en (€1.000)
A2: 2025 | B2: 1 | C2: Man-Homme | D2: 173200 | E2: 200166 | F2: 38532.75 | G2: 1378947.2
A3: 2025 | B3: 1 | C3: Vrouw-Femme | D3: 100742 | E3: 118296 | F3: 16340.227 | G3: 570855.36
A4: 2025 | B4: 2 | C4: Man-Homme | D4: 46077 | E4: 98255 | F4: 15680.637 | G4: 558915.7
A5: 2025 | B5: 2 | C5: Vrouw-Femme | D5: 20180 | E5: 43225 | F5: 5618.355 | G5: 200209.54
A6: 2025 | B6: 3 | C6: Man-Homme | D6: 13674 | E6: 46061 | F6: 5120.1725 | G6: 179592.46
A7: 2025 | B7: 3 | C7: Vrouw-Femme | D7: 4494 | E7: 15624 | F7: 1474.1225 | G7: 52373.904
A8: 2025 | B8: 4 | C8: Man-Homme | D8: 4205 | E8: 19395 | F8: 1661.145 | G8: 57621.02
A9: 2025 | B9: 4 | C9: Vrouw-Femme | D9: 1168 | E9: 5814 | F9: 414.5975 | G9: 14985.72
A10: 2025 | B10: >4 | C10: Man-Homme | D10: 2291 | E10: 15110 | F10: 965.4525 | G10: 32984.725
A11: 2025 | B11: >4 | C11: Vrouw-Femme | D11: 461 | E11: 2970 | F11: 180.8925 | G11: 6104.1752
A12: Totaal 2025 | D12: =SUBTOTAL(9,D2:D11) -> 366492 | E12: =SUBTOTAL(9,E2:E11) -> 564916 | F12: =SUBTOTAL(9,F2:F11) -> 85988.352 | G12: =SUBTOTAL(9,G2:G11) -> 3052589.8
A13: 2024 | B13: 1 | C13: Man-Homme | D13: 182679 | E13: 213333 | F13: 41730.745 | G13: 1451104.7
A14: 2024 | B14: 1 | C14: Vrouw-Femme | D14: 110288 | E14: 132425 | F14: 19203.462 | G14: 659325.82
A15: 2024 | B15: 2 | C15: Man-Homme | D15: 42157 | E15: 99184 | F15: 13269.807 | G15: 449273.65
A16: 2024 | B16: 2 | C16: Vrouw-Femme | D16: 17697 | E16: 43695 | F16: 4568.0925 | G16: 154537.7
A17: 2024 | B17: 3 | C17: Man-Homme | D17: 12517 | E17: 44987 | F17: 4445.7525 | G17: 148539.41
A18: 2024 | B18: 3 | C18: Vrouw-Femme | D18: 4092 | E18: 15435 | F18: 1279.5575 | G18: 42672.771
A19: 2024 | B19: 4 | C19: Man-Homme | D19: 4126 | E19: 20008 | F19: 1588.5425 | G19: 52450.207
A20: 2024 | B20: 4 | C20: Vrouw-Femme | D20: 1059 | E20: 5307 | F20: 371.065 | G20: 12215.476
A21: 2024 | B21: >4 | C21: Man-Homme | D21: 2142 | E21: 14724 | F21: 880.9875 | G21: 28973.615
A22: 2024 | B22: >4 | C22: Vrouw-Femme | D22: 448 | E22: 3075 | F22: 179.995 | G22: 5725.8804
A23: Totaal 2024 | D23: =SUBTOTAL(9,D13:D22) -> 377205 | E23: =SUBTOTAL(9,E13:E22) -> 592173 | F23: =SUBTOTAL(9,F13:F22) -> 87518.007 | G23: =SUBTOTAL(9,G13:G22) -> 3004819.2
A24: 2023 | B24: 1 | C24: Man-Homme | D24: 186698 | E24: 218722 | F24: 43451.28 | G24: 1473812.3
A25: 2023 | B25: 1 | C25: Vrouw-Femme | D25: 117061 | E25: 140515 | F25: 20538.855 | G25: 688805.38
A26: 2023 | B26: 2 | C26: Man-Homme | D26: 41350 | E26: 98088 | F26: 13171.98 | G26: 432523.02
A27: 2023 | B27: 2 | C27: Vrouw-Femme | D27: 19311 | E27: 47285 | F27: 5183.2275 | G27: 169636.81
A28: 2023 | B28: 3 | C28: Man-Homme | D28: 12579 | E28: 45450 | F28: 4436.31 | G28: 143859.45
A29: 2023 | B29: 3 | C29: Vrouw-Femme | D29: 4539 | E29: 16972 | F29: 1467.0975 | G29: 47356.194
A30: 2023 | B30: 4 | C30: Man-Homme | D30: 4179 | E30: 20387 | F30: 1619.7525 | G30: 51960.669
A31: 2023 | B31: 4 | C31: Vrouw-Femme | D31: 1238 | E31: 6082 | F31: 440.485 | G31: 14027.794
A32: 2023 | B32: >4 | C32: Man-Homme | D32: 2315 | E32: 16179 | F32: 939.2225 | G32: 30001.196
A33: 2023 | B33: >4 | C33: Vrouw-Femme | D33: 570 | E33: 3961 | F33: 217.9575 | G33: 6741.3013
A34: Totaal 2023 | D34: =SUBTOTAL(9,D24:D33) -> 389840 | E34: =SUBTOTAL(9,E24:E33) -> 613641 | F34: =SUBTOTAL(9,F24:F33) -> 91466.167 | G34: =SUBTOTAL(9,G24:G33) -> 3058724.1

Sheet lftd-users | âge-utilisateur
A1: Jaar Année | B1: Aantal gebruikers Nombre d'utilisateurs | C1: Leeftijdsklasse Classe d'âge | D1: Tewerkgestelde uitzendwerknemers INTN Travailleurs intérimaires occupés INTN | E1: uitzendopdrachten INTN missions intérimaires INTN | F1: VTE INTN ETP INTN
A2: 2025 | B2: 1 | C2: -18 | D2: 1983 | E2: 1983 | F2: 29.0775
A3: 2025 | B3: 1 | C3: 18 - 19 | D3: 14489 | E3: 14482 | F3: 1527.0075
A4: 2025 | B4: 1 | C4: 20 - 24 | D4: 61890 | E4: 61838 | F4: 10791.4
A5: 2025 | B5: 1 | C5: 25 - 29 | D5: 49291 | E5: 49233 | F5: 10606.135
A6: 2025 | B6: 1 | C6: 30 - 34 | D6: 32380 | E6: 32357 | F6: 7299.065
A7: 2025 | B7: 1 | C7: 35 - 39 | D7: 25818 | E7: 25771 | F7: 5941.04
A8: 2025 | B8: 1 | C8: 40 - 44 | D8: 21802 | E8: 21780 | F8: 5170.375
A9: 2025 | B9: 1 | C9: 45 - 49 | D9: 17922 | E9: 17896 | F9: 4350.6725
A10: 2025 | B10: 1 | C10: 50 - 54 | D10: 13999 | E10: 13985 | F10: 3472.105
A11: 2025 | B11: 1 | C11: 55 - 59 | D11: 10559 | E11: 10556 | F11: 2661.9025
A12: 2025 | B12: 1 | C12: 60 - 64 | D12: 6294 | E12: 6292 | F12: 1359.55
A13: 2025 | B13: 1 | C13: +65 | D13: 4909 | E13: 4906 | F13: 880.7475
B14: Totaal 1 | D14: =SUBTOTAL(9,D2:D13) -> 261336 | E14: =SUBTOTAL(9,E2:E13) -> 261079 | F14: =SUBTOTAL(9,F2:F13) -> 54089.078
A15: 2025 | B15: 2 | C15: -18 | D15: 51 | E15: 103 | F15: 3.4925
A16: 2025 | B16: 2 | C16: 18 - 19 | D16: 2844 | E16: 5686 | F16: 473.9125
A17: 2025 | B17: 2 | C17: 20 - 24 | D17: 15384 | E17: 30767 | F17: 3908.23
A18: 2025 | B18: 2 | C18: 25 - 29 | D18: 12409 | E18: 24806 | F18: 3563.69
A19: 2025 | B19: 2 | C19: 30 - 34 | D19: 8301 | E19: 16598 | F19: 2478.7475
A20: 2025 | B20: 2 | C20: 35 - 39 | D20: 6346 | E20: 12689 | F20: 1955.785
A21: 2025 | B21: 2 | C21: 40 - 44 | D21: 5169 | E21: 10335 | F21: 1604.6175
A22: 2025 | B22: 2 | C22: 45 - 49 | D22: 4386 | E22: 8768 | F22: 1346.675
A23: 2025 | B23: 2 | C23: 50 - 54 | D23: 3311 | E23: 6622 | F23: 1036.8
A24: 2025 | B24: 2 | C24: 55 - 59 | D24: 2328 | E24: 4652 | F24: 724.0475
A25: 2025 | B25: 2 | C25: 60 - 64 | D25: 945 | E25: 1890 | F25: 279.8625
A26: 2025 | B26: 2 | C26: +65 | D26: 457 | E26: 914 | F26: 110.4725
B27: Totaal 2 | D27: =SUBTOTAL(9,D15:D26) -> 61931 | E27: =SUBTOTAL(9,E15:E26) -> 123830 | F27: =SUBTOTAL(9,F15:F26) -> 17486.333
A28: 2025 | B28: 3 | C28: -18 | D28: 8 | E28: 24 | F28: 1.2875
A29: 2025 | B29: 3 | C29: 18 - 19 | D29: 999 | E29: 2996 | F29: 212.19
A30: 2025 | B30: 3 | C30: 20 - 24 | D30: 5662 | E30: 16984 | F30: 1669.5225
A31: 2025 | B31: 3 | C31: 25 - 29 | D31: 4533 | E31: 13596 | F31: 1467.0625
A32: 2025 | B32: 3 | C32: 30 - 34 | D32: 3114 | E32: 9343 | F32: 1037.79
A33: 2025 | B33: 3 | C33: 35 - 39 | D33: 2462 | E33: 7384 | F33: 828.1575
A34: 2025 | B34: 3 | C34: 40 - 44 | D34: 1969 | E34: 5906 | F34: 669.1675
A35: 2025 | B35: 3 | C35: 45 - 49 | D35: 1592 | E35: 4777 | F35: 550.5725
A36: 2025 | B36: 3 | C36: 50 - 54 | D36: 1220 | E36: 3658 | F36: 431.0025
A37: 2025 | B37: 3 | C37: 55 - 59 | D37: 775 | E37: 2325 | F37: 279.655
A38: 2025 | B38: 3 | C38: 60 - 64 | D38: 297 | E38: 891 | F38: 98.7225
A39: 2025 | B39: 3 | C39: +65 | D39: 114 | E39: 343 | F39: 34.7275
B40: Totaal 3 | D40: =SUBTOTAL(9,D28:D39) -> 22745 | E40: =SUBTOTAL(9,E28:E39) -> 68227 | F40: =SUBTOTAL(9,F28:F39) -> 7279.8575
...

Sheet gesl-users | sexe-utilisateur
A1: Jaar Année | B1: Aantal gebruikers Nombre d'utilisateurs | C1: geslacht | sexe | D1: Tewerkgestelde uitzendwerknemers INTN Travailleurs intérimaires occupés INTN | E1: uitzendopdrachten INTN missions intérimaires INTN | F1: VTE INTN ETP INTN | G1: Lonen INTN (in € 1.000) Rémunérations INTN (en € 1.000)
A2: 2025 | B2: 1 | C2: Man-Home | D2: 165250 | E2: 165069 | F2: 37805.948 | G2: 1363635.2
A3: 2025 | B3: 1 | C3: Vrouw-Femme | D3: 96086 | E3: 96010 | F3: 16283.13 | G3: 569886.45
A4: 2025 | B4: 2 | C4: Man-Home | D4: 43003 | E4: 85981 | F4: 13034.955 | G4: 457867.01
A5: 2025 | B5: 2 | C5: Vrouw-Femme | D5: 18928 | E5: 37849 | F5: 4451.3775 | G5: 152908.78
A6: 2025 | B6: 3 | C6: Man-Home | D6: 16567 | E6: 49696 | F6: 5638.49 | G6: 196055.36
A7: 2025 | B7: 3 | C7: Vrouw-Femme | D7: 6178 | E7: 18531 | F7: 1641.3675 | G7: 57253.086
A8: 2025 | B8: 4 | C8: Man-Home | D8: 7129 | E8: 28520 | F8: 2580.1675 | G8: 88719.029
A9: 2025 | B9: 4 | C9: Vrouw-Femme | D9: 2600 | E9: 10400 | F9: 714.36 | G9: 25441.45
A10: 2025 | B10: 5 | C10: Man-Home | D10: 3369 | E10: 16843 | F10: 1268.15 | G10: 43769.736
A11: 2025 | B11: 5 | C11: Vrouw-Femme | D11: 1246 | E11: 6228 | F11: 364.2425 | G11: 13722.146
A12: 2025 | B12: >5 | C12: Man-Home | D12: 4129 | E12: 32878 | F12: 1632.4475 | G12: 58014.715
A13: 2025 | B13: >5 | C13: Vrouw-Femme | D13: 2007 | E13: 16911 | F13: 573.7175 | G13: 25316.781
A14: Totaal 2025 | D14: =SUBTOTAL(9,D2:D13) -> 366492 | E14: =SUBTOTAL(9,E2:E13) -> 564916 | F14: =SUBTOTAL(9,F2:F13) -> 85988.353 | G14: =SUBTOTAL(9,G2:G13) -> 3052589.8
A15: 2024 | B15: 1 | C15: Man-Home | D15: 166110 | E15: 165914 | F15: 37166.942 | G15: 1296278.8
A16: 2024 | B16: 1 | C16: Vrouw-Femme | D16: 99663 | E16: 99528 | F16: 16985.165 | G16: 577505.94
A17: 2024 | B17: 2 | C17: Man-Home | D17: 44230 | E17: 88420 | F17: 13012.865 | G17: 439816.08
A18: 2024 | B18: 2 | C18: Vrouw-Femme | D18: 20288 | E18: 40566 | F18: 4828.0275 | G18: 160871.2
A19: 2024 | B19: 3 | C19: Man-Home | D19: 17304 | E19: 51902 | F19: 5777.0825 | G19: 193713.98
A20: 2024 | B20: 3 | C20: Vrouw-Femme | D20: 6860 | E20: 20569 | F20: 1841.44 | G20: 62044.53
A21: 2024 | B21: 4 | C21: Man-Home | D21: 7748 | E21: 30989 | F21: 2783.34 | G21: 92535.162
A22: 2024 | B22: 4 | C22: Vrouw-Femme | D22: 2995 | E22: 11985 | F22: 828.5675 | G22: 28759.419
A23: 2024 | B23: 5 | C23: Man-Home | D23: 3677 | E23: 18386 | F23: 1380.5775 | G23: 46198.151
A24: 2024 | B24: 5 | C24: Vrouw-Femme | D24: 1410 | E24: 7050 | F24: 397.5125 | G24: 14496.12
A25: 2024 | B25: >5 | C25: Man-Home | D25: 4552 | E25: 36625 | F25: 1795.0275 | G25: 61799.396
A26: 2024 | B26: >5 | C26: Vrouw-Femme | D26: 2368 | E26: 20239 | F26: 721.46 | G26: 30800.442
A27: Totaal 2024 | D27: =SUBTOTAL(9,D15:D26) -> 377205 | E27: =SUBTOTAL(9,E15:E26) -> 592173 | F27: =SUBTOTAL(9,F15:F26) -> 87518.008 | G27: =SUBTOTAL(9,G15:G26) -> 3004819.2
A28: 2023 | B28: 1 | C28: Man-Home | D28: 168563 | E28: 168330 | F28: 38005.42 | G28: 1291104
A29: 2023 | B29: 1 | C29: Vrouw-Femme | D29: 105474 | E29: 105386 | F29: 18034.45 | G29: 598342.14
A30: 2023 | B30: 2 | C30: Man-Home | D30: 44490 | E30: 88949 | F30: 13438.557 | G30: 443715.99
A31: 2023 | B31: 2 | C31: Vrouw-Femme | D31: 22384 | E31: 44764 | F31: 5553.855 | G31: 181528.53
A32: 2023 | B32: 3 | C32: Man-Home | D32: 17438 | E32: 52311 | F32: 5899.525 | G32: 191985.99
A33: 2023 | B33: 3 | C33: Vrouw-Femme | D33: 7519 | E33: 22561 | F33: 2110.51 | G33: 69003.541
A34: 2023 | B34: 4 | C34: Man-Home | D34: 7991 | E34: 31959 | F34: 2887.565 | G34: 93673.344
A35: 2023 | B35: 4 | C35: Vrouw-Femme | D35: 3221 | E35: 12887 | F35: 913.1675 | G35: 30252.159
A36: 2023 | B36: 5 | C36: Man-Home | D36: 3810 | E36: 19050 | F36: 1431.705 | G36: 46607.209
A37: 2023 | B37: 5 | C37: Vrouw-Femme | D37: 1627 | E37: 8135 | F37: 450.15 | G37: 15477.499
A38: 2023 | B38: >5 | C38: Man-Home | D38: 4829 | E38: 38227 | F38: 1955.7725 | G38: 65070.154
A39: 2023 | B39: >5 | C39: Vrouw-Femme | D39: 2494 | E39: 21082 | F39: 785.49 | G39: 31963.61
A40: Totaal 2023 | D40: =SUBTOTAL(9,D28:D39) -> 389840 | E40: =SUBTOTAL(9,E28:E39) -> 613641 | F40: =SUBTOTAL(9,F28:F39) -> 91466.167 | G40: =SUBTOTAL(9,G28:G39) -> 3058724.1

Sheet NACE-lftd | NACE-âge (NACE08)
