Workbook

Sheet Handleiding | Manuel
A2: Handleiding
A3: Opmerking: In 2025 werd de NACE-nomenclatuur 2008 ingeruild voor de NACE-nomenclatuur 2025. Een heel aantal NACE-codes bleven overanderd, maar dat geldt zeker niet voor alle codes. In dit tabblad - en ook in de volgende tabbladen met een vermelding van NACE 25 - brengen we dan ook de verdeling van de gegevens naar NACE- sectie volgens de NACE 25 nomenclatuur. Voor 2025 is dat vanzelfsprekend, maar ook voor de gegevens uit 2024 geven we hier de verdeling volgens NACE 25. We creëren als het ware een fictieve situatie waarin de nieuwe NACE-nomenclatuur 2025 al van kracht was in 2024. Dat is noodzakelijk om de gegevens uit 2025 te vergelijken met hun tegenhanger uit 2024. Deze retropolatie beperkt zich tot het jaar 2024. Voor de voorgaande kwartalen voorzien we enkel een verdeling naar de destijds van toepassing zijnde NACE-nomenclatuur 2008. Die gegevens vindt u onder de tabbladen met vermelding NACE 08. Remarque: En 2025, la nomenclature NACE 2008 a été remplacée par la nomenclature NACE 2025. Un certain nombre de codes NACE sont demeurés inchangés, mais cette stabilité ne s’applique pas à l’ensemble des codes. Dès lors, le présent onglet - et aussi les onglets suivants avec une mention du NACE 25 - présente la répartition des données par section NACE selon la nomenclature NACE 2025. Pour l’année 2025, cette approche s’impose naturellement ; toutefois, pour les données relatives à l’année 2024, la répartition est également fournie sur la base de la nomenclature NACE 2025. Il s’agit ainsi de créer une situation fictive dans laquelle la nouvelle nomenclature NACE 2025 aurait déjà été d’application en 2024. Cette démarche est indispensable afin de permettre une comparaison cohérente entre les données de 2025 et celles de 2024. Pour les années précédentes, nous ne prévoyons qu’une répartition selon la nomenclature NACE 2008 alors en vigueur. Vous trouverez ces données sous les onglets portant la mention NACE 08.
A5: In dit excelbestand worden gegevens weergegeven met door Excel gegenereerde subtotalen
A6: Dit heeft als extra voordeel dat u voor elk kwartaal de detailrijen kunt weergeven en verbergen.
A7: Met behulp van het overzicht aan de linkerkant van elk tabblad kunt u de data verbergen met de – knopjes en weergeven met de + knopjes.
A9: Wilt u de subtotalen verwijderen? Volg dan onderstaande stappen:
A10: 1.Selecteer een cel in het bereik dat subtotalen bevat.
A11: 2.Klik in het lint op het tabblad 'Gegevens' in de groep 'Overzicht' op 'Subtotaal'.
A12: 3.Klik in het dialoogvenster Subtotaal op 'Alles verwijderen'.
A14: Manuel
A16: Les données dans ce fichier Excel sont affichées avec des sous-totaux générés par Excel.
A17: Cela présente l'avantage supplémentaire que vous pouvez afficher et masquer les lignes de détail pour chaque trimestre.
... A23: 3. Dans la boîte de dialogue Sous-total, cliquez sur Supprimer tout.

Sheet Inhoudstafel | Table de matière
A2: Opmerking: In 2025 werd de NACE-nomenclatuur 2008 ingeruild voor de NACE-nomenclatuur 2025. Een heel aantal NACE-codes bleven overanderd, maar dat geldt zeker niet voor alle codes. In dit tabblad - en ook in de volgende tabbladen met een vermelding van NACE 25 - brengen we dan ook de verdeling van de gegevens naar NACE- sectie volgens de NACE 25 nomenclatuur. Voor 2025 is dat vanzelfsprekend, maar ook voor de gegevens uit 2024 geven we hier de verdeling volgens NACE 25. We creëren als het ware een fictieve situatie waarin de nieuwe NACE-nomenclatuur 2025 al van kracht was in 2024. Dat is noodzakelijk om de gegevens uit 2025 te vergelijken met hun tegenhanger uit 2024. Deze retropolatie beperkt zich tot het jaar 2024. Voor de voorgaande kwartalen voorzien we enkel een verdeling naar de destijds van toepassing zijnde NACE-nomenclatuur 2008. Die gegevens vindt u onder de tabbladen met vermelding NACE 08. Remarque: En 2025, la nomenclature NACE 2008 a été remplacée par la nomenclature NACE 2025. Un certain nombre de codes NACE sont demeurés inchangés, mais cette stabilité ne s’applique pas à l’ensemble des codes. Dès lors, le présent onglet - et aussi les onglets suivants avec une mention du NACE 25 - présente la répartition des données par section NACE selon la nomenclature NACE 2025. Pour l’année 2025, cette approche s’impose naturellement ; toutefois, pour les données relatives à l’année 2024, la répartition est également fournie sur la base de la nomenclature NACE 2025. Il s’agit ainsi de créer une situation fictive dans laquelle la nouvelle nomenclature NACE 2025 aurait déjà été d’application en 2024. Cette démarche est indispensable afin de permettre une comparaison cohérente entre les données de 2025 et celles de 2024. Pour les années précédentes, nous ne prévoyons qu’une répartition selon la nomenclature NACE 2008 alors en vigueur. Vous trouverez ces données sous les onglets portant la mention NACE 08.
A4: Inhoudstafel | B4: naam tabblad
A6: De tabellen in dit bestand geven informatie over ee totale, speciale en/of normale uitzendtewerkstelling weer. Voor de duidelijkheid kan u hier een overzicht terugvinden van de verschillende tabellen met een korte beschrijving.
A8: Totale Uitzendtewerkstelling
A9: evolutie VTE vanaf het eerste kwartaal van 2014 | B9: evolutie VTE |évolution ETP
A10: Kerncijfers totale uitzendtewerkstelling | B10: algemeen | générale
A12: Speciale Uitzendtewerkstelling
A13: Kerncijfers speciale uitzendtewerkstelling | B13: INTS
A15: Normale uitzendtewerkgstelling
A16: Kerncijfers normale uitzendtewerkstelling | B16: INTN
A17: Verdeling normale uitzendtewerkstelling naar NACE gebruiker | B17: NACE user INTN
A18: Verdeling normale uitzendtewerkstelling naar leeftijdsklasse en geslacht | B18: lftd-geslacht|age-sexe
A19: Verdeling normale uitzendtewerkstelling naar woonplaats werknemer | B19: woonplaats l lieu de résidence
A20: Verdeling normale uitzendtewerkstelling naar leeftijdsklasse en aantal uitzendkantoren | B20: lftd-WG | age-empl
A21: Verdeling normale uitzendtewerkstelling naar geslacht en aantal uitzendkantoren | B21: geslacht-WG | sexe-empl
A22: Verdeling normale tewerkstelling naar leeftijdsklasse en aantal gebruikers | B22: lftd-users | age-utilisateur
A23: Verdeling normale tewerkstelling naar geslacht en aantal gebruikers | B23: gesl-users | sexe-utilisateur
A24: Verdeling normale uitzendtewerkstelling naar leeftijdsklasse en NACE gebruiker | B24: NACE-lftd | NACE-age
A25: Verdeling normale tewerkstelling naar geslacht en NACE gebruiker | B25: gesl-NACE | sexe-NACE
A26: Verdeling naar specifieke dimensieklasse interim | B26: dimensie | Dimension
A27: verdeling naar uurklasse | B27: Uurklassen_Classes d'heure
... A34: Table de matières | B34: Onglet respectif
A36: Les tableaux dans le présent fichier Excel contenant les données brutes, fournissent des informations sur le travail intérimaire en général (total), le travail intérimaire normal et le travail intérimaire spécial. Ci-dessous, vous trouverez un aperçu des différents tableaux accompagné d'une brève description.
A38: Le travail intérimaire en général (total)
A39: Évolution de l'ETP à partir du premier trimestre 2014 | B39: evolutie VTE | évolution ETP
A40: Chiffres clés travail intérimaire général (total) | B40: algemeen | générale
A42: Le travail intérimaire spécial
A43: Chiffres clés travail intérimaire spécial | B43: INTS
A45: Le travail intérimaire normal
A46: Chiffres clés travail inyérimaire normal | B46: INTN
A47: Répartition travail intérimaire normal par code NACE de l'utilisateur | B47: NACE user INTN
A48: Répartition travail intérimaire normal par tranche d'âge et sexe | B48: lftd-geslacht|âge-sexe
A49: Répartition travail intérimaire normal par lieu de domicile de l'intérimaire | B49: woonplaats l lieu de résidence
A50: Répartition travail intérimaire normal par tranche d'âge et nombre d'agences d'intérim | B50: lftd-WG | âge-empl
A51: Répartition travail intérimaire normal par sexe et nombre d'agences d'intérim | B51: geslacht-WG | sexe-empl
A52: Répartition travail intérimaire normal par tranche d'âge et nombre d'utilisateur | B52: lftd-users | âge-utilisateur
A53: Répartition travail intérimaire normal par sexe et nombre d'utilisateur | B53: gesl-users | sexe-utilisateur
A54: Répartition travail intérimaire normal par tranche d'âge et NACE de l'utilisateur | B54: NACE-lftd | NACE-âge
A55: Répartition travail intérimaire normal par sexe et NACE utilisateur | B55: gesl-NACE | sexe-NACE
A56: Répartition par classes dimensionnelles spécifiques pour travailleurs intérimaires | B56: dimensie | Dimension
A57: Répartition par classe d'heure | B57: Uurklassen_Classes d'heure
... A62: Répartition par nombre de trimestres travaillés et sexe | B62: Gew kwart-gesl_Trim occupé-sexe

Sheet evolutie VTE | évolution ETP
A1: Jaar Année | B1: VTE normale interimtewerkstelling ETP emploi intérimaire normal | C1: VTE bijzondere interimtewerkstelling ETP emploi intérimaire spécial | D1: VTE totale interimtewerkstelling ETP emploi intérimaire total
A2: 2025 | B2: 85988.352 | C2: 8956.2125 | D2: 94944.565
A3: 2024 | B3: 87518.008 | C3: 7317.625 | D3: 94835.633
A4: 2023 | B4: 91466.167 | C4: 5657.555 | D4: 97123.723
A5: 2022 | B5: 102243.95 | C5: 4392.9625 | D5: 106636.91
A6: 2021 | B6: 103602.96 | C6: 2901.985 | D6: 106504.95
A7: 2020 | B7: 90082.852 | C7: 2054.5325 | D7: 92137.385
A8: 2019 | B8: 107084.71 | C8: 2296.12 | D8: 109380.83
A9: 2018 | B9: 111134.24 | C9: 1711.315 | D9: 112845.56
A10: 2017 | B10: 108757.72 | C10: 1265.925 | D10: 110023.65
A11: 2016 | B11: 102992.46 | C11: 1094.065 | D11: 104086.52
A12: 2015 | B12: 94424.337 | C12: 900.655 | D12: 95324.992
A13: 2014 | B13: 85216.02 | C13: 1189.1 | D13: 86405.12

Sheet Algemeen | générale
A1: Jaar Année | B1: Tewerkgestelde interimwerknemers Travailleurs intérimaires occupés | C1: Uitzendopdrachten Missions intérimaires | D1: VTE | ETP | E1: Lonen (in €1.000) Rémunérations (en €1.000)
A2: 2025 | B2: 468911 | C2: 739143 | D2: 94944.565 | E2: 3314847.7
A3: 2024 | B3: 461499 | C3: 741909 | D3: 94835.633 | E3: 3212022.1
A4: 2023 | B4: 456047 | C4: 735202 | D4: 97123.723 | E4: 3205811.1

Sheet INTS
A1: Jaar Année | B1: Tewerkgestelde interimwerknemers Travailleurs intérimaires occupés | C1: Uitzendopdrachten Missions intérimaires | D1: VTE | ETP | E1: Lonen (in €1.000) Rémunérations (en €1.000)
A2: 2025 | B2: 119884 | C2: 174227 | D2: 8956.2125 | E2: 262257.93
A3: 2024 | B3: 101434 | C3: 149736 | D3: 7317.625 | E3: 207202.88
A4: 2023 | B4: 81595 | C4: 121561 | D4: 5657.555 | E4: 147086.99

Sheet INTN
A1: Jaar Année | B1: Tewerkgestelde interimwerknemers Travailleurs intérimaires occupés | C1: Uitzendopdrachten Missions intérimaires | D1: VTE | ETP | E1: Lonen (in €1.000) Rémunérations (en €1.000)
A2: 2025 | B2: 366492 | C2: 564916 | D2: 85988.352 | E2: 3052589.8
A3: 2024 | B3: 377205 | C3: 592173 | D3: 87518.008 | E3: 3004819.2
A4: 2023 | B4: 389840 | C4: 613641 | D4: 91466.167 | E4: 3058724.1

Sheet INTN Statu-geslacht|Statu-sexe
A1: Jaar Année | B1: Geslacht | Sexe | C1: Gewest | D1: Région | E1: VTE Arbeiders| ETP Ouvriers | F1: VTE Bedienden| ETP Employés
A2: 2025 | B2: Man-Homme | C2: BRUSSELS HOOFDSTEDELIJK GEWEST | D2: REGION DE BRUXELLES-CAPITALE | E2: 2423.7975 | F2: 1653.73
A3: 2025 | B3: Man-Homme | C3: Vlaams Gewest | D3: Région Flamande | E3: 28697.38 | F3: 8344.4025
A4: 2025 | B4: Man-Homme | C4: Waals Gewest | D4: Région Wallonne | E4: 11858.13 | F4: 3405.935
A5: 2025 | B5: Man-Homme | C5: BUURLANDEN | D5: PAYS LIMITROPHES | E5: 3183.2575 | F5: 242.5725
A6: 2025 | B6: Man-Homme | C6: NIET LOCALISEERBAAR | D6: NON LOCALISABLE | E6: 1373.515 | F6: 279.41
A7: 2025 | B7: Man-Homme | C7: OVERIGE LANDEN | D7: AUTRES PAYS | E7: 424.2275 | F7: 73.8
B8: Totaal Man-Homme | E8: =SUBTOTAL(9,E2:E7) -> 47960.308 | F8: =SUBTOTAL(9,F2:F7) -> 13999.85
A9: 2025 | B9: Vrouw-Femme | C9: BRUSSELS HOOFDSTEDELIJK GEWEST | D9: REGION DE BRUXELLES-CAPITALE | E9: 439.9325 | F9: 1520.9825
A10: 2025 | B10: Vrouw-Femme | C10: Vlaams Gewest | D10: Région Flamande | E10: 5746.4375 | F10: 8651.9775
A11: 2025 | B11: Vrouw-Femme | C11: Waals Gewest | D11: Région Wallonne | E11: 2420.155 | F11: 3599.7525
A12: 2025 | B12: Vrouw-Femme | C12: BUURLANDEN | D12: PAYS LIMITROPHES | E12: 939.1825 | F12: 206.365
A13: 2025 | B13: Vrouw-Femme | C13: NIET LOCALISEERBAAR | D13: NON LOCALISABLE | E13: 237.9425 | F13: 175.585
A14: 2025 | B14: Vrouw-Femme | C14: OVERIGE LANDEN | D14: AUTRES PAYS | E14: 59.615 | F14: 30.2675
B15: Totaal Vrouw-Femme | E15: =SUBTOTAL(9,E9:E14) -> 9843.265 | F15: =SUBTOTAL(9,F9:F14) -> 14184.93
A16: Totaal 2025 | E16: =SUBTOTAL(9,E2:E14) -> 57803.573 | F16: =SUBTOTAL(9,F2:F14) -> 28184.78
A17: 2024 | B17: Man-Homme | C17: BRUSSELS HOOFDSTEDELIJK GEWEST | D17: REGION DE BRUXELLES-CAPITALE | E17: 2447.39 | F17: 1913.6575
A18: 2024 | B18: Man-Homme | C18: Vlaams Gewest | D18: Région Flamande | E18: 27991.507 | F18: 8368.41
A19: 2024 | B19: Man-Homme | C19: Waals Gewest | D19: Région Wallonne | E19: 12030.712 | F19: 3597.675
A20: 2024 | B20: Man-Homme | C20: BUURLANDEN | D20: PAYS LIMITROPHES | E20: 3178.01 | F20: 213.9275
A21: 2024 | B21: Man-Homme | C21: NIET LOCALISEERBAAR | D21: NON LOCALISABLE | E21: 1365.0925 | F21: 282.255
A22: 2024 | B22: Man-Homme | C22: OVERIGE LANDEN | D22: AUTRES PAYS | E22: 435.2775 | F22: 91.92
B23: Totaal Man-Homme | E23: =SUBTOTAL(9,E17:E22) -> 47447.99 | F23: =SUBTOTAL(9,F17:F22) -> 14467.845
A24: 2024 | B24: Vrouw-Femme | C24: BRUSSELS HOOFDSTEDELIJK GEWEST | D24: REGION DE BRUXELLES-CAPITALE | E24: 434.84 | F24: 1741.3575
A25: 2024 | B25: Vrouw-Femme | C25: Vlaams Gewest | D25: Région Flamande | E25: 5983.4175 | F25: 9438.8725
A26: 2024 | B26: Vrouw-Femme | C26: Waals Gewest | D26: Région Wallonne | E26: 2379.235 | F26: 3976.265
A27: 2024 | B27: Vrouw-Femme | C27: BUURLANDEN | D27: PAYS LIMITROPHES | E27: 942.8725 | F27: 212.705
A28: 2024 | B28: Vrouw-Femme | C28: NIET LOCALISEERBAAR | D28: NON LOCALISABLE | E28: 230.29 | F28: 172.2325
A29: 2024 | B29: Vrouw-Femme | C29: OVERIGE LANDEN | D29: AUTRES PAYS | E29: 59.6325 | F29: 30.4525
B30: Totaal Vrouw-Femme | E30: =SUBTOTAL(9,E24:E29) -> 10030.288 | F30: =SUBTOTAL(9,F24:F29) -> 15571.885
A31: Totaal 2024 | E31: =SUBTOTAL(9,E17:E29) -> 57478.277 | F31: =SUBTOTAL(9,F17:F29) -> 30039.73
A32: 2023 | B32: Man-Homme | C32: BRUSSELS HOOFDSTEDELIJK GEWEST | D32: REGION DE BRUXELLES-CAPITALE | E32: 2654.065 | F32: 1925.6575
A33: 2023 | B33: Man-Homme | C33: Vlaams Gewest | D33: Région Flamande | E33: 28456.217 | F33: 9128.5525
A34: 2023 | B34: Man-Homme | C34: Waals Gewest | D34: Région Wallonne | E34: 12241.4 | F34: 3489.7075
A35: 2023 | B35: Man-Homme | C35: BUURLANDEN | D35: PAYS LIMITROPHES | E35: 3044.1225 | F35: 177.705
A36: 2023 | B36: Man-Homme | C36: NIET LOCALISEERBAAR | D36: NON LOCALISABLE | E36: 1653.63 | F36: 321.285
A37: 2023 | B37: Man-Homme | C37: OVERIGE LANDEN | D37: AUTRES PAYS | E37: 465.925 | F37: 60.2775
B38: Totaal Man-Homme | E38: =SUBTOTAL(9,E32:E37) -> 48515.36 | F38: =SUBTOTAL(9,F32:F37) -> 15103.185
A39: 2023 | B39: Vrouw-Femme | C39: BRUSSELS HOOFDSTEDELIJK GEWEST | D39: REGION DE BRUXELLES-CAPITALE | E39: 439.68 | F39: 1837.7675
A40: 2023 | B40: Vrouw-Femme | C40: Vlaams Gewest | D40: Région Flamande | E40: 6516.105 | F40: 10699.327
A41: 2023 | B41: Vrouw-Femme | C41: Waals Gewest | D41: Région Wallonne | E41: 2554.6025 | F41: 4039.26
A42: 2023 | B42: Vrouw-Femme | C42: BUURLANDEN | D42: PAYS LIMITROPHES | E42: 940.5775 | F42: 203.065
A43: 2023 | B43: Vrouw-Femme | C43: NIET LOCALISEERBAAR | D43: NON LOCALISABLE | E43: 289.31 | F43: 235.7375
A44: 2023 | B44: Vrouw-Femme | C44: OVERIGE LANDEN | D44: AUTRES PAYS | E44: 69.15 | F44: 23.04
B45: Totaal Vrouw-Femme | E45: =SUBTOTAL(9,E39:E44) -> 10809.425 | F45: =SUBTOTAL(9,F39:F44) -> 17038.197
A46: Totaal 2023 | E46: =SUBTOTAL(9,E32:E44) -> 59324.785 | F46: =SUBTOTAL(9,F32:F44) -> 32141.382

Sheet NACE user INTN (NACE08)
C1: Opmerking: In 2025 werd de NACE-nomenclatuur 2008 ingeruild voor de NACE-nomenclatuur 2025. Een heel aantal NACE-codes bleven overanderd, maar dat geldt zeker niet voor alle codes. In dit tabblad - en ook in de volgende tabbladen met een vermelding van NACE 25 - brengen we dan ook de verdeling van de gegevens naar NACE- sectie volgens de NACE 25 nomenclatuur. Voor 2025 is dat vanzelfsprekend, maar ook voor de gegevens uit 2024 geven we hier de verdeling volgens NACE 25. We creëren als het ware een fictieve situatie waarin de nieuwe NACE-nomenclatuur 2025 al van kracht was in 2024. Dat is noodzakelijk om de gegevens uit 2025 te vergelijken met hun tegenhanger uit 2024. Deze retropolatie beperkt zich tot het jaar 2024. Voor de voorgaande kwartalen voorzien we enkel een verdeling naar de destijds van toepassing zijnde NACE-nomenclatuur 2008. Die gegevens vindt u onder de tabbladen met vermelding NACE 08. Remarque: En 2025, la nomenclature NACE 2008 a été remplacée par la nomenclature NACE 2025. Un certain nombre de codes NACE sont demeurés inchangés, mais cette stabilité ne s’applique pas à l’ensemble des codes. Dès lors, le présent onglet - et aussi les onglets suivants avec une mention du NACE 25 - présente la répartition des données par section NACE selon la nomenclature NACE 2025. Pour l’année 2025, cette approche s’impose naturellement ; toutefois, pour les données relatives à l’année 2024, la répartition est également fournie sur la base de la nomenclature NACE 2025. Il s’agit ainsi de créer une situation fictive dans laquelle la nouvelle nomenclature NACE 2025 aurait déjà été d’application en 2024. Cette démarche est indispensable afin de permettre une comparaison cohérente entre les données de 2025 et celles de 2024. Pour les années précédentes, nous ne prévoyons qu’une répartition selon la nomenclature NACE 2008 alors en vigueur. Vous trouverez ces données sous les onglets portant la mention NACE 08.
A2: Jaar Année | B2: Sectie NACE gebruiker Section NACE Utilisateur | C2: Sectie NACE gebruiker | D2: section NACE utilisateur | E2: Tewerkgestelde interimwerknemers INTN Travailleurs intérimaires occupés INTN | F2: Uitzendopdrachten INTN Missions intérimaires INTN | G2: Arbeidsvolume in VTE INTN Volume de travail en ETP INTN | H2: Lonen INTN (in € 1.000) Rémunérations INTN (en € 1.000) | I2: aantal gebruikers nombre d'utilisateurs
A3: 2024 | B3: A | C3: Landbouw, bosbouw en visserij | D3: Agriculture, sylviculture et pêche | E3: 1771 | F3: 2697 | G3: 384.0425 | H3: 10524.241 | I3: 684
A4: 2024 | B4: B | C4: Winning van delfstoffen | D4: Industries extractives | E4: 156 | F4: 204 | G4: 46.92 | H4: 1718.6097 | I4: 36
A5: 2024 | B5: C | C5: Industrie | D5: Industries manufacturières | E5: 90275 | F5: 140588 | G5: 26888.367 | H5: 973694.86 | I5: 6305
A6: 2024 | B6: D | C6: Productie en distributie van elektriciteit, gas, stoom en gekoelde lucht | D6: Production et distribution d'électricité, de gaz, de vapeur et d'air conditionné | E6: 253 | F6: 328 | G6: 98.045 | H6: 3421.8328 | I6: 36
A7: 2024 | B7: E | C7: Distributie van water; afval- en afvalwaterbeheer en sanering | D7: Production et distribution d'eau; assainissement, gestion des déchets et dépollution | E7: 8180 | F7: 12784 | G7: 2359.6875 | H7: 77758.855 | I7: 371
A8: 2024 | B8: F | C8: bouwnijverheid | D8: Construction | E8: 16904 | F8: 24212 | G8: 4225.6175 | H8: 149604.6 | I8: 5464
A9: 2024 | B9: G | C9: Groot- en detailhandel; reparatie van auto's en motorfietsen | D9: Commerce; réparation d'automobiles et de motocycles | E9: 84801 | F9: 129261 | G9: 17971.855 | H9: 567392.58 | I9: 12295
A10: 2024 | B10: H | C10: Vervoer en opslag | D10: Transports et entreposage | E10: 57359 | F10: 87466 | G10: 15156.417 | H10: 499347.93 | I10: 2367
A11: 2024 | B11: I | C11: Verschaffen van accommodatie en maaltijden | D11: Hébergement et restauration | E11: 24648 | F11: 43624 | G11: 2836.78 | H11: 89945.107 | I11: 6279
A12: 2024 | B12: J | C12: Informatie en communicatie | D12: Information et communication | E12: 5590 | F12: 8723 | G12: 1278.6075 | H12: 49192.723 | I12: 1178
A13: 2024 | B13: K | C13: Financiële activiteiten en verzekeringen | D13: Activités financières et 'assurance | E13: 2169 | F13: 2777 | G13: 658.14 | H13: 24532.141 | I13: 640
A14: 2024 | B14: L | C14: Exploitatie van en handel in onroerend goed | D14: Activités immobilières | E14: 928 | F14: 1348 | G14: 185.925 | H14: 6370.8082 | I14: 483
... A24: 2024 | B24: Onbekend - Inconnu | C24: Onbekend | D24: Inconnu | E24: 4357 | F24: 7347 | G24: 813.88 | H24: 28755.236 | I24: 2785
A25: Totaal 2024 | E25: =SUBTOTAL(9,E3:E24) -> 377205 | F25: =SUBTOTAL(9,F3:F24) -> 592173 | G25: =SUBTOTAL(9,G3:G24) -> 87518.007 | H25: =SUBTOTAL(9,H3:H24) -> 3004819.2 | I25: =SUBTOTAL(9,I3:I24) -> 50815
A26: 2023 | B26: A | C26: Landbouw, bosbouw en visserij | D26: Agriculture, sylviculture et pêche | E26: 1826 | F26: 2837 | G26: 390.945 | H26: 10141.69 | I26: 725
A27: 2023 | B27: B | C27: Winning van delfstoffen | D27: Industries extractives | E27: 164 | F27: 226 | G27: 54.305 | H27: 1969.4207 | I27: 37
A28: 2023 | B28: C | C28: Industrie | D28: Industries manufacturières | E28: 95025 | F28: 148152 | G28: 28310.845 | H28: 993116.35 | I28: 6507
A29: 2023 | B29: D | C29: Productie en distributie van elektriciteit, gas, stoom en gekoelde lucht | D29: Production et distribution d'électricité, de gaz, de vapeur et d'air conditionné | E29: 305 | F29: 384 | G29: 98.5575 | H29: 3354.637 | I29: 38
A30: 2023 | B30: E | C30: Distributie van water; afval- en afvalwaterbeheer en sanering | D30: Production et distribution d'eau; assainissement, gestion des déchets et dépollution | E30: 7669 | F30: 12056 | G30: 2227.7125 | H30: 71438.426 | I30: 378
A31: 2023 | B31: F | C31: bouwnijverheid | D31: Construction | E31: 19328 | F31: 28589 | G31: 4906.785 | H31: 167527.46 | I31: 6015
A32: 2023 | B32: G | C32: Groot- en detailhandel; reparatie van auto's en motorfietsen | D32: Commerce; réparation d'automobiles et de motocycles | E32: 85278 | F32: 131630 | G32: 18090.665 | H32: 554480.06 | I32: 12589
A33: 2023 | B33: H | C33: Vervoer en opslag | D33: Transports et entreposage | E33: 58305 | F33: 87319 | G33: 15931.078 | H33: 522634.94 | I33: 2495
A34: 2023 | B34: I | C34: Verschaffen van accommodatie en maaltijden | D34: Hébergement et restauration | E34: 24371 | F34: 43328 | G34: 2808.5825 | H34: 86515.371 | I34: 6099
A35: 2023 | B35: J | C35: Informatie en communicatie | D35: Information et communication | E35: 5340 | F35: 8286 | G35: 1182.8475 | H35: 44496.14 | I35: 1293
A36: 2023 | B36: K | C36: Financiële activiteiten en verzekeringen | D36: Activités financières et 'assurance | E36: 2528 | F36: 3305 | G36: 778.575 | H36: 28696.878 | I36: 646
A37: 2023 | B37: L | C37: Exploitatie van en handel in onroerend goed | D37: Activités immobilières | E37: 1052 | F37: 1514 | G37: 211.0975 | H37: 6980.6783 | I37: 528
... A47: 2023 | B47: Onbekend - Inconnu | C47: Onbekend | D47: Inconnu | E47: 5026 | F47: 9644 | G47: 952.565 | H47: 34165.87 | I47: 2496
A48: Totaal 2023 | E48: =SUBTOTAL(9,E26:E47) -> 389840 | F48: =SUBTOTAL(9,F26:F47) -> 613641 | G48: =SUBTOTAL(9,G26:G47) -> 91466.167 | H48: =SUBTOTAL(9,H26:H47) -> 3058724.1 | I48: =SUBTOTAL(9,I26:I47) -> 52241

Sheet NACE user INTN (NACE25)
C1: Opmerking: In 2025 werd de NACE-nomenclatuur 2008 ingeruild voor de NACE-nomenclatuur 2025. Een heel aantal NACE-codes bleven overanderd, maar dat geldt zeker niet voor alle codes. In dit tabblad - en ook in de volgende tabbladen met een vermelding van NACE 25 - brengen we dan ook de verdeling van de gegevens naar NACE- sectie volgens de NACE 25 nomenclatuur. Voor 2025 is dat vanzelfsprekend, maar ook voor de gegevens uit 2024 geven we hier de verdeling volgens NACE 25. We creëren als het ware een fictieve situatie waarin de nieuwe NACE-nomenclatuur 2025 al van kracht was in 2024. Dat is noodzakelijk om de gegevens uit 2025 te vergelijken met hun tegenhanger uit 2024. Deze retropolatie beperkt zich tot het jaar 2024. Voor de voorgaande kwartalen voorzien we enkel een verdeling naar de destijds van toepassing zijnde NACE-nomenclatuur 2008. Die gegevens vindt u onder de tabbladen met vermelding NACE 08. Remarque: En 2025, la nomenclature NACE 2008 a été remplacée par la nomenclature NACE 2025. Un certain nombre de codes NACE sont demeurés inchangés, mais cette stabilité ne s’applique pas à l’ensemble des codes. Dès lors, le présent onglet - et aussi les onglets suivants avec une mention du NACE 25 - présente la répartition des données par section NACE selon la nomenclature NACE 2025. Pour l’année 2025, cette approche s’impose naturellement ; toutefois, pour les données relatives à l’année 2024, la répartition est également fournie sur la base de la nomenclature NACE 2025. Il s’agit ainsi de créer une situation fictive dans laquelle la nouvelle nomenclature NACE 2025 aurait déjà été d’application en 2024. Cette démarche est indispensable afin de permettre une comparaison cohérente entre les données de 2025 et celles de 2024. Pour les années précédentes, nous ne prévoyons qu’une répartition selon la nomenclature NACE 2008 alors en vigueur. Vous trouverez ces données sous les onglets portant la mention NACE 08.
A2: Jaar Année | B2: Sectie NACE gebruiker Section NACE Utilisateur | C2: Sectie NACE gebruiker | D2: section NACE utilisateur | E2: Tewerkgestelde interimwerknemers INTN Travailleurs intérimaires occupés INTN | F2: Uitzendopdrachten INTN Missions intérimaires INTN | G2: Arbeidsvolume in VTE INTN Volume de travail en ETP INTN | H2: Lonen INTN (in € 1.000) Rémunérations INTN (en € 1.000) | I2: aantal gebruikers nombre d'utilisateurs
A3: 2025 | B3: A | C3: Landbouw, bosbouw en visserij | D3: Agriculture, sylviculture et pêche | E3: 1839 | F3: 2700 | G3: 391.14 | H3: 11074.274 | I3: 719
A4: 2025 | B4: B | C4: Winning van delfstoffen | D4: Industries extractives | E4: 165 | F4: 208 | G4: 56.2875 | H4: 2195.2841 | I4: 35
A5: 2025 | B5: C | C5: Industrie | D5: Industrie manufacturière | E5: 89892 | F5: 137308 | G5: 26987.147 | H5: 1007963.6 | I5: 6063
A6: 2025 | B6: D | C6: Productie en distributie van elektriciteit, gas, stoom en gekoelde lucht | D6: Production et distribution d'électricité, de gaz, de vapeur et d'air conditionné | E6: 219 | F6: 271 | G6: 76.6475 | H6: 2825.4251 | I6: 43
A7: 2025 | B7: E | C7: Distributie van water; afval- en afvalwaterbeheer en sanering | D7: Production et distribution d'eau; assainissement, gestion des déchets et dépollution | E7: 7922 | F7: 12141 | G7: 2314.87 | H7: 78588.029 | I7: 360
A8: 2025 | B8: F | C8: Bouwnijverheid | D8: Construction | E8: 15713 | F8: 22200 | G8: 3970.19 | H8: 145438.48 | I8: 5180
A9: 2025 | B9: G | C9: Groot- en detailhandel | D9: Commerce | E9: 80075 | F9: 119601 | G9: 17302.735 | H9: 562581.1 | I9: 11169
A10: 2025 | B10: H | C10: Vervoer en opslag | D10: Transports et entreposage | E10: 56629 | F10: 85092 | G10: 15206.188 | H10: 523237.01 | I10: 2370
A11: 2025 | B11: I | C11: Verschaffen van accommodatie en maaltijden | D11: Hébergement et restauration | E11: 24244 | F11: 42415 | G11: 2765.81 | H11: 90469.444 | I11: 6324
A12: 2025 | B12: J | C12: Activiteiten van uitgeverijen, omroepactiviteiten en productie en distributie van inhoud | D12: Édition, diffusion et activités de production et de distribution de contenu | E12: 3174 | F12: 5370 | G12: 721.7575 | H12: 31051.159 | I12: 690
A13: 2025 | B13: K | C13: Telecommunicatie, computerprogrammering, consultancy, informatica-infrastructuur en andere activiteiten op het gebied van informatiediensten | D13: Télécommunications, programmation informatique, conseil, infrastructure informatique et autres activités de service d'informa | E13: 1582 | F13: 2166 | G13: 462.05 | H13: 15916.734 | I13: 495
A14: 2025 | B14: L | C14: Financiële activiteiten en verzekeringen | D14: Activités financières et d'assurance | E14: 1899 | F14: 2419 | G14: 579.005 | H14: 21846.122 | I14: 568
... A24: 2025 | B24: V | C24: Activiteiten van extraterritoriale organisaties en instanties | D24: Activités des organisations et organismes extraterritoriaux | E24: 1678 | F24: 1757 | G24: 507.6125 | H24: 22503.437 | I24: 13
A25: 2025 | B25: Onbekend | E25: 3997 | F25: 6614 | G25: 736.54 | H25: 26376.995 | I25: 2682
A26: Totaal 2025 | E26: =SUBTOTAL(9,E3:E25) -> 366492 | F26: =SUBTOTAL(9,F3:F25) -> 564916 | G26: =SUBTOTAL(9,G3:G25) -> 85988.353 | H26: =SUBTOTAL(9,H3:H25) -> 3052589.8 | I26: =SUBTOTAL(9,I3:I25) -> 49134
A27: 2024 | B27: A | C27: Landbouw, bosbouw en visserij | D27: Agriculture, sylviculture et pêche | E27: 1771 | F27: 2697 | G27: 384.0425 | H27: 10524.241 | I27: 684
A28: 2024 | B28: B | C28: Winning van delfstoffen | D28: Industries extractives | E28: 156 | F28: 204 | G28: 46.92 | H28: 1718.6097 | I28: 36
A29: 2024 | B29: C | C29: Industrie | D29: Industrie manufacturière | E29: 90275 | F29: 140588 | G29: 26888.367 | H29: 973694.86 | I29: 6305
A30: 2024 | B30: D | C30: Productie en distributie van elektriciteit, gas, stoom en gekoelde lucht | D30: Production et distribution d'électricité, de gaz, de vapeur et d'air conditionné | E30: 253 | F30: 328 | G30: 98.045 | H30: 3421.8328 | I30: 36
A31: 2024 | B31: E | C31: Distributie van water; afval- en afvalwaterbeheer en sanering | D31: Production et distribution d'eau; assainissement, gestion des déchets et dépollution | E31: 8180 | F31: 12784 | G31: 2359.6875 | H31: 77758.855 | I31: 371
A32: 2024 | B32: F | C32: Bouwnijverheid | D32: Construction | E32: 16672 | F32: 23840 | G32: 4180.745 | H32: 148040.02 | I32: 5346
A33: 2024 | B33: G | C33: Groot- en detailhandel | D33: Commerce | E33: 82435 | F33: 125742 | G33: 17402.023 | H33: 548197.42 | I33: 11628
A34: 2024 | B34: H | C34: Vervoer en opslag | D34: Transports et entreposage | E34: 57359 | F34: 87466 | G34: 15156.417 | H34: 499347.93 | I34: 2367
A35: 2024 | B35: I | C35: Verschaffen van accommodatie en maaltijden | D35: Hébergement et restauration | E35: 24647 | F35: 43623 | G35: 2836.7375 | H35: 89943.931 | I35: 6278
A36: 2024 | B36: J | C36: Activiteiten van uitgeverijen, omroepactiviteiten en productie en distributie van inhoud | D36: Édition, diffusion et activités de production et de distribution de contenu | E36: 3387 | F36: 5682 | G36: 753.0275 | H36: 31863.828 | I36: 649
A37: 2024 | B37: K | C37: Telecommunicatie, computerprogrammering, consultancy, informatica-infrastructuur en andere activiteiten op het gebied van informatiediensten | D37: Télécommunications, programmation informatique, conseil, infrastructure informatique et autres activités de service d'informa | E37: 2203 | F37: 3041 | G37: 525.58 | H37: 17328.894 | I37: 529
A38: 2024 | B38: L | C38: Financiële activiteiten en verzekeringen | D38: Activités financières et d'assurance | E38: 2169 | F38: 2777 | G38: 658.14 | H38: 24532.141 | I38: 640
... A48: 2024 | B48: V | C48: Activiteiten van extraterritoriale organisaties en instanties | D48: Activités des organisations et organismes extraterritoriaux | E48: 1678 | F48: 1791 | G48: 544.405 | H48: 23299.75 | I48: 14
A49: 2024 | B49: Onbekend | E49: 4357 | F49: 7347 | G49: 813.88 | H49: 28755.236 | I49: 2785
A50: Totaal 2024 | E50: =SUBTOTAL(9,E27:E49) -> 377205 | F50: =SUBTOTAL(9,F27:F49) -> 592173 | G50: =SUBTOTAL(9,G27:G49) -> 87518.007 | H50: =SUBTOTAL(9,H27:H49) -> 3004819.2 | I50: =SUBTOTAL(9,I27:I49) -> 50811

Sheet lftd-geslacht | âge-sexe
A1: Jaar Année | B1: Geslacht Sexe | C1: Leeftijdsklasse Classe d'âge | D1: Tewerkgestelde uitzendwerknemers INTN Travailleurs intérimaires occupés INTN | E1: Uitzendopdrachten INTN Missions intérimaires INTN | F1: Arbeidsvolume in VTE INTN Volume de travail en ETP INTN | G1: Lonen INTN (in €1.000) Rémunérations INTN (en €1.000)
A2: 2025 | B2: Man-Homme | C2: -18 | D2: 1087 | E2: 1147 | F2: 21.525 | G2: 618.8299
A3: 2025 | B3: Man-Homme | C3: 18-19 | D3: 13346 | E3: 19534 | F3: 1889.645 | G3: 64263.923
A4: 2025 | B4: Man-Homme | C4: 20-24 | D4: 57329 | E4: 91119 | F4: 13040.697 | G4: 452170.3
A5: 2025 | B5: Man-Homme | C5: 25-29 | D5: 45111 | E5: 72509 | F5: 11955.35 | G5: 420759.5
A6: 2025 | B6: Man-Homme | C6: 30-34 | D6: 31558 | E6: 50939 | F6: 8756.5425 | G6: 312291.5
A7: 2025 | B7: Man-Homme | C7: 35-39 | D7: 24714 | E7: 39571 | F7: 7073.8275 | G7: 253770.79
A8: 2025 | B8: Man-Homme | C8: 40-44 | D8: 20011 | E8: 32072 | F8: 5892.7 | G8: 213388.27
A9: 2025 | B9: Man-Homme | C9: 45-49 | D9: 16085 | E9: 25936 | F9: 4805.535 | G9: 175003.81
A10: 2025 | B10: Man-Homme | C10: 50-54 | D10: 12307 | E10: 19750 | F10: 3712.915 | G10: 135518.69
A11: 2025 | B11: Man-Homme | C11: 55-59 | D11: 9055 | E11: 14616 | F11: 2742.585 | G11: 100495.32
A12: 2025 | B12: Man-Homme | C12: 60-64 | D12: 4970 | E12: 7061 | F12: 1279.98 | G12: 47693.963
A13: 2025 | B13: Man-Homme | C13: 65+ | D13: 3874 | E13: 4733 | F13: 788.855 | G13: 32086.176
... A25: 2025 | B25: Vrouw-Femme | C25: 65+ | D25: 1752 | E25: 2411 | F25: 285.4275 | G25: 12319.605
A26: Totaal 2025 | D26: =SUBTOTAL(9,D2:D25) -> 366492 | E26: =SUBTOTAL(9,E2:E25) -> 564916 | F26: =SUBTOTAL(9,F2:F25) -> 85988.353 | G26: =SUBTOTAL(9,G2:G25) -> 3052589.8
A27: 2024 | B27: Man-Homme | C27: -18 | D27: 1261 | E27: 1329 | F27: 26.285 | G27: 745.28032
A28: 2024 | B28: Man-Homme | C28: 18-19 | D28: 13670 | E28: 20574 | F28: 1869.8775 | G28: 60690.74
A29: 2024 | B29: Man-Homme | C29: 20-24 | D29: 58835 | E29: 94921 | F29: 13190.552 | G29: 439937.94
A30: 2024 | B30: Man-Homme | C30: 25-29 | D30: 45265 | E30: 73730 | F30: 11633.847 | G30: 395511.13
A31: 2024 | B31: Man-Homme | C31: 30-34 | D31: 32011 | E31: 52503 | F31: 8753.9275 | G31: 301016.17
A32: 2024 | B32: Man-Homme | C32: 35-39 | D32: 24965 | E32: 41494 | F32: 7020.5675 | G32: 243514.8
A33: 2024 | B33: Man-Homme | C33: 40-44 | D33: 20452 | E33: 33320 | F33: 5972.0325 | G33: 209912.41
A34: 2024 | B34: Man-Homme | C34: 45-49 | D34: 16093 | E34: 26403 | F34: 4739.4175 | G34: 166643.81
A35: 2024 | B35: Man-Homme | C35: 50-54 | D35: 12704 | E35: 20873 | F35: 3865.905 | G35: 136243.92
A36: 2024 | B36: Man-Homme | C36: 55-59 | D36: 8986 | E36: 14554 | F36: 2702.605 | G36: 95721.263
A37: 2024 | B37: Man-Homme | C37: 60-64 | D37: 5164 | E37: 7247 | F37: 1289.89 | G37: 46785.177
A38: 2024 | B38: Man-Homme | C38: 65+ | D38: 4215 | E38: 5288 | F38: 850.9275 | G38: 33618.947
... A50: 2024 | B50: Vrouw-Femme | C50: 65+ | D50: 1745 | E50: 2384 | F50: 281.105 | G50: 12038.682
A51: Totaal 2024 | D51: =SUBTOTAL(9,D27:D50) -> 377205 | E51: =SUBTOTAL(9,E27:E50) -> 592173 | F51: =SUBTOTAL(9,F27:F50) -> 87518.007 | G51: =SUBTOTAL(9,G27:G50) -> 3004819.2
A52: 2023 | B52: Man-Homme | C52: -18 | D52: 1600 | E52: 1682 | F52: 31.335 | G52: 833.59787
A53: 2023 | B53: Man-Homme | C53: 18-19 | D53: 14213 | E53: 21595 | F53: 2099.3175 | G53: 67410.679
A54: 2023 | B54: Man-Homme | C54: 20-24 | D54: 59369 | E54: 96601 | F54: 13521.652 | G54: 440650.86
A55: 2023 | B55: Man-Homme | C55: 25-29 | D55: 45626 | E55: 74876 | F55: 11849.155 | G55: 392609.47
A56: 2023 | B56: Man-Homme | C56: 30-34 | D56: 32663 | E56: 53515 | F56: 8979.1825 | G56: 301996.36
A57: 2023 | B57: Man-Homme | C57: 35-39 | D57: 25128 | E57: 41325 | F57: 7174.555 | G57: 242772.09
A58: 2023 | B58: Man-Homme | C58: 40-44 | D58: 20917 | E58: 34056 | F58: 6146.725 | G58: 209358.02
A59: 2023 | B59: Man-Homme | C59: 45-49 | D59: 16247 | E59: 26696 | F59: 4898.095 | G59: 166851.06
A60: 2023 | B60: Man-Homme | C60: 50-54 | D60: 13034 | E60: 21277 | F60: 3929.955 | G60: 134142.61
A61: 2023 | B61: Man-Homme | C61: 55-59 | D61: 9026 | E61: 14454 | F61: 2789.4725 | G61: 95696.772
A62: 2023 | B62: Man-Homme | C62: 60-64 | D62: 5246 | E62: 7540 | F62: 1371.9575 | G62: 48591.17
A63: 2023 | B63: Man-Homme | C63: 65+ | D63: 4052 | E63: 5209 | F63: 827.1425 | G63: 31243.954
... A75: 2023 | B75: Vrouw-Femme | C75: 65+ | D75: 1755 | E75: 2426 | F75: 279.5375 | G75: 11418.485
A76: Totaal 2023 | D76: =SUBTOTAL(9,D52:D75) -> 389840 | E76: =SUBTOTAL(9,E52:E75) -> 613641 | F76: =SUBTOTAL(9,F52:F75) -> 91466.167 | G76: =SUBTOTAL(9,G52:G75) -> 3058724.1

Sheet Cor woonplaats | lieu de réside
A1: Opmerking: De Kruispuntbank Sociale Zekerheid (KSZ) kende vanaf 2018 tot eind 2024 problemen met het up to date houden van de woonplaatsgegevens en dat had ook gevolgen voor onze statistieken. De onnauwkeurigheden werden ondertussen gecorrigeerd voor wat betreft de data uit 2023 en 2024. De onderstaande tabel is voor wat betreft de jaren 2023 en 2024 dan ook gebaseerd op de gecorrigeerde woonplaatsgegevens waardoor de cijfers kunnen afwijken van eerder gepubliceerde verdelingen naar woonplaats. U vindt hieronder zowel de gecorrigeerde gegevens als de gegevens die we in het verleden publiceerden op basis van afwijkende KSZ-data. Remarque : La Banque-carrefour de la Sécurité sociale (BCSS) a rencontré, de 2018 à fin 2024, des difficultés pour maintenir à jour les données relatives au lieu de résidence, ce qui a également eu des répercussions sur nos statistiques. Les inexactitudes ont entre-temps été corrigées pour ce qui concerne les données de 2023 et 2024. Le tableau ci-dessous, pour les années 2023 et 2024, est donc basé sur les données corrigées relatives au lieu de résidence, ce qui peut entraîner des écarts par rapport aux répartitions publiées précédemment selon le lieu de résidence. Vous trouverez ci-dessous à la fois les données corrigées et les données que nous avions publiées par le passé sur la base des données erronées de la BCSS.
A2: Jaar Année | B2: Gewest gecorrigeerd | C2: Région corrigé | D2: NIScode gewest Code NIS région | E2: Niet gecorrigeerd tewerkgestelde uitzendwerknemers INTN Non-corrigé travailleurs intérimaires occupés INTN | F2: Gecorrigeerd tewerkgestelde uitzendwerknemers INTN Corrigé travailleurs intérimaires occupés INTN | G2: Niet gecorrigeerd uitzendopdrachten INTN Non-corrigé missions intérimaires INTN | H2: Gecorrigeerd uitzendopdrachten INTN Corrigé missions intérimaires INTN | I2: Niet-gecorrigeerd arbeidsvolume in VTE INTN Non-corrigé volume de travail en ETP INTN | J2: Gecorrigeerd arbeidsvolume in VTE INTN Corrigé volume de travail en ETP INTN | K2: Niet gecorrigeerd lonen INTN (in €1.000) Non-corrigé rémunérations INTN (en €1.000) | L2: Gecorrigeerd lonen INTN (in €1.000) Corrigé rémunérations INTN (en €1.000)
A3: 2024 | B3: BRUSSELS HOOFDSTEDELIJK GEWEST | C3: REGION DE BRUXELLES-CAPITALE | D3: 4000 | E3: 30289 | F3: 29610 | G3: 47841 | H3: 46633 | I3: 6708.5925 | J3: 6537.245 | K3: 240055.89 | L3: 233920.73
A4: 2024 | B4: BUURLANDEN | C4: PAYS LIMITROPHES | D4: 2 | E4: 18977 | F4: 18899 | G4: 29185 | H4: 29005 | I4: 4569.795 | J4: 4547.515 | K4: 156876.52 | L4: 156119.61
A5: 2024 | B5: NIET LOCALISEERBAAR | C5: NON LOCALISABLE | D5: 0 | E5: 7422 | F5: 10002 | G5: 10849 | H5: 15028 | I5: 1502.715 | J5: 2049.87 | K5: 51035.308 | L5: 69340.539
A6: 2024 | B6: OVERIGE LANDEN | C6: AUTRES PAYS | D6: 7 | E6: 2432 | F6: 2380 | G6: 3058 | H6: 3028 | I6: 630.4925 | J6: 617.2825 | K6: 22650.242 | L6: 22210.161
A7: 2024 | B7: Vlaams Gewest | C7: Région Flamande | D7: 2000 | E7: 215507 | F7: 214752 | G7: 339962 | H7: 338910 | I7: 51808.74 | J7: 51782.208 | K7: 1782661.8 | L7: 1781736.4
A8: 2024 | B8: Waals Gewest | C8: Région Wallonne | D8: 3000 | E8: 102578 | F8: 101562 | G8: 161278 | H8: 159569 | I8: 22297.672 | J8: 21983.888 | K8: 751539.51 | L8: 741491.84
A9: Totaal 2024 | E9: =SUBTOTAL(9,E3:E8) -> 377205 | F9: =SUBTOTAL(9,F3:F8) -> 377205 | G9: =SUBTOTAL(9,G3:G8) -> 592173 | H9: =SUBTOTAL(9,H3:H8) -> 592173 | I9: =SUBTOTAL(9,I3:I8) -> 87518.007 | J9: =SUBTOTAL(9,J3:J8) -> 87518.008 | K9: =SUBTOTAL(9,K3:K8) -> 3004819.2 | L9: =SUBTOTAL(9,L3:L8) -> 3004819.2
A10: 2023 | B10: BRUSSELS HOOFDSTEDELIJK GEWEST | C10: REGION DE BRUXELLES-CAPITALE | D10: 4000 | E10: 31596 | F10: 30762 | G10: 50483 | H10: 48954 | I10: 7090.965 | J10: 6857.17 | K10: 246722.46 | L10: 238495.35
A11: 2023 | B11: BUURLANDEN | C11: PAYS LIMITROPHES | D11: 2 | E11: 18723 | F11: 18369 | G11: 28179 | H11: 27681 | I11: 4449.9825 | J11: 4365.47 | K11: 149719.57 | L11: 146900.61
A12: 2023 | B12: NIET LOCALISEERBAAR | C12: NON LOCALISABLE | D12: 0 | E12: 7551 | F12: 11783 | G12: 10318 | H12: 18047 | I12: 1425.4975 | J12: 2499.9625 | K12: 46875.065 | L12: 81978.432
A13: 2023 | B13: OVERIGE LANDEN | C13: AUTRES PAYS | D13: 7 | E13: 2605 | F13: 2475 | G13: 3223 | H13: 3166 | I13: 651.55 | J13: 618.3925 | K13: 22140.502 | L13: 20911.462
A14: 2023 | B14: Vlaams Gewest | C14: Région Flamande | D14: 2000 | E14: 225573 | F14: 223925 | G14: 357616 | H14: 354294 | I14: 55136.042 | J14: 54800.202 | K14: 1849289.7 | L14: 1838481.6
A15: 2023 | B15: Waals Gewest | C15: Région Wallonne | D15: 3000 | E15: 103792 | F15: 102526 | G15: 163822 | H15: 161499 | I15: 22712.13 | J15: 22324.97 | K15: 743976.78 | L15: 731956.68
A16: Totaal 2023 | E16: =SUBTOTAL(9,E10:E15) -> 389840 | F16: =SUBTOTAL(9,F10:F15) -> 389840 | G16: =SUBTOTAL(9,G10:G15) -> 613641 | H16: =SUBTOTAL(9,H10:H15) -> 613641 | I16: =SUBTOTAL(9,I10:I15) -> 91466.167 | J16: =SUBTOTAL(9,J10:J15) -> 91466.167 | K16: =SUBTOTAL(9,K10:K15) -> 3058724.1 | L16: =SUBTOTAL(9,L10:L15) -> 3058724.1

Sheet woonplaats | lieu de résidence
A1: Opmerking: De Kruispuntbank Sociale Zekerheid (KSZ) kende vanaf 2018 tot eind 2024 problemen met het up to date houden van de woonplaatsgegevens en dat had ook gevolgen voor onze statistieken. De onnauwkeurigheden werden ondertussen gecorrigeerd voor wat betreft de data uit 2023 en 2024. De onderstaande tabel is voor wat betreft de jaren 2023 en 2024 dan ook gebaseerd op de gecorrigeerde woonplaatsgegevens. In het tabblad 'Cor woonplaats | lieu de réside' vindt u zowel de gecorrigeerde gegevens als de gegevens die we in het verleden publiceerden op basis van afwijkende KSZ-data. Remarque : La Banque-Carrefour de la Sécurité sociale (BCSS) a rencontré, de 2018 à fin 2024, des difficultés à maintenir à jour les données relatives au lieu de résidence, ce qui a également eu des répercussions sur nos statistiques. Les inexactitudes ont entre-temps été corrigées en ce qui concerne les données de 2023 et 2024. Le tableau ci-dessous repose donc, pour les années 2023 et 2024, sur les données de lieu de résidence corrigées. Dans l'onglet 'Cor woonplaats | lieu de réside' vous trouverez à la fois les données corrigées et celles que nous avions publiées par le passé sur la base des données de la BCSS.
A2: Jaar Année | B2: Gewest | C2: Région | D2: NIScode gewest Code NIS région | E2: Tewerkgestelde uitzendwerknemers INTN travailleurs intérimaires occupés INTN | F2: Uitzendopdrachten INTN Missions intérimaires INTN | G2: Arbeidsvolume in VTE INTN Volume de travail en ETP INTN | H2: Lonen INTN (in €1.000) Rémunérations INTN (en €1.000)
A3: 2025 | B3: BRUSSELS HOOFDSTEDELIJK GEWEST | C3: REGION DE BRUXELLES-CAPITALE | D3: 4000 | E3: 27788 | F3: 42743 | G3: 6038.4425 | H3: 221909.62
A4: 2025 | B4: BUURLANDEN | C4: PAYS LIMITROPHES | D4: 2 | E4: 18605 | F4: 27716 | G4: 4571.3775 | H4: 161579.91
A5: 2025 | B5: NIET LOCALISEERBAAR | C5: NON LOCALISABLE | D5: 0 | E5: 10064 | F5: 15166 | G5: 2066.4525 | H5: 72324.625
A6: 2025 | B6: OVERIGE LANDEN | C6: AUTRES PAYS | D6: 7 | E6: 2373 | F6: 3079 | G6: 587.91 | H6: 21134.31
A7: 2025 | B7: Vlaams Gewest | C7: Région Flamande | D7: 2000 | E7: 209209 | F7: 326746 | G7: 51440.197 | H7: 1835157
A8: 2025 | B8: Waals Gewest | C8: Région Wallonne | D8: 3000 | E8: 98453 | F8: 149466 | G8: 21283.972 | H8: 740484.29
A9: Totaal 2025 | E9: =SUBTOTAL(9,E3:E8) -> 366492 | F9: =SUBTOTAL(9,F3:F8) -> 564916 | G9: =SUBTOTAL(9,G3:G8) -> 85988.352 | H9: =SUBTOTAL(9,H3:H8) -> 3052589.8
A10: 2024 | B10: BRUSSELS HOOFDSTEDELIJK GEWEST | C10: REGION DE BRUXELLES-CAPITALE | D10: 4000 | E10: 29610 | F10: 46633 | G10: 6537.245 | H10: 233920.73
A11: 2024 | B11: BUURLANDEN | C11: PAYS LIMITROPHES | D11: 2 | E11: 18899 | F11: 29005 | G11: 4547.515 | H11: 156119.61
A12: 2024 | B12: NIET LOCALISEERBAAR | C12: NON LOCALISABLE | D12: 0 | E12: 10002 | F12: 15028 | G12: 2049.87 | H12: 69340.539
A13: 2024 | B13: OVERIGE LANDEN | C13: AUTRES PAYS | D13: 7 | E13: 2380 | F13: 3028 | G13: 617.2825 | H13: 22210.161
A14: 2024 | B14: Vlaams Gewest | C14: Région Flamande | D14: 2000 | E14: 214752 | F14: 338910 | G14: 51782.208 | H14: 1781736.4
A15: 2024 | B15: Waals Gewest | C15: Région Wallonne | D15: 3000 | E15: 101562 | F15: 159569 | G15: 21983.888 | H15: 741491.84
A16: Totaal 2024 | E16: =SUBTOTAL(9,E10:E15) -> 377205 | F16: =SUBTOTAL(9,F10:F15) -> 592173 | G16: =SUBTOTAL(9,G10:G15) -> 87518.008 | H16: =SUBTOTAL(9,H10:H15) -> 3004819.2
A17: 2023 | B17: BRUSSELS HOOFDSTEDELIJK GEWEST | C17: REGION DE BRUXELLES-CAPITALE | D17: 4000 | E17: 30762 | F17: 48954 | G17: 6857.17 | H17: 238495.35
A18: 2023 | B18: BUURLANDEN | C18: PAYS LIMITROPHES | D18: 2 | E18: 18369 | F18: 27681 | G18: 4365.47 | H18: 146900.61
A19: 2023 | B19: NIET LOCALISEERBAAR | C19: NON LOCALISABLE | D19: 0 | E19: 11783 | F19: 18047 | G19: 2499.9625 | H19: 81978.432
A20: 2023 | B20: OVERIGE LANDEN | C20: AUTRES PAYS | D20: 7 | E20: 2475 | F20: 3166 | G20: 618.3925 | H20: 20911.462
A21: 2023 | B21: Vlaams Gewest | C21: Région Flamande | D21: 2000 | E21: 223925 | F21: 354294 | G21: 54800.202 | H21: 1838481.6
A22: 2023 | B22: Waals Gewest | C22: Région Wallonne | D22: 3000 | E22: 102526 | F22: 161499 | G22: 22324.97 | H22: 731956.68
A23: Totaal 2023 | E23: =SUBTOTAL(9,E17:E22) -> 389840 | F23: =SUBTOTAL(9,F17:F22) -> 613641 | G23: =SUBTOTAL(9,G17:G22) -> 91466.167 | H23: =SUBTOTAL(9,H17:H22) -> 3058724.1

Sheet lftd-WG | âge-empl
A1: Jaar Année | B1: Aantal werkgevers (uitzendkantoren) Nombre d'employeur (agences d'intérim) | C1: leeftijdsklasse classe d'âge | D1: Tewerkgestelde uitzendwerknemers INTN Travailleurs intérimaires occupés INTN | E1: uitzendopdrachten INTN missions intérimaires INTN | F1: VTE INTN ETP INTN
A2: 2025 | B2: 1 | C2: -18 | D2: 1997 | E2: 2036 | F2: 30.005
A3: 2025 | B3: 1 | C3: 18-19 | D3: 15111 | E3: 16519 | F3: 1570.35
A4: 2025 | B4: 1 | C4: 20-24 | D4: 64776 | E4: 72980 | F4: 11047.395
A5: 2025 | B5: 1 | C5: 25-29 | D5: 51686 | E5: 59708 | F5: 10716.802
A6: 2025 | B6: 1 | C6: 30-34 | D6: 34136 | E6: 39940 | F6: 7421.0825
A7: 2025 | B7: 1 | C7: 35-39 | D7: 27244 | E7: 31908 | F7: 6029.9275
A8: 2025 | B8: 1 | C8: 40-44 | D8: 23024 | E8: 27203 | F8: 5279.325
A9: 2025 | B9: 1 | C9: 45-49 | D9: 19024 | E9: 23189 | F9: 4452.05
A10: 2025 | B10: 1 | C10: 50-54 | D10: 14765 | E10: 18131 | F10: 3519.795
A11: 2025 | B11: 1 | C11: 55-59 | D11: 11049 | E11: 13678 | F11: 2665.34
A12: 2025 | B12: 1 | C12: 60-64 | D12: 6405 | E12: 7747 | F12: 1338.82
A13: 2025 | B13: 1 | C13: 65+ | D13: 4725 | E13: 5423 | F13: 802.085
B14: Totaal 1 | D14: =SUBTOTAL(9,D2:D13) -> 273942 | E14: =SUBTOTAL(9,E2:E13) -> 318462 | F14: =SUBTOTAL(9,F2:F13) -> 54872.977
A15: 2025 | B15: 2 | C15: -18 | D15: 46 | E15: 80 | F15: 3.6075
A16: 2025 | B16: 2 | C16: 18-19 | D16: 2904 | E16: 6225 | F16: 559.5025
A17: 2025 | B17: 2 | C17: 20-24 | D17: 16122 | E17: 34522 | F17: 4524.5275
A18: 2025 | B18: 2 | C18: 25-29 | D18: 13211 | E18: 27951 | F18: 4326.835
A19: 2025 | B19: 2 | C19: 30-34 | D19: 8792 | E19: 18785 | F19: 2986.2025
A20: 2025 | B20: 2 | C20: 35-39 | D20: 6754 | E20: 14703 | F20: 2382.9725
A21: 2025 | B21: 2 | C21: 40-44 | D21: 5522 | E21: 11966 | F21: 1932.8775
A22: 2025 | B22: 2 | C22: 45-49 | D22: 4694 | E22: 10252 | F22: 1652.98
A23: 2025 | B23: 2 | C23: 50-54 | D23: 3673 | E23: 7891 | F23: 1340.8375
A24: 2025 | B24: 2 | C24: 55-59 | D24: 2600 | E24: 5622 | F24: 966.75
A25: 2025 | B25: 2 | C25: 60-64 | D25: 1145 | E25: 2209 | F25: 387.0025
A26: 2025 | B26: 2 | C26: 65+ | D26: 794 | E26: 1274 | F26: 234.8975
B27: Totaal 2 | D27: =SUBTOTAL(9,D15:D26) -> 66257 | E27: =SUBTOTAL(9,E15:E26) -> 141480 | F27: =SUBTOTAL(9,F15:F26) -> 21298.993
A28: 2025 | B28: 3 | C28: -18 | D28: 3 | E28: 11 | F28: 0.63
A29: 2025 | B29: 3 | C29: 18-19 | D29: 747 | E29: 2521 | F29: 188.31
A30: 2025 | B30: 3 | C30: 20-24 | D30: 4597 | E30: 15191 | F30: 1535.775
A31: 2025 | B31: 3 | C31: 25-29 | D31: 3640 | E31: 12277 | F31: 1328.0175
A32: 2025 | B32: 3 | C32: 30-34 | D32: 2477 | E32: 8294 | F32: 921.7975
A33: 2025 | B33: 3 | C33: 35-39 | D33: 2001 | E33: 6830 | F33: 773.655
A34: 2025 | B34: 3 | C34: 40-44 | D34: 1591 | E34: 5618 | F34: 627.585
A35: 2025 | B35: 3 | C35: 45-49 | D35: 1251 | E35: 4469 | F35: 479.755
A36: 2025 | B36: 3 | C36: 50-54 | D36: 920 | E36: 3171 | F36: 369.0125
A37: 2025 | B37: 3 | C37: 55-59 | D37: 612 | E37: 2175 | F37: 239.97
A38: 2025 | B38: 3 | C38: 60-64 | D38: 240 | E38: 805 | F38: 100.635
A39: 2025 | B39: 3 | C39: 65+ | D39: 89 | E39: 323 | F39: 29.1525
B40: Totaal 3 | D40: =SUBTOTAL(9,D28:D39) -> 18168 | E40: =SUBTOTAL(9,E28:E39) -> 61685 | F40: =SUBTOTAL(9,F28:F39) -> 6594.295
A41: 2025 | B41: 4 | C41: 18-19 | D41: 224 | E41: 1016 | F41: 61.16
A42: 2025 | B42: 4 | C42: 20-24 | D42: 1331 | E42: 5974 | F42: 473.4625
A43: 2025 | B43: 4 | C43: 25-29 | D43: 1054 | E43: 4990 | F43: 394.9225
A44: 2025 | B44: 4 | C44: 30-34 | D44: 727 | E44: 3335 | F44: 295.3075
A45: 2025 | B45: 4 | C45: 35-39 | D45: 603 | E45: 2878 | F45: 247.6225
A46: 2025 | B46: 4 | C46: 40-44 | D46: 480 | E46: 2327 | F46: 204.9675
A47: 2025 | B47: 4 | C47: 45-49 | D47: 385 | E47: 1896 | F47: 156.6475
A48: 2025 | B48: 4 | C48: 50-54 | D48: 297 | E48: 1435 | F48: 121.475
A49: 2025 | B49: 4 | C49: 55-59 | D49: 199 | E49: 964 | F49: 88.1875
A50: 2025 | B50: 4 | C50: 60-64 | D50: 58 | E50: 297 | F50: 25.56
A51: 2025 | B51: 4 | C51: 65+ | D51: 15 | E51: 97 | F51: 6.43
B52: Totaal 4 | D52: =SUBTOTAL(9,D41:D51) -> 5373 | E52: =SUBTOTAL(9,E41:E51) -> 25209 | F52: =SUBTOTAL(9,F41:F51) -> 2075.7425
A53: 2025 | B53: >4 | C53: 18-19 | D53: 96 | E53: 635 | F53: 31.9
A54: 2025 | B54: >4 | C54: 20-24 | D54: 703 | E54: 4545 | F54: 263.4375
A55: 2025 | B55: >4 | C55: 25-29 | D55: 561 | E55: 3563 | F55: 234.71
A56: 2025 | B56: >4 | C56: 30-34 | D56: 398 | E56: 2616 | F56: 170.805
A57: 2025 | B57: >4 | C57: 35-39 | D57: 274 | E57: 1805 | F57: 119.4325
A58: 2025 | B58: >4 | C58: 40-44 | D58: 257 | E58: 1740 | F58: 118.1575
A59: 2025 | B59: >4 | C59: 45-49 | D59: 207 | E59: 1450 | F59: 96.1975
A60: 2025 | B60: >4 | C60: 50-54 | D60: 134 | E60: 902 | F60: 60.0525
A61: 2025 | B61: >4 | C61: 55-59 | D61: 100 | E61: 671 | F61: 42.6825
A62: 2025 | B62: >4 | C62: 60-64 | D62: 19 | E62: 126 | F62: 7.2525
A63: 2025 | B63: >4 | C63: 65+ | D63: 3 | E63: 27 | F63: 1.7175
B64: Totaal >4 | D64: =SUBTOTAL(9,D53:D63) -> 2752 | E64: =SUBTOTAL(9,E53:E63) -> 18080 | F64: =SUBTOTAL(9,F53:F63) -> 1146.345
A65: Totaal 2025 | D65: =SUBTOTAL(9,D2:D63) -> 366492 | E65: =SUBTOTAL(9,E2:E63) -> 564916 | F65: =SUBTOTAL(9,F2:F63) -> 85988.353
A66: 2024 | B66: 1 | C66: -18 | D66: 2297 | E66: 2333 | F66: 38.1275
A67: 2024 | B67: 1 | C67: 18-19 | D67: 15962 | E67: 17764 | F67: 1634.0125
A68: 2024 | B68: 1 | C68: 20-24 | D68: 69651 | E68: 79416 | F68: 12238.192
A69: 2024 | B69: 1 | C69: 25-29 | D69: 54374 | E69: 63402 | F69: 11572.925
A70: 2024 | B70: 1 | C70: 30-34 | D70: 36631 | E70: 43213 | F70: 8301.61
A71: 2024 | B71: 1 | C71: 35-39 | D71: 28697 | E71: 34637 | F71: 6656.2175
A72: 2024 | B72: 1 | C72: 40-44 | D72: 24670 | E72: 29728 | F72: 5917.98
A73: 2024 | B73: 1 | C73: 45-49 | D73: 20167 | E73: 25143 | F73: 4917.9875
A74: 2024 | B74: 1 | C74: 50-54 | D74: 16144 | E74: 20141 | F74: 4090.2525
A75: 2024 | B75: 1 | C75: 55-59 | D75: 11753 | E75: 14902 | F75: 3005.345
A76: 2024 | B76: 1 | C76: 60-64 | D76: 7119 | E76: 8657 | F76: 1567.685
A77: 2024 | B77: 1 | C77: 65+ | D77: 5502 | E77: 6422 | F77: 993.8725
B78: Totaal 1 | D78: =SUBTOTAL(9,D66:D77) -> 292967 | E78: =SUBTOTAL(9,E66:E77) -> 345758 | F78: =SUBTOTAL(9,F66:F77) -> 60934.207
A79: 2024 | B79: 2 | C79: -18 | D79: 40 | E79: 85 | F79: 2.2975
A80: 2024 | B80: 2 | C80: 18-19 | D80: 2909 | E80: 6674 | F80: 530.9175
A81: 2024 | B81: 2 | C81: 20-24 | D81: 15386 | E81: 35731 | F81: 4063.4275
A82: 2024 | B82: 2 | C82: 25-29 | D82: 11936 | E82: 28161 | F82: 3550.28
A83: 2024 | B83: 2 | C83: 30-34 | D83: 7895 | E83: 18900 | F83: 2491.805
A84: 2024 | B84: 2 | C84: 35-39 | D84: 6211 | E84: 15136 | F84: 1985.07
A85: 2024 | B85: 2 | C85: 40-44 | D85: 5053 | E85: 12265 | F85: 1721.245
A86: 2024 | B86: 2 | C86: 45-49 | D86: 3912 | E86: 9864 | F86: 1309.305
A87: 2024 | B87: 2 | C87: 50-54 | D87: 3139 | E87: 7806 | F87: 1071.2975
A88: 2024 | B88: 2 | C88: 55-59 | D88: 2153 | E88: 5296 | F88: 732.8425
A89: 2024 | B89: 2 | C89: 60-64 | D89: 815 | E89: 1970 | F89: 262.1625
A90: 2024 | B90: 2 | C90: 65+ | D90: 405 | E90: 991 | F90: 117.25
B91: Totaal 2 | D91: =SUBTOTAL(9,D79:D90) -> 59854 | E91: =SUBTOTAL(9,E79:E90) -> 142879 | F91: =SUBTOTAL(9,F79:F90) -> 17837.9
A92: 2024 | B92: 3 | C92: -18 | D92: 3 | E92: 16 | F92: 0.4125
A93: 2024 | B93: 3 | C93: 18-19 | D93: 802 | E93: 2818 | F93: 184.5775
A94: 2024 | B94: 3 | C94: 20-24 | D94: 4433 | E94: 15699 | F94: 1398.2075
A95: 2024 | B95: 3 | C95: 25-29 | D95: 3228 | E95: 11569 | F95: 1101.6
A96: 2024 | B96: 3 | C96: 30-34 | D96: 2307 | E96: 8436 | F96: 827.9
A97: 2024 | B97: 3 | C97: 35-39 | D97: 1719 | E97: 6305 | F97: 639.6125
A98: 2024 | B98: 3 | C98: 40-44 | D98: 1426 | E98: 5522 | F98: 554.3525
A99: 2024 | B99: 3 | C99: 45-49 | D99: 1087 | E99: 4119 | F99: 408.0075
A100: 2024 | B100: 3 | C100: 50-54 | D100: 879 | E100: 3224 | F100: 350.2025
...

Sheet geslacht-WG | sexe-empl
A1: Jaar Année | B1: Aantal werkgevers (uitzendkantoren) Nombre d'employeur (agences d'intérim) | C1: Geslacht | Sexe | D1: Tewerkgestelde uitzendwerknemers INTN Travailleurs intérimaires occupés INTN | E1: uitzendopdrachten INTN missions intérimaires INTN | F1: VTE INTN ETP INTN | G1: Lonen INTN (in € 1.000) Rémunérations INTN en (€1.000)
A2: 2025 | B2: 1 | C2: Man-Homme | D2: 173200 | E2: 200166 | F2: 38532.75 | G2: 1378947.2
A3: 2025 | B3: 1 | C3: Vrouw-Femme | D3: 100742 | E3: 118296 | F3: 16340.227 | G3: 570855.36
A4: 2025 | B4: 2 | C4: Man-Homme | D4: 46077 | E4: 98255 | F4: 15680.637 | G4: 558915.7
A5: 2025 | B5: 2 | C5: Vrouw-Femme | D5: 20180 | E5: 43225 | F5: 5618.355 | G5: 200209.54
A6: 2025 | B6: 3 | C6: Man-Homme | D6: 13674 | E6: 46061 | F6: 5120.1725 | G6: 179592.46
A7: 2025 | B7: 3 | C7: Vrouw-Femme | D7: 4494 | E7: 15624 | F7: 1474.1225 | G7: 52373.904
A8: 2025 | B8: 4 | C8: Man-Homme | D8: 4205 | E8: 19395 | F8: 1661.145 | G8: 57621.02
A9: 2025 | B9: 4 | C9: Vrouw-Femme | D9: 1168 | E9: 5814 | F9: 414.5975 | G9: 14985.72
A10: 2025 | B10: >4 | C10: Man-Homme | D10: 2291 | E10: 15110 | F10: 965.4525 | G10: 32984.725
A11: 2025 | B11: >4 | C11: Vrouw-Femme | D11: 461 | E11: 2970 | F11: 180.8925 | G11: 6104.1752
A12: Totaal 2025 | D12: =SUBTOTAL(9,D2:D11) -> 366492 | E12: =SUBTOTAL(9,E2:E11) -> 564916 | F12: =SUBTOTAL(9,F2:F11) -> 85988.352 | G12: =SUBTOTAL(9,G2:G11) -> 3052589.8
A13: 2024 | B13: 1 | C13: Man-Homme | D13: 182679 | E13: 213333 | F13: 41730.745 | G13: 1451104.7
A14: 2024 | B14: 1 | C14: Vrouw-Femme | D14: 110288 | E14: 132425 | F14: 19203.462 | G14: 659325.82
A15: 2024 | B15: 2 | C15: Man-Homme | D15: 42157 | E15: 99184 | F15: 13269.807 | G15: 449273.65
A16: 2024 | B16: 2 | C16: Vrouw-Femme | D16: 17697 | E16: 43695 | F16: 4568.0925 | G16: 154537.7
A17: 2024 | B17: 3 | C17: Man-Homme | D17: 12517 | E17: 44987 | F17: 4445.7525 | G17: 148539.41
A18: 2024 | B18: 3 | C18: Vrouw-Femme | D18: 4092 | E18: 15435 | F18: 1279.5575 | G18: 42672.771
A19: 2024 | B19: 4 | C19: Man-Homme | D19: 4126 | E19: 20008 | F19: 1588.5425 | G19: 52450.207
A20: 2024 | B20: 4 | C20: Vrouw-Femme | D20: 1059 | E20: 5307 | F20: 371.065 | G20: 12215.476
A21: 2024 | B21: >4 | C21: Man-Homme | D21: 2142 | E21: 14724 | F21: 880.9875 | G21: 28973.615
A22: 2024 | B22: >4 | C22: Vrouw-Femme | D22: 448 | E22: 3075 | F22: 179.995 | G22: 5725.8804
A23: Totaal 2024 | D23: =SUBTOTAL(9,D13:D22) -> 377205 | E23: =SUBTOTAL(9,E13:E22) -> 592173 | F23: =SUBTOTAL(9,F13:F22) -> 87518.007 | G23: =SUBTOTAL(9,G13:G22) -> 3004819.2
A24: 2023 | B24: 1 | C24: Man-Homme | D24: 186698 | E24: 218722 | F24: 43451.28 | G24: 1473812.3
A25: 2023 | B25: 1 | C25: Vrouw-Femme | D25: 117061 | E25: 140515 | F25: 20538.855 | G25: 688805.38
A26: 2023 | B26: 2 | C26: Man-Homme | D26: 41350 | E26: 98088 | F26: 13171.98 | G26: 432523.02
A27: 2023 | B27: 2 | C27: Vrouw-Femme | D27: 19311 | E27: 47285 | F27: 5183.2275 | G27: 169636.81
A28: 2023 | B28: 3 | C28: Man-Homme | D28: 12579 | E28: 45450 | F28: 4436.31 | G28: 143859.45
A29: 2023 | B29: 3 | C29: Vrouw-Femme | D29: 4539 | E29: 16972 | F29: 1467.0975 | G29: 47356.194
A30: 2023 | B30: 4 | C30: Man-Homme | D30: 4179 | E30: 20387 | F30: 1619.7525 | G30: 51960.669
A31: 2023 | B31: 4 | C31: Vrouw-Femme | D31: 1238 | E31: 6082 | F31: 440.485 | G31: 14027.794
A32: 2023 | B32: >4 | C32: Man-Homme | D32: 2315 | E32: 16179 | F32: 939.2225 | G32: 30001.196
A33: 2023 | B33: >4 | C33: Vrouw-Femme | D33: 570 | E33: 3961 | F33: 217.9575 | G33: 6741.3013
A34: Totaal 2023 | D34: =SUBTOTAL(9,D24:D33) -> 389840 | E34: =SUBTOTAL(9,E24:E33) -> 613641 | F34: =SUBTOTAL(9,F24:F33) -> 91466.167 | G34: =SUBTOTAL(9,G24:G33) -> 3058724.1

Sheet lftd-users | âge-utilisateur
A1: Jaar Année | B1: Aantal gebruikers Nombre d'utilisateurs | C1: Leeftijdsklasse Classe d'âge | D1: Tewerkgestelde uitzendwerknemers INTN Travailleurs intérimaires occupés INTN | E1: uitzendopdrachten INTN missions intérimaires INTN | F1: VTE INTN ETP INTN
A2: 2025 | B2: 1 | C2: -18 | D2: 1983 | E2: 1983 | F2: 29.0775
A3: 2025 | B3: 1 | C3: 18 - 19 | D3: 14489 | E3: 14482 | F3: 1527.0075
A4: 2025 | B4: 1 | C4: 20 - 24 | D4: 61890 | E4: 61838 | F4: 10791.4
A5: 2025 | B5: 1 | C5: 25 - 29 | D5: 49291 | E5: 49233 | F5: 10606.135
A6: 2025 | B6: 1 | C6: 30 - 34 | D6: 32380 | E6: 32357 | F6: 7299.065
A7: 2025 | B7: 1 | C7: 35 - 39 | D7: 25818 | E7: 25771 | F7: 5941.04
A8: 2025 | B8: 1 | C8: 40 - 44 | D8: 21802 | E8: 21780 | F8: 5170.375
A9: 2025 | B9: 1 | C9: 45 - 49 | D9: 17922 | E9: 17896 | F9: 4350.6725
A10: 2025 | B10: 1 | C10: 50 - 54 | D10: 13999 | E10: 13985 | F10: 3472.105
A11: 2025 | B11: 1 | C11: 55 - 59 | D11: 10559 | E11: 10556 | F11: 2661.9025
A12: 2025 | B12: 1 | C12: 60 - 64 | D12: 6294 | E12: 6292 | F12: 1359.55
A13: 2025 | B13: 1 | C13: +65 | D13: 4909 | E13: 4906 | F13: 880.7475
B14: Totaal 1 | D14: =SUBTOTAL(9,D2:D13) -> 261336 | E14: =SUBTOTAL(9,E2:E13) -> 261079 | F14: =SUBTOTAL(9,F2:F13) -> 54089.078
A15: 2025 | B15: 2 | C15: -18 | D15: 51 | E15: 103 | F15: 3.4925
A16: 2025 | B16: 2 | C16: 18 - 19 | D16: 2844 | E16: 5686 | F16: 473.9125
A17: 2025 | B17: 2 | C17: 20 - 24 | D17: 15384 | E17: 30767 | F17: 3908.23
A18: 2025 | B18: 2 | C18: 25 - 29 | D18: 12409 | E18: 24806 | F18: 3563.69
A19: 2025 | B19: 2 | C19: 30 - 34 | D19: 8301 | E19: 16598 | F19: 2478.7475
A20: 2025 | B20: 2 | C20: 35 - 39 | D20: 6346 | E20: 12689 | F20: 1955.785
A21: 2025 | B21: 2 | C21: 40 - 44 | D21: 5169 | E21: 10335 | F21: 1604.6175
A22: 2025 | B22: 2 | C22: 45 - 49 | D22: 4386 | E22: 8768 | F22: 1346.675
A23: 2025 | B23: 2 | C23: 50 - 54 | D23: 3311 | E23: 6622 | F23: 1036.8
A24: 2025 | B24: 2 | C24: 55 - 59 | D24: 2328 | E24: 4652 | F24: 724.0475
A25: 2025 | B25: 2 | C25: 60 - 64 | D25: 945 | E25: 1890 | F25: 279.8625
A26: 2025 | B26: 2 | C26: +65 | D26: 457 | E26: 914 | F26: 110.4725
B27: Totaal 2 | D27: =SUBTOTAL(9,D15:D26) -> 61931 | E27: =SUBTOTAL(9,E15:E26) -> 123830 | F27: =SUBTOTAL(9,F15:F26) -> 17486.333
A28: 2025 | B28: 3 | C28: -18 | D28: 8 | E28: 24 | F28: 1.2875
A29: 2025 | B29: 3 | C29: 18 - 19 | D29: 999 | E29: 2996 | F29: 212.19
A30: 2025 | B30: 3 | C30: 20 - 24 | D30: 5662 | E30: 16984 | F30: 1669.5225
A31: 2025 | B31: 3 | C31: 25 - 29 | D31: 4533 | E31: 13596 | F31: 1467.0625
A32: 2025 | B32: 3 | C32: 30 - 34 | D32: 3114 | E32: 9343 | F32: 1037.79
A33: 2025 | B33: 3 | C33: 35 - 39 | D33: 2462 | E33: 7384 | F33: 828.1575
A34: 2025 | B34: 3 | C34: 40 - 44 | D34: 1969 | E34: 5906 | F34: 669.1675
A35: 2025 | B35: 3 | C35: 45 - 49 | D35: 1592 | E35: 4777 | F35: 550.5725
A36: 2025 | B36: 3 | C36: 50 - 54 | D36: 1220 | E36: 3658 | F36: 431.0025
A37: 2025 | B37: 3 | C37: 55 - 59 | D37: 775 | E37: 2325 | F37: 279.655
A38: 2025 | B38: 3 | C38: 60 - 64 | D38: 297 | E38: 891 | F38: 98.7225
A39: 2025 | B39: 3 | C39: +65 | D39: 114 | E39: 343 | F39: 34.7275
B40: Totaal 3 | D40: =SUBTOTAL(9,D28:D39) -> 22745 | E40: =SUBTOTAL(9,E28:E39) -> 68227 | F40: =SUBTOTAL(9,F28:F39) -> 7279.8575
A41: 2025 | B41: 4 | C41: -18 | D41: 3 | E41: 12 | F41: 0.145
A42: 2025 | B42: 4 | C42: 18 - 19 | D42: 416 | E42: 1664 | F42: 107.5025
A43: 2025 | B43: 4 | C43: 20 - 24 | D43: 2402 | E43: 9606 | F43: 755.185
A44: 2025 | B44: 4 | C44: 25 - 29 | D44: 1923 | E44: 7693 | F44: 652.7425
A45: 2025 | B45: 4 | C45: 30 - 34 | D45: 1309 | E45: 5238 | F45: 459
A46: 2025 | B46: 4 | C46: 35 - 39 | D46: 1066 | E46: 4265 | F46: 394.375
A47: 2025 | B47: 4 | C47: 40 - 44 | D47: 877 | E47: 3510 | F47: 313.4675
A48: 2025 | B48: 4 | C48: 45 - 49 | D48: 671 | E48: 2684 | F48: 224.3925
A49: 2025 | B49: 4 | C49: 50 - 54 | D49: 544 | E49: 2176 | F49: 201.635
A50: 2025 | B50: 4 | C50: 55 - 59 | D50: 348 | E50: 1392 | F50: 128.525
A51: 2025 | B51: 4 | C51: 60 - 64 | D51: 128 | E51: 512 | F51: 44.1175
A52: 2025 | B52: 4 | C52: +65 | D52: 42 | E52: 168 | F52: 13.44
B53: Totaal 4 | D53: =SUBTOTAL(9,D41:D52) -> 9729 | E53: =SUBTOTAL(9,E41:E52) -> 38920 | F53: =SUBTOTAL(9,F41:F52) -> 3294.5275
A54: 2025 | B54: 5 | C54: -18 | D54: 1 | E54: 5 | F54: 0.24
A55: 2025 | B55: 5 | C55: 18 - 19 | D55: 164 | E55: 820 | F55: 42.9575
A56: 2025 | B56: 5 | C56: 20 - 24 | D56: 1014 | E56: 5071 | F56: 334.695
A57: 2025 | B57: 5 | C57: 25 - 29 | D57: 917 | E57: 4583 | F57: 334.47
A58: 2025 | B58: 5 | C58: 30 - 34 | D58: 618 | E58: 3087 | F58: 213.9325
A59: 2025 | B59: 5 | C59: 35 - 39 | D59: 501 | E59: 2505 | F59: 187.68
A60: 2025 | B60: 5 | C60: 40 - 44 | D60: 424 | E60: 2121 | F60: 161.2825
A61: 2025 | B61: 5 | C61: 45 - 49 | D61: 376 | E61: 1880 | F61: 137.4275
A62: 2025 | B62: 5 | C62: 50 - 54 | D62: 278 | E62: 1390 | F62: 108.055
A63: 2025 | B63: 5 | C63: 55 - 59 | D63: 220 | E63: 1099 | F63: 78.46
A64: 2025 | B64: 5 | C64: 60 - 64 | D64: 65 | E64: 325 | F64: 22.17
A65: 2025 | B65: 5 | C65: +65 | D65: 37 | E65: 185 | F65: 11.0225
B66: Totaal 5 | D66: =SUBTOTAL(9,D54:D65) -> 4615 | E66: =SUBTOTAL(9,E54:E65) -> 23071 | F66: =SUBTOTAL(9,F54:F65) -> 1632.3925
A67: 2025 | B67: >5 | C67: 18 - 19 | D67: 170 | E67: 1268 | F67: 47.6525
A68: 2025 | B68: >5 | C68: 20 - 24 | D68: 1177 | E68: 8946 | F68: 385.565
A69: 2025 | B69: >5 | C69: 25 - 29 | D69: 1079 | E69: 8578 | F69: 377.1875
A70: 2025 | B70: >5 | C70: 30 - 34 | D70: 808 | E70: 6347 | F70: 306.66
A71: 2025 | B71: >5 | C71: 35 - 39 | D71: 683 | E71: 5510 | F71: 246.5725
A72: 2025 | B72: >5 | C72: 40 - 44 | D72: 633 | E72: 5202 | F72: 244.0025
A73: 2025 | B73: >5 | C73: 45 - 49 | D73: 614 | E73: 5251 | F73: 227.89
A74: 2025 | B74: >5 | C74: 50 - 54 | D74: 437 | E74: 3699 | F74: 161.575
A75: 2025 | B75: >5 | C75: 55 - 59 | D75: 330 | E75: 3086 | F75: 130.34
A76: 2025 | B76: >5 | C76: 60 - 64 | D76: 138 | E76: 1274 | F76: 54.8475
A77: 2025 | B77: >5 | C77: +65 | D77: 67 | E77: 628 | F77: 23.8725
B78: Totaal >5 | D78: =SUBTOTAL(9,D67:D77) -> 6136 | E78: =SUBTOTAL(9,E67:E77) -> 49789 | F78: =SUBTOTAL(9,F67:F77) -> 2206.165
A79: Totaal 2025 | D79: =SUBTOTAL(9,D2:D77) -> 366492 | E79: =SUBTOTAL(9,E2:E77) -> 564916 | F79: =SUBTOTAL(9,F2:F77) -> 85988.353
A80: 2024 | B80: 1 | C80: -18 | D80: 2276 | E80: 2275 | F80: 36.795
A81: 2024 | B81: 1 | C81: 18 - 19 | D81: 14739 | E81: 14715 | F81: 1438.9475
A82: 2024 | B82: 1 | C82: 20 - 24 | D82: 63900 | E82: 63827 | F82: 10944.573
A83: 2024 | B83: 1 | C83: 25 - 29 | D83: 49486 | E83: 49413 | F83: 10396.097
A84: 2024 | B84: 1 | C84: 30 - 34 | D84: 33090 | E84: 33048 | F84: 7372.4925
A85: 2024 | B85: 1 | C85: 35 - 39 | D85: 25768 | E85: 25736 | F85: 5886.9725
A86: 2024 | B86: 1 | C86: 40 - 44 | D86: 22169 | E86: 22127 | F86: 5240.245
A87: 2024 | B87: 1 | C87: 45 - 49 | D87: 17866 | E87: 17848 | F87: 4281.1675
A88: 2024 | B88: 1 | C88: 50 - 54 | D88: 14423 | E88: 14404 | F88: 3606.355
A89: 2024 | B89: 1 | C89: 55 - 59 | D89: 10442 | E89: 10435 | F89: 2640.5725
A90: 2024 | B90: 1 | C90: 60 - 64 | D90: 6516 | E90: 6515 | F90: 1407.6
A91: 2024 | B91: 1 | C91: +65 | D91: 5098 | E91: 5099 | F91: 900.29
B92: Totaal 1 | D92: =SUBTOTAL(9,D80:D91) -> 265773 | E92: =SUBTOTAL(9,E80:E91) -> 265442 | F92: =SUBTOTAL(9,F80:F91) -> 54152.108
A93: 2024 | B93: 2 | C93: -18 | D93: 50 | E93: 100 | F93: 2.4175
A94: 2024 | B94: 2 | C94: 18 - 19 | D94: 3263 | E94: 6523 | F94: 541.5175
A95: 2024 | B95: 2 | C95: 20 - 24 | D95: 16320 | E95: 32629 | F95: 4007.73
A96: 2024 | B96: 2 | C96: 25 - 29 | D96: 12658 | E96: 25306 | F96: 3511.71
A97: 2024 | B97: 2 | C97: 30 - 34 | D97: 8484 | E97: 16957 | F97: 2521.86
A98: 2024 | B98: 2 | C98: 35 - 39 | D98: 6597 | E98: 13195 | F98: 1968.4925
A99: 2024 | B99: 2 | C99: 40 - 44 | D99: 5423 | E99: 10842 | F99: 1705.6925
A100: 2024 | B100: 2 | C100: 45 - 49 | D100: 4341 | E100: 8676 | F100: 1357.2
...

Sheet gesl-users | sexe-utilisateur
A1: Jaar Année | B1: Aantal gebruikers Nombre d'utilisateurs | C1: geslacht | sexe | D1: Tewerkgestelde uitzendwerknemers INTN Travailleurs intérimaires occupés INTN | E1: uitzendopdrachten INTN missions intérimaires INTN | F1: VTE INTN ETP INTN | G1: Lonen INTN (in € 1.000) Rémunérations INTN (en € 1.000)
A2: 2025 | B2: 1 | C2: Man-Home | D2: 165250 | E2: 165069 | F2: 37805.948 | G2: 1363635.2
A3: 2025 | B3: 1 | C3: Vrouw-Femme | D3: 96086 | E3: 96010 | F3: 16283.13 | G3: 569886.45
A4: 2025 | B4: 2 | C4: Man-Home | D4: 43003 | E4: 85981 | F4: 13034.955 | G4: 457867.01
A5: 2025 | B5: 2 | C5: Vrouw-Femme | D5: 18928 | E5: 37849 | F5: 4451.3775 | G5: 152908.78
A6: 2025 | B6: 3 | C6: Man-Home | D6: 16567 | E6: 49696 | F6: 5638.49 | G6: 196055.36
A7: 2025 | B7: 3 | C7: Vrouw-Femme | D7: 6178 | E7: 18531 | F7: 1641.3675 | G7: 57253.086
A8: 2025 | B8: 4 | C8: Man-Home | D8: 7129 | E8: 28520 | F8: 2580.1675 | G8: 88719.029
A9: 2025 | B9: 4 | C9: Vrouw-Femme | D9: 2600 | E9: 10400 | F9: 714.36 | G9: 25441.45
A10: 2025 | B10: 5 | C10: Man-Home | D10: 3369 | E10: 16843 | F10: 1268.15 | G10: 43769.736
A11: 2025 | B11: 5 | C11: Vrouw-Femme | D11: 1246 | E11: 6228 | F11: 364.2425 | G11: 13722.146
A12: 2025 | B12: >5 | C12: Man-Home | D12: 4129 | E12: 32878 | F12: 1632.4475 | G12: 58014.715
A13: 2025 | B13: >5 | C13: Vrouw-Femme | D13: 2007 | E13: 16911 | F13: 573.7175 | G13: 25316.781
A14: Totaal 2025 | D14: =SUBTOTAL(9,D2:D13) -> 366492 | E14: =SUBTOTAL(9,E2:E13) -> 564916 | F14: =SUBTOTAL(9,F2:F13) -> 85988.353 | G14: =SUBTOTAL(9,G2:G13) -> 3052589.8
A15: 2024 | B15: 1 | C15: Man-Home | D15: 166110 | E15: 165914 | F15: 37166.942 | G15: 1296278.8
A16: 2024 | B16: 1 | C16: Vrouw-Femme | D16: 99663 | E16: 99528 | F16: 16985.165 | G16: 577505.94
A17: 2024 | B17: 2 | C17: Man-Home | D17: 44230 | E17: 88420 | F17: 13012.865 | G17: 439816.08
A18: 2024 | B18: 2 | C18: Vrouw-Femme | D18: 20288 | E18: 40566 | F18: 4828.0275 | G18: 160871.2
A19: 2024 | B19: 3 | C19: Man-Home | D19: 17304 | E19: 51902 | F19: 5777.0825 | G19: 193713.98
A20: 2024 | B20: 3 | C20: Vrouw-Femme | D20: 6860 | E20: 20569 | F20: 1841.44 | G20: 62044.53
A21: 2024 | B21: 4 | C21: Man-Home | D21: 7748 | E21: 30989 | F21: 2783.34 | G21: 92535.162
A22: 2024 | B22: 4 | C22: Vrouw-Femme | D22: 2995 | E22: 11985 | F22: 828.5675 | G22: 28759.419
A23: 2024 | B23: 5 | C23: Man-Home | D23: 3677 | E23: 18386 | F23: 1380.5775 | G23: 46198.151
A24: 2024 | B24: 5 | C24: Vrouw-Femme | D24: 1410 | E24: 7050 | F24: 397.5125 | G24: 14496.12
A25: 2024 | B25: >5 | C25: Man-Home | D25: 4552 | E25: 36625 | F25: 1795.0275 | G25: 61799.396
A26: 2024 | B26: >5 | C26: Vrouw-Femme | D26: 2368 | E26: 20239 | F26: 721.46 | G26: 30800.442
A27: Totaal 2024 | D27: =SUBTOTAL(9,D15:D26) -> 377205 | E27: =SUBTOTAL(9,E15:E26) -> 592173 | F27: =SUBTOTAL(9,F15:F26) -> 87518.008 | G27: =SUBTOTAL(9,G15:G26) -> 3004819.2
A28: 2023 | B28: 1 | C28: Man-Home | D28: 168563 | E28: 168330 | F28: 38005.42 | G28: 1291104
A29: 2023 | B29: 1 | C29: Vrouw-Femme | D29: 105474 | E29: 105386 | F29: 18034.45 | G29: 598342.14
A30: 2023 | B30: 2 | C30: Man-Home | D30: 44490 | E30: 88949 | F30: 13438.557 | G30: 443715.99
A31: 2023 | B31: 2 | C31: Vrouw-Femme | D31: 22384 | E31: 44764 | F31: 5553.855 | G31: 181528.53
A32: 2023 | B32: 3 | C32: Man-Home | D32: 17438 | E32: 52311 | F32: 5899.525 | G32: 191985.99
A33: 2023 | B33: 3 | C33: Vrouw-Femme | D33: 7519 | E33: 22561 | F33: 2110.51 | G33: 69003.541
A34: 2023 | B34: 4 | C34: Man-Home | D34: 7991 | E34: 31959 | F34: 2887.565 | G34: 93673.344
A35: 2023 | B35: 4 | C35: Vrouw-Femme | D35: 3221 | E35: 12887 | F35: 913.1675 | G35: 30252.159
A36: 2023 | B36: 5 | C36: Man-Home | D36: 3810 | E36: 19050 | F36: 1431.705 | G36: 46607.209
A37: 2023 | B37: 5 | C37: Vrouw-Femme | D37: 1627 | E37: 8135 | F37: 450.15 | G37: 15477.499
A38: 2023 | B38: >5 | C38: Man-Home | D38: 4829 | E38: 38227 | F38: 1955.7725 | G38: 65070.154
A39: 2023 | B39: >5 | C39: Vrouw-Femme | D39: 2494 | E39: 21082 | F39: 785.49 | G39: 31963.61
A40: Totaal 2023 | D40: =SUBTOTAL(9,D28:D39) -> 389840 | E40: =SUBTOTAL(9,E28:E39) -> 613641 | F40: =SUBTOTAL(9,F28:F39) -> 91466.167 | G40: =SUBTOTAL(9,G28:G39) -> 3058724.1

Sheet NACE-lftd | NACE-âge (NACE08)
A1: Opmerking: In 2025 werd de NACE-nomenclatuur 2008 ingeruild voor de NACE-nomenclatuur 2025. Een heel aantal NACE-codes bleven overanderd, maar dat geldt zeker niet voor alle codes. In dit tabblad - en ook in de volgende tabbladen met een vermelding van NACE 25 - brengen we dan ook de verdeling van de gegevens naar NACE- sectie volgens de NACE 25 nomenclatuur. Voor 2025 is dat vanzelfsprekend, maar ook voor de gegevens uit 2024 geven we hier de verdeling volgens NACE 25. We creëren als het ware een fictieve situatie waarin de nieuwe NACE-nomenclatuur 2025 al van kracht was in 2024. Dat is noodzakelijk om de gegevens uit 2025 te vergelijken met hun tegenhanger uit 2024. Deze retropolatie beperkt zich tot het jaar 2024. Voor de voorgaande kwartalen voorzien we enkel een verdeling naar de destijds van toepassing zijnde NACE-nomenclatuur 2008. Die gegevens vindt u onder de tabbladen met vermelding NACE 08. Remarque: En 2025, la nomenclature NACE 2008 a été remplacée par la nomenclature NACE 2025. Un certain nombre de codes NACE sont demeurés inchangés, mais cette stabilité ne s’applique pas à l’ensemble des codes. Dès lors, le présent onglet - et aussi les onglets suivants avec une mention du NACE 25 - présente la répartition des données par section NACE selon la nomenclature NACE 2025. Pour l’année 2025, cette approche s’impose naturellement ; toutefois, pour les données relatives à l’année 2024, la répartition est également fournie sur la base de la nomenclature NACE 2025. Il s’agit ainsi de créer une situation fictive dans laquelle la nouvelle nomenclature NACE 2025 aurait déjà été d’application en 2024. Cette démarche est indispensable afin de permettre une comparaison cohérente entre les données de 2025 et celles de 2024. Pour les années précédentes, nous ne prévoyons qu’une répartition selon la nomenclature NACE 2008 alors en vigueur. Vous trouverez ces données sous les onglets portant la mention NACE 08.
A2: Jaar Année | B2: NACE SECTIE gebruiker SECTION NACE utilisateur | C2: sectie NACE | D2: section NACE | E2: leeftijdsklasse classe d'âge | F2: Tewerkgestelde uitzendwerknemers INTN Travailleurs intérimaires occupés INTN | G2: uitzendopdrachten INTN missions intérimaires INTN | H2: VTE INTN ETP INTN
A3: 2024 | B3: A | C3: =VLOOKUP($B3,'NACE user INTN (NACE08)'!$B$3:$D$24,2,FALSE) -> Landbouw, bosbouw en visserij | D3: =VLOOKUP($B3,'NACE user INTN (NACE08)'!$B$3:$D$24,3,FALSE) -> Agriculture, sylviculture et pêche | E3: -18 | F3: 15 | G3: 18 | H3: 0.745
A4: 2024 | B4: A | C4: =VLOOKUP($B4,'NACE user INTN (NACE08)'!$B$3:$D$24,2,FALSE) -> Landbouw, bosbouw en visserij | D4: =VLOOKUP($B4,'NACE user INTN (NACE08)'!$B$3:$D$24,3,FALSE) -> Agriculture, sylviculture et pêche | E4: 18-19 | F4: 120 | G4: 204 | H4: 18.4725
A5: 2024 | B5: A | C5: =VLOOKUP($B5,'NACE user INTN (NACE08)'!$B$3:$D$24,2,FALSE) -> Landbouw, bosbouw en visserij | D5: =VLOOKUP($B5,'NACE user INTN (NACE08)'!$B$3:$D$24,3,FALSE) -> Agriculture, sylviculture et pêche | E5: 20-24 | F5: 410 | G5: 624 | H5: 86.6175
A6: 2024 | B6: A | C6: =VLOOKUP($B6,'NACE user INTN (NACE08)'!$B$3:$D$24,2,FALSE) -> Landbouw, bosbouw en visserij | D6: =VLOOKUP($B6,'NACE user INTN (NACE08)'!$B$3:$D$24,3,FALSE) -> Agriculture, sylviculture et pêche | E6: 25-29 | F6: 267 | G6: 452 | H6: 61.1875
A7: 2024 | B7: A | C7: =VLOOKUP($B7,'NACE user INTN (NACE08)'!$B$3:$D$24,2,FALSE) -> Landbouw, bosbouw en visserij | D7: =VLOOKUP($B7,'NACE user INTN (NACE08)'!$B$3:$D$24,3,FALSE) -> Agriculture, sylviculture et pêche | E7: 30-34 | F7: 202 | G7: 298 | H7: 41.5725
A8: 2024 | B8: A | C8: =VLOOKUP($B8,'NACE user INTN (NACE08)'!$B$3:$D$24,2,FALSE) -> Landbouw, bosbouw en visserij | D8: =VLOOKUP($B8,'NACE user INTN (NACE08)'!$B$3:$D$24,3,FALSE) -> Agriculture, sylviculture et pêche | E8: 35-39 | F8: 146 | G8: 219 | H8: 32.385
A9: 2024 | B9: A | C9: =VLOOKUP($B9,'NACE user INTN (NACE08)'!$B$3:$D$24,2,FALSE) -> Landbouw, bosbouw en visserij | D9: =VLOOKUP($B9,'NACE user INTN (NACE08)'!$B$3:$D$24,3,FALSE) -> Agriculture, sylviculture et pêche | E9: 40-44 | F9: 156 | G9: 237 | H9: 34.1475
A10: 2024 | B10: A | C10: =VLOOKUP($B10,'NACE user INTN (NACE08)'!$B$3:$D$24,2,FALSE) -> Landbouw, bosbouw en visserij | D10: =VLOOKUP($B10,'NACE user INTN (NACE08)'!$B$3:$D$24,3,FALSE) -> Agriculture, sylviculture et pêche | E10: 45-49 | F10: 125 | G10: 184 | H10: 32.8575
A11: 2024 | B11: A | C11: =VLOOKUP($B11,'NACE user INTN (NACE08)'!$B$3:$D$24,2,FALSE) -> Landbouw, bosbouw en visserij | D11: =VLOOKUP($B11,'NACE user INTN (NACE08)'!$B$3:$D$24,3,FALSE) -> Agriculture, sylviculture et pêche | E11: 50-54 | F11: 102 | G11: 168 | H11: 30.69
A12: 2024 | B12: A | C12: =VLOOKUP($B12,'NACE user INTN (NACE08)'!$B$3:$D$24,2,FALSE) -> Landbouw, bosbouw en visserij | D12: =VLOOKUP($B12,'NACE user INTN (NACE08)'!$B$3:$D$24,3,FALSE) -> Agriculture, sylviculture et pêche | E12: 55-59 | F12: 84 | G12: 120 | H12: 20.93
A13: 2024 | B13: A | C13: =VLOOKUP($B13,'NACE user INTN (NACE08)'!$B$3:$D$24,2,FALSE) -> Landbouw, bosbouw en visserij | D13: =VLOOKUP($B13,'NACE user INTN (NACE08)'!$B$3:$D$24,3,FALSE) -> Agriculture, sylviculture et pêche | E13: 60-64 | F13: 81 | G13: 97 | H13: 16.7175
A14: 2024 | B14: A | C14: =VLOOKUP($B14,'NACE user INTN (NACE08)'!$B$3:$D$24,2,FALSE) -> Landbouw, bosbouw en visserij | D14: =VLOOKUP($B14,'NACE user INTN (NACE08)'!$B$3:$D$24,3,FALSE) -> Agriculture, sylviculture et pêche | E14: 65+ | F14: 63 | G14: 76 | H14: 7.72
B15: Totaal A | F15: =SUBTOTAL(9,F3:F14) -> 1771 | G15: =SUBTOTAL(9,G3:G14) -> 2697 | H15: =SUBTOTAL(9,H3:H14) -> 384.0425
A16: 2024 | B16: B | C16: =VLOOKUP($B16,'NACE user INTN (NACE08)'!$B$3:$D$24,2,FALSE) -> Winning van delfstoffen | D16: =VLOOKUP($B16,'NACE user INTN (NACE08)'!$B$3:$D$24,3,FALSE) -> Industries extractives | E16: 18-19 | F16: 5 | G16: 8 | H16: 0.395
A17: 2024 | B17: B | C17: =VLOOKUP($B17,'NACE user INTN (NACE08)'!$B$3:$D$24,2,FALSE) -> Winning van delfstoffen | D17: =VLOOKUP($B17,'NACE user INTN (NACE08)'!$B$3:$D$24,3,FALSE) -> Industries extractives | E17: 20-24 | F17: 43 | G17: 50 | H17: 13.935
A18: 2024 | B18: B | C18: =VLOOKUP($B18,'NACE user INTN (NACE08)'!$B$3:$D$24,2,FALSE) -> Winning van delfstoffen | D18: =VLOOKUP($B18,'NACE user INTN (NACE08)'!$B$3:$D$24,3,FALSE) -> Industries extractives | E18: 25-29 | F18: 22 | G18: 33 | H18: 7.69
A19: 2024 | B19: B | C19: =VLOOKUP($B19,'NACE user INTN (NACE08)'!$B$3:$D$24,2,FALSE) -> Winning van delfstoffen | D19: =VLOOKUP($B19,'NACE user INTN (NACE08)'!$B$3:$D$24,3,FALSE) -> Industries extractives | E19: 30-34 | F19: 21 | G19: 23 | H19: 7.115
A20: 2024 | B20: B | C20: =VLOOKUP($B20,'NACE user INTN (NACE08)'!$B$3:$D$24,2,FALSE) -> Winning van delfstoffen | D20: =VLOOKUP($B20,'NACE user INTN (NACE08)'!$B$3:$D$24,3,FALSE) -> Industries extractives | E20: 35-39 | F20: 10 | G20: 17 | H20: 2.8975
A21: 2024 | B21: B | C21: =VLOOKUP($B21,'NACE user INTN (NACE08)'!$B$3:$D$24,2,FALSE) -> Winning van delfstoffen | D21: =VLOOKUP($B21,'NACE user INTN (NACE08)'!$B$3:$D$24,3,FALSE) -> Industries extractives | E21: 40-44 | F21: 15 | G21: 22 | H21: 5.6525
A22: 2024 | B22: B | C22: =VLOOKUP($B22,'NACE user INTN (NACE08)'!$B$3:$D$24,2,FALSE) -> Winning van delfstoffen | D22: =VLOOKUP($B22,'NACE user INTN (NACE08)'!$B$3:$D$24,3,FALSE) -> Industries extractives | E22: 45-49 | F22: 11 | G22: 16 | H22: 3.065
A23: 2024 | B23: B | C23: =VLOOKUP($B23,'NACE user INTN (NACE08)'!$B$3:$D$24,2,FALSE) -> Winning van delfstoffen | D23: =VLOOKUP($B23,'NACE user INTN (NACE08)'!$B$3:$D$24,3,FALSE) -> Industries extractives | E23: 50-54 | F23: 8 | G23: 9 | H23: 2.46
A24: 2024 | B24: B | C24: =VLOOKUP($B24,'NACE user INTN (NACE08)'!$B$3:$D$24,2,FALSE) -> Winning van delfstoffen | D24: =VLOOKUP($B24,'NACE user INTN (NACE08)'!$B$3:$D$24,3,FALSE) -> Industries extractives | E24: 55-59 | F24: 12 | G24: 16 | H24: 2.435
A25: 2024 | B25: B | C25: =VLOOKUP($B25,'NACE user INTN (NACE08)'!$B$3:$D$24,2,FALSE) -> Winning van delfstoffen | D25: =VLOOKUP($B25,'NACE user INTN (NACE08)'!$B$3:$D$24,3,FALSE) -> Industries extractives | E25: 60-64 | F25: 3 | G25: 3 | H25: 0.27
A26: 2024 | B26: B | C26: =VLOOKUP($B26,'NACE user INTN (NACE08)'!$B$3:$D$24,2,FALSE) -> Winning van delfstoffen | D26: =VLOOKUP($B26,'NACE user INTN (NACE08)'!$B$3:$D$24,3,FALSE) -> Industries extractives | E26: 65+ | F26: 6 | G26: 7 | H26: 1.005
B27: Totaal B | F27: =SUBTOTAL(9,F16:F26) -> 156 | G27: =SUBTOTAL(9,G16:G26) -> 204 | H27: =SUBTOTAL(9,H16:H26) -> 46.92
A28: 2024 | B28: C | C28: =VLOOKUP($B28,'NACE user INTN (NACE08)'!$B$3:$D$24,2,FALSE) -> Industrie | D28: =VLOOKUP($B28,'NACE user INTN (NACE08)'!$B$3:$D$24,3,FALSE) -> Industries manufacturières | E28: -18 | F28: 216 | G28: 233 | H28: 5.3125
A29: 2024 | B29: C | C29: =VLOOKUP($B29,'NACE user INTN (NACE08)'!$B$3:$D$24,2,FALSE) -> Industrie | D29: =VLOOKUP($B29,'NACE user INTN (NACE08)'!$B$3:$D$24,3,FALSE) -> Industries manufacturières | E29: 18-19 | F29: 4963 | G29: 7622 | H29: 802.87
A30: 2024 | B30: C | C30: =VLOOKUP($B30,'NACE user INTN (NACE08)'!$B$3:$D$24,2,FALSE) -> Industrie | D30: =VLOOKUP($B30,'NACE user INTN (NACE08)'!$B$3:$D$24,3,FALSE) -> Industries manufacturières | E30: 20-24 | F30: 21002 | G30: 33212 | H30: 5534.6125
A31: 2024 | B31: C | C31: =VLOOKUP($B31,'NACE user INTN (NACE08)'!$B$3:$D$24,2,FALSE) -> Industrie | D31: =VLOOKUP($B31,'NACE user INTN (NACE08)'!$B$3:$D$24,3,FALSE) -> Industries manufacturières | E31: 25-29 | F31: 16104 | G31: 25182 | H31: 4859.1825
A32: 2024 | B32: C | C32: =VLOOKUP($B32,'NACE user INTN (NACE08)'!$B$3:$D$24,2,FALSE) -> Industrie | D32: =VLOOKUP($B32,'NACE user INTN (NACE08)'!$B$3:$D$24,3,FALSE) -> Industries manufacturières | E32: 30-34 | F32: 11778 | G32: 18563 | H32: 3729.71
A33: 2024 | B33: C | C33: =VLOOKUP($B33,'NACE user INTN (NACE08)'!$B$3:$D$24,2,FALSE) -> Industrie | D33: =VLOOKUP($B33,'NACE user INTN (NACE08)'!$B$3:$D$24,3,FALSE) -> Industries manufacturières | E33: 35-39 | F33: 9688 | G33: 15342 | H33: 3071.665
A34: 2024 | B34: C | C34: =VLOOKUP($B34,'NACE user INTN (NACE08)'!$B$3:$D$24,2,FALSE) -> Industrie | D34: =VLOOKUP($B34,'NACE user INTN (NACE08)'!$B$3:$D$24,3,FALSE) -> Industries manufacturières | E34: 40-44 | F34: 8430 | G34: 13146 | H34: 2803.6975
A35: 2024 | B35: C | C35: =VLOOKUP($B35,'NACE user INTN (NACE08)'!$B$3:$D$24,2,FALSE) -> Industrie | D35: =VLOOKUP($B35,'NACE user INTN (NACE08)'!$B$3:$D$24,3,FALSE) -> Industries manufacturières | E35: 45-49 | F35: 6672 | G35: 10522 | H35: 2258.895
A36: 2024 | B36: C | C36: =VLOOKUP($B36,'NACE user INTN (NACE08)'!$B$3:$D$24,2,FALSE) -> Industrie | D36: =VLOOKUP($B36,'NACE user INTN (NACE08)'!$B$3:$D$24,3,FALSE) -> Industries manufacturières | E36: 50-54 | F36: 5346 | G36: 8210 | H36: 1887.92
A37: 2024 | B37: C | C37: =VLOOKUP($B37,'NACE user INTN (NACE08)'!$B$3:$D$24,2,FALSE) -> Industrie | D37: =VLOOKUP($B37,'NACE user INTN (NACE08)'!$B$3:$D$24,3,FALSE) -> Industries manufacturières | E37: 55-59 | F37: 3476 | G37: 5295 | H37: 1237.0975
A38: 2024 | B38: C | C38: =VLOOKUP($B38,'NACE user INTN (NACE08)'!$B$3:$D$24,2,FALSE) -> Industrie | D38: =VLOOKUP($B38,'NACE user INTN (NACE08)'!$B$3:$D$24,3,FALSE) -> Industries manufacturières | E38: 60-64 | F38: 1608 | G38: 2097 | H38: 482.045
A39: 2024 | B39: C | C39: =VLOOKUP($B39,'NACE user INTN (NACE08)'!$B$3:$D$24,2,FALSE) -> Industrie | D39: =VLOOKUP($B39,'NACE user INTN (NACE08)'!$B$3:$D$24,3,FALSE) -> Industries manufacturières | E39: 65+ | F39: 992 | G39: 1164 | H39: 215.36
B40: Totaal C | F40: =SUBTOTAL(9,F28:F39) -> 90275 | G40: =SUBTOTAL(9,G28:G39) -> 140588 | H40: =SUBTOTAL(9,H28:H39) -> 26888.368
A41: 2024 | B41: D | C41: =VLOOKUP($B41,'NACE user INTN (NACE08)'!$B$3:$D$24,2,FALSE) -> Productie en distributie van elektriciteit, gas, stoom en gekoelde lucht | D41: =VLOOKUP($B41,'NACE user INTN (NACE08)'!$B$3:$D$24,3,FALSE) -> Production et distribution d'électricité, de gaz, de vapeur et d'air conditionné | E41: 18-19 | F41: 1 | G41: 2 | H41: 0.02
A42: 2024 | B42: D | C42: =VLOOKUP($B42,'NACE user INTN (NACE08)'!$B$3:$D$24,2,FALSE) -> Productie en distributie van elektriciteit, gas, stoom en gekoelde lucht | D42: =VLOOKUP($B42,'NACE user INTN (NACE08)'!$B$3:$D$24,3,FALSE) -> Production et distribution d'électricité, de gaz, de vapeur et d'air conditionné | E42: 20-24 | F42: 41 | G42: 57 | H42: 14.815
A43: 2024 | B43: D | C43: =VLOOKUP($B43,'NACE user INTN (NACE08)'!$B$3:$D$24,2,FALSE) -> Productie en distributie van elektriciteit, gas, stoom en gekoelde lucht | D43: =VLOOKUP($B43,'NACE user INTN (NACE08)'!$B$3:$D$24,3,FALSE) -> Production et distribution d'électricité, de gaz, de vapeur et d'air conditionné | E43: 25-29 | F43: 73 | G43: 88 | H43: 26.415
A44: 2024 | B44: D | C44: =VLOOKUP($B44,'NACE user INTN (NACE08)'!$B$3:$D$24,2,FALSE) -> Productie en distributie van elektriciteit, gas, stoom en gekoelde lucht | D44: =VLOOKUP($B44,'NACE user INTN (NACE08)'!$B$3:$D$24,3,FALSE) -> Production et distribution d'électricité, de gaz, de vapeur et d'air conditionné | E44: 30-34 | F44: 39 | G44: 50 | H44: 15.8875
A45: 2024 | B45: D | C45: =VLOOKUP($B45,'NACE user INTN (NACE08)'!$B$3:$D$24,2,FALSE) -> Productie en distributie van elektriciteit, gas, stoom en gekoelde lucht | D45: =VLOOKUP($B45,'NACE user INTN (NACE08)'!$B$3:$D$24,3,FALSE) -> Production et distribution d'électricité, de gaz, de vapeur et d'air conditionné | E45: 35-39 | F45: 22 | G45: 33 | H45: 7.27
A46: 2024 | B46: D | C46: =VLOOKUP($B46,'NACE user INTN (NACE08)'!$B$3:$D$24,2,FALSE) -> Productie en distributie van elektriciteit, gas, stoom en gekoelde lucht | D46: =VLOOKUP($B46,'NACE user INTN (NACE08)'!$B$3:$D$24,3,FALSE) -> Production et distribution d'électricité, de gaz, de vapeur et d'air conditionné | E46: 40-44 | F46: 30 | G46: 39 | H46: 15.7575
A47: 2024 | B47: D | C47: =VLOOKUP($B47,'NACE user INTN (NACE08)'!$B$3:$D$24,2,FALSE) -> Productie en distributie van elektriciteit, gas, stoom en gekoelde lucht | D47: =VLOOKUP($B47,'NACE user INTN (NACE08)'!$B$3:$D$24,3,FALSE) -> Production et distribution d'électricité, de gaz, de vapeur et d'air conditionné | E47: 45-49 | F47: 8 | G47: 16 | H47: 2.5475
A48: 2024 | B48: D | C48: =VLOOKUP($B48,'NACE user INTN (NACE08)'!$B$3:$D$24,2,FALSE) -> Productie en distributie van elektriciteit, gas, stoom en gekoelde lucht | D48: =VLOOKUP($B48,'NACE user INTN (NACE08)'!$B$3:$D$24,3,FALSE) -> Production et distribution d'électricité, de gaz, de vapeur et d'air conditionné | E48: 50-54 | F48: 20 | G48: 22 | H48: 9.3125
A49: 2024 | B49: D | C49: =VLOOKUP($B49,'NACE user INTN (NACE08)'!$B$3:$D$24,2,FALSE) -> Productie en distributie van elektriciteit, gas, stoom en gekoelde lucht | D49: =VLOOKUP($B49,'NACE user INTN (NACE08)'!$B$3:$D$24,3,FALSE) -> Production et distribution d'électricité, de gaz, de vapeur et d'air conditionné | E49: 55-59 | F49: 6 | G49: 6 | H49: 3.19
A50: 2024 | B50: D | C50: =VLOOKUP($B50,'NACE user INTN (NACE08)'!$B$3:$D$24,2,FALSE) -> Productie en distributie van elektriciteit, gas, stoom en gekoelde lucht | D50: =VLOOKUP($B50,'NACE user INTN (NACE08)'!$B$3:$D$24,3,FALSE) -> Production et distribution d'électricité, de gaz, de vapeur et d'air conditionné | E50: 60-64 | F50: 3 | G50: 5 | H50: 0.6525
A51: 2024 | B51: D | C51: =VLOOKUP($B51,'NACE user INTN (NACE08)'!$B$3:$D$24,2,FALSE) -> Productie en distributie van elektriciteit, gas, stoom en gekoelde lucht | D51: =VLOOKUP($B51,'NACE user INTN (NACE08)'!$B$3:$D$24,3,FALSE) -> Production et distribution d'électricité, de gaz, de vapeur et d'air conditionné | E51: 65+ | F51: 10 | G51: 10 | H51: 2.1775
B52: Totaal D | F52: =SUBTOTAL(9,F41:F51) -> 253 | G52: =SUBTOTAL(9,G41:G51) -> 328 | H52: =SUBTOTAL(9,H41:H51) -> 98.045
A53: 2024 | B53: E | C53: =VLOOKUP($B53,'NACE user INTN (NACE08)'!$B$3:$D$24,2,FALSE) -> Distributie van water; afval- en afvalwaterbeheer en sanering | D53: =VLOOKUP($B53,'NACE user INTN (NACE08)'!$B$3:$D$24,3,FALSE) -> Production et distribution d'eau; assainissement, gestion des déchets et dépollution | E53: -18 | F53: 24 | G53: 24 | H53: 0.2675
A54: 2024 | B54: E | C54: =VLOOKUP($B54,'NACE user INTN (NACE08)'!$B$3:$D$24,2,FALSE) -> Distributie van water; afval- en afvalwaterbeheer en sanering | D54: =VLOOKUP($B54,'NACE user INTN (NACE08)'!$B$3:$D$24,3,FALSE) -> Production et distribution d'eau; assainissement, gestion des déchets et dépollution | E54: 18-19 | F54: 461 | G54: 652 | H54: 65.6
A55: 2024 | B55: E | C55: =VLOOKUP($B55,'NACE user INTN (NACE08)'!$B$3:$D$24,2,FALSE) -> Distributie van water; afval- en afvalwaterbeheer en sanering | D55: =VLOOKUP($B55,'NACE user INTN (NACE08)'!$B$3:$D$24,3,FALSE) -> Production et distribution d'eau; assainissement, gestion des déchets et dépollution | E55: 20-24 | F55: 1675 | G55: 2643 | H55: 421.365
A56: 2024 | B56: E | C56: =VLOOKUP($B56,'NACE user INTN (NACE08)'!$B$3:$D$24,2,FALSE) -> Distributie van water; afval- en afvalwaterbeheer en sanering | D56: =VLOOKUP($B56,'NACE user INTN (NACE08)'!$B$3:$D$24,3,FALSE) -> Production et distribution d'eau; assainissement, gestion des déchets et dépollution | E56: 25-29 | F56: 1340 | G56: 2193 | H56: 360.9875
A57: 2024 | B57: E | C57: =VLOOKUP($B57,'NACE user INTN (NACE08)'!$B$3:$D$24,2,FALSE) -> Distributie van water; afval- en afvalwaterbeheer en sanering | D57: =VLOOKUP($B57,'NACE user INTN (NACE08)'!$B$3:$D$24,3,FALSE) -> Production et distribution d'eau; assainissement, gestion des déchets et dépollution | E57: 30-34 | F57: 1052 | G57: 1733 | H57: 315.715
A58: 2024 | B58: E | C58: =VLOOKUP($B58,'NACE user INTN (NACE08)'!$B$3:$D$24,2,FALSE) -> Distributie van water; afval- en afvalwaterbeheer en sanering | D58: =VLOOKUP($B58,'NACE user INTN (NACE08)'!$B$3:$D$24,3,FALSE) -> Production et distribution d'eau; assainissement, gestion des déchets et dépollution | E58: 35-39 | F58: 912 | G58: 1469 | H58: 291.3525
A59: 2024 | B59: E | C59: =VLOOKUP($B59,'NACE user INTN (NACE08)'!$B$3:$D$24,2,FALSE) -> Distributie van water; afval- en afvalwaterbeheer en sanering | D59: =VLOOKUP($B59,'NACE user INTN (NACE08)'!$B$3:$D$24,3,FALSE) -> Production et distribution d'eau; assainissement, gestion des déchets et dépollution | E59: 40-44 | F59: 774 | G59: 1254 | H59: 260.72
A60: 2024 | B60: E | C60: =VLOOKUP($B60,'NACE user INTN (NACE08)'!$B$3:$D$24,2,FALSE) -> Distributie van water; afval- en afvalwaterbeheer en sanering | D60: =VLOOKUP($B60,'NACE user INTN (NACE08)'!$B$3:$D$24,3,FALSE) -> Production et distribution d'eau; assainissement, gestion des déchets et dépollution | E60: 45-49 | F60: 702 | G60: 1044 | H60: 229.495
A61: 2024 | B61: E | C61: =VLOOKUP($B61,'NACE user INTN (NACE08)'!$B$3:$D$24,2,FALSE) -> Distributie van water; afval- en afvalwaterbeheer en sanering | D61: =VLOOKUP($B61,'NACE user INTN (NACE08)'!$B$3:$D$24,3,FALSE) -> Production et distribution d'eau; assainissement, gestion des déchets et dépollution | E61: 50-54 | F61: 478 | G61: 756 | H61: 170.6925
A62: 2024 | B62: E | C62: =VLOOKUP($B62,'NACE user INTN (NACE08)'!$B$3:$D$24,2,FALSE) -> Distributie van water; afval- en afvalwaterbeheer en sanering | D62: =VLOOKUP($B62,'NACE user INTN (NACE08)'!$B$3:$D$24,3,FALSE) -> Production et distribution d'eau; assainissement, gestion des déchets et dépollution | E62: 55-59 | F62: 381 | G62: 553 | H62: 133.85
A63: 2024 | B63: E | C63: =VLOOKUP($B63,'NACE user INTN (NACE08)'!$B$3:$D$24,2,FALSE) -> Distributie van water; afval- en afvalwaterbeheer en sanering | D63: =VLOOKUP($B63,'NACE user INTN (NACE08)'!$B$3:$D$24,3,FALSE) -> Production et distribution d'eau; assainissement, gestion des déchets et dépollution | E63: 60-64 | F63: 234 | G63: 297 | H63: 70.005
A64: 2024 | B64: E | C64: =VLOOKUP($B64,'NACE user INTN (NACE08)'!$B$3:$D$24,2,FALSE) -> Distributie van water; afval- en afvalwaterbeheer en sanering | D64: =VLOOKUP($B64,'NACE user INTN (NACE08)'!$B$3:$D$24,3,FALSE) -> Production et distribution d'eau; assainissement, gestion des déchets et dépollution | E64: 65+ | F64: 147 | G64: 166 | H64: 39.6375
B65: Totaal E | F65: =SUBTOTAL(9,F53:F64) -> 8180 | G65: =SUBTOTAL(9,G53:G64) -> 12784 | H65: =SUBTOTAL(9,H53:H64) -> 2359.6875
A66: 2024 | B66: F | C66: =VLOOKUP($B66,'NACE user INTN (NACE08)'!$B$3:$D$24,2,FALSE) -> bouwnijverheid | D66: =VLOOKUP($B66,'NACE user INTN (NACE08)'!$B$3:$D$24,3,FALSE) -> Construction | E66: -18 | F66: 21 | G66: 21 | H66: 0.445
A67: 2024 | B67: F | C67: =VLOOKUP($B67,'NACE user INTN (NACE08)'!$B$3:$D$24,2,FALSE) -> bouwnijverheid | D67: =VLOOKUP($B67,'NACE user INTN (NACE08)'!$B$3:$D$24,3,FALSE) -> Construction | E67: 18-19 | F67: 667 | G67: 918 | H67: 116.255
A68: 2024 | B68: F | C68: =VLOOKUP($B68,'NACE user INTN (NACE08)'!$B$3:$D$24,2,FALSE) -> bouwnijverheid | D68: =VLOOKUP($B68,'NACE user INTN (NACE08)'!$B$3:$D$24,3,FALSE) -> Construction | E68: 20-24 | F68: 3471 | G68: 5126 | H68: 872.2625
A69: 2024 | B69: F | C69: =VLOOKUP($B69,'NACE user INTN (NACE08)'!$B$3:$D$24,2,FALSE) -> bouwnijverheid | D69: =VLOOKUP($B69,'NACE user INTN (NACE08)'!$B$3:$D$24,3,FALSE) -> Construction | E69: 25-29 | F69: 2859 | G69: 4273 | H69: 732.735
A70: 2024 | B70: F | C70: =VLOOKUP($B70,'NACE user INTN (NACE08)'!$B$3:$D$24,2,FALSE) -> bouwnijverheid | D70: =VLOOKUP($B70,'NACE user INTN (NACE08)'!$B$3:$D$24,3,FALSE) -> Construction | E70: 30-34 | F70: 2357 | G70: 3423 | H70: 587.2325
A71: 2024 | B71: F | C71: =VLOOKUP($B71,'NACE user INTN (NACE08)'!$B$3:$D$24,2,FALSE) -> bouwnijverheid | D71: =VLOOKUP($B71,'NACE user INTN (NACE08)'!$B$3:$D$24,3,FALSE) -> Construction | E71: 35-39 | F71: 2103 | G71: 2981 | H71: 510.685
A72: 2024 | B72: F | C72: =VLOOKUP($B72,'NACE user INTN (NACE08)'!$B$3:$D$24,2,FALSE) -> bouwnijverheid | D72: =VLOOKUP($B72,'NACE user INTN (NACE08)'!$B$3:$D$24,3,FALSE) -> Construction | E72: 40-44 | F72: 1847 | G72: 2555 | H72: 474.635
A73: 2024 | B73: F | C73: =VLOOKUP($B73,'NACE user INTN (NACE08)'!$B$3:$D$24,2,FALSE) -> bouwnijverheid | D73: =VLOOKUP($B73,'NACE user INTN (NACE08)'!$B$3:$D$24,3,FALSE) -> Construction | E73: 45-49 | F73: 1335 | G73: 1864 | H73: 349.145
A74: 2024 | B74: F | C74: =VLOOKUP($B74,'NACE user INTN (NACE08)'!$B$3:$D$24,2,FALSE) -> bouwnijverheid | D74: =VLOOKUP($B74,'NACE user INTN (NACE08)'!$B$3:$D$24,3,FALSE) -> Construction | E74: 50-54 | F74: 993 | G74: 1432 | H74: 272.0575
A75: 2024 | B75: F | C75: =VLOOKUP($B75,'NACE user INTN (NACE08)'!$B$3:$D$24,2,FALSE) -> bouwnijverheid | D75: =VLOOKUP($B75,'NACE user INTN (NACE08)'!$B$3:$D$24,3,FALSE) -> Construction | E75: 55-59 | F75: 687 | G75: 960 | H75: 187.42
A76: 2024 | B76: F | C76: =VLOOKUP($B76,'NACE user INTN (NACE08)'!$B$3:$D$24,2,FALSE) -> bouwnijverheid | D76: =VLOOKUP($B76,'NACE user INTN (NACE08)'!$B$3:$D$24,3,FALSE) -> Construction | E76: 60-64 | F76: 294 | G76: 357 | H76: 67.085
A77: 2024 | B77: F | C77: =VLOOKUP($B77,'NACE user INTN (NACE08)'!$B$3:$D$24,2,FALSE) -> bouwnijverheid | D77: =VLOOKUP($B77,'NACE user INTN (NACE08)'!$B$3:$D$24,3,FALSE) -> Construction | E77: 65+ | F77: 270 | G77: 302 | H77: 55.66
B78: Totaal F | F78: =SUBTOTAL(9,F66:F77) -> 16904 | G78: =SUBTOTAL(9,G66:G77) -> 24212 | H78: =SUBTOTAL(9,H66:H77) -> 4225.6175
A79: 2024 | B79: G | C79: =VLOOKUP($B79,'NACE user INTN (NACE08)'!$B$3:$D$24,2,FALSE) -> Groot- en detailhandel; reparatie van auto's en motorfietsen | D79: =VLOOKUP($B79,'NACE user INTN (NACE08)'!$B$3:$D$24,3,FALSE) -> Commerce; réparation d'automobiles et de motocycles | E79: -18 | F79: 1225 | G79: 1256 | H79: 17.785
A80: 2024 | B80: G | C80: =VLOOKUP($B80,'NACE user INTN (NACE08)'!$B$3:$D$24,2,FALSE) -> Groot- en detailhandel; reparatie van auto's en motorfietsen | D80: =VLOOKUP($B80,'NACE user INTN (NACE08)'!$B$3:$D$24,3,FALSE) -> Commerce; réparation d'automobiles et de motocycles | E80: 18-19 | F80: 6144 | G80: 8561 | H80: 675.835
A81: 2024 | B81: G | C81: =VLOOKUP($B81,'NACE user INTN (NACE08)'!$B$3:$D$24,2,FALSE) -> Groot- en detailhandel; reparatie van auto's en motorfietsen | D81: =VLOOKUP($B81,'NACE user INTN (NACE08)'!$B$3:$D$24,3,FALSE) -> Commerce; réparation d'automobiles et de motocycles | E81: 20-24 | F81: 24794 | G81: 37498 | H81: 4592.9075
A82: 2024 | B82: G | C82: =VLOOKUP($B82,'NACE user INTN (NACE08)'!$B$3:$D$24,2,FALSE) -> Groot- en detailhandel; reparatie van auto's en motorfietsen | D82: =VLOOKUP($B82,'NACE user INTN (NACE08)'!$B$3:$D$24,3,FALSE) -> Commerce; réparation d'automobiles et de motocycles | E82: 25-29 | F82: 15841 | G82: 24589 | H82: 3519.7125
A83: 2024 | B83: G | C83: =VLOOKUP($B83,'NACE user INTN (NACE08)'!$B$3:$D$24,2,FALSE) -> Groot- en detailhandel; reparatie van auto's en motorfietsen | D83: =VLOOKUP($B83,'NACE user INTN (NACE08)'!$B$3:$D$24,3,FALSE) -> Commerce; réparation d'automobiles et de motocycles | E83: 30-34 | F83: 9615 | G83: 14989 | H83: 2339.55
A84: 2024 | B84: G | C84: =VLOOKUP($B84,'NACE user INTN (NACE08)'!$B$3:$D$24,2,FALSE) -> Groot- en detailhandel; reparatie van auto's en motorfietsen | D84: =VLOOKUP($B84,'NACE user INTN (NACE08)'!$B$3:$D$24,3,FALSE) -> Commerce; réparation d'automobiles et de motocycles | E84: 35-39 | F84: 7031 | G84: 11248 | H84: 1785.835
A85: 2024 | B85: G | C85: =VLOOKUP($B85,'NACE user INTN (NACE08)'!$B$3:$D$24,2,FALSE) -> Groot- en detailhandel; reparatie van auto's en motorfietsen | D85: =VLOOKUP($B85,'NACE user INTN (NACE08)'!$B$3:$D$24,3,FALSE) -> Commerce; réparation d'automobiles et de motocycles | E85: 40-44 | F85: 5853 | G85: 9094 | H85: 1524.0025
A86: 2024 | B86: G | C86: =VLOOKUP($B86,'NACE user INTN (NACE08)'!$B$3:$D$24,2,FALSE) -> Groot- en detailhandel; reparatie van auto's en motorfietsen | D86: =VLOOKUP($B86,'NACE user INTN (NACE08)'!$B$3:$D$24,3,FALSE) -> Commerce; réparation d'automobiles et de motocycles | E86: 45-49 | F86: 4576 | G86: 7251 | H86: 1172.72
A87: 2024 | B87: G | C87: =VLOOKUP($B87,'NACE user INTN (NACE08)'!$B$3:$D$24,2,FALSE) -> Groot- en detailhandel; reparatie van auto's en motorfietsen | D87: =VLOOKUP($B87,'NACE user INTN (NACE08)'!$B$3:$D$24,3,FALSE) -> Commerce; réparation d'automobiles et de motocycles | E87: 50-54 | F87: 4012 | G87: 6379 | H87: 1023.05
A88: 2024 | B88: G | C88: =VLOOKUP($B88,'NACE user INTN (NACE08)'!$B$3:$D$24,2,FALSE) -> Groot- en detailhandel; reparatie van auto's en motorfietsen | D88: =VLOOKUP($B88,'NACE user INTN (NACE08)'!$B$3:$D$24,3,FALSE) -> Commerce; réparation d'automobiles et de motocycles | E88: 55-59 | F88: 3133 | G88: 4920 | H88: 811.6625
A89: 2024 | B89: G | C89: =VLOOKUP($B89,'NACE user INTN (NACE08)'!$B$3:$D$24,2,FALSE) -> Groot- en detailhandel; reparatie van auto's en motorfietsen | D89: =VLOOKUP($B89,'NACE user INTN (NACE08)'!$B$3:$D$24,3,FALSE) -> Commerce; réparation d'automobiles et de motocycles | E89: 60-64 | F89: 1659 | G89: 2298 | H89: 366.3475
A90: 2024 | B90: G | C90: =VLOOKUP($B90,'NACE user INTN (NACE08)'!$B$3:$D$24,2,FALSE) -> Groot- en detailhandel; reparatie van auto's en motorfietsen | D90: =VLOOKUP($B90,'NACE user INTN (NACE08)'!$B$3:$D$24,3,FALSE) -> Commerce; réparation d'automobiles et de motocycles | E90: 65+ | F90: 918 | G90: 1178 | H90: 142.4475
B91: Totaal G | F91: =SUBTOTAL(9,F79:F90) -> 84801 | G91: =SUBTOTAL(9,G79:G90) -> 129261 | H91: =SUBTOTAL(9,H79:H90) -> 17971.855
A92: 2024 | B92: H | C92: =VLOOKUP($B92,'NACE user INTN (NACE08)'!$B$3:$D$24,2,FALSE) -> Vervoer en opslag | D92: =VLOOKUP($B92,'NACE user INTN (NACE08)'!$B$3:$D$24,3,FALSE) -> Transports et entreposage | E92: -18 | F92: 107 | G92: 109 | H92: 2.8675
A93: 2024 | B93: H | C93: =VLOOKUP($B93,'NACE user INTN (NACE08)'!$B$3:$D$24,2,FALSE) -> Vervoer en opslag | D93: =VLOOKUP($B93,'NACE user INTN (NACE08)'!$B$3:$D$24,3,FALSE) -> Transports et entreposage | E93: 18-19 | F93: 2979 | G93: 4302 | H93: 393.65
A94: 2024 | B94: H | C94: =VLOOKUP($B94,'NACE user INTN (NACE08)'!$B$3:$D$24,2,FALSE) -> Vervoer en opslag | D94: =VLOOKUP($B94,'NACE user INTN (NACE08)'!$B$3:$D$24,3,FALSE) -> Transports et entreposage | E94: 20-24 | F94: 14256 | G94: 21589 | H94: 3138.2275
A95: 2024 | B95: H | C95: =VLOOKUP($B95,'NACE user INTN (NACE08)'!$B$3:$D$24,2,FALSE) -> Vervoer en opslag | D95: =VLOOKUP($B95,'NACE user INTN (NACE08)'!$B$3:$D$24,3,FALSE) -> Transports et entreposage | E95: 25-29 | F95: 10879 | G95: 16846 | H95: 2885.0975
A96: 2024 | B96: H | C96: =VLOOKUP($B96,'NACE user INTN (NACE08)'!$B$3:$D$24,2,FALSE) -> Vervoer en opslag | D96: =VLOOKUP($B96,'NACE user INTN (NACE08)'!$B$3:$D$24,3,FALSE) -> Transports et entreposage | E96: 30-34 | F96: 7682 | G96: 11994 | H96: 2166.19
A97: 2024 | B97: H | C97: =VLOOKUP($B97,'NACE user INTN (NACE08)'!$B$3:$D$24,2,FALSE) -> Vervoer en opslag | D97: =VLOOKUP($B97,'NACE user INTN (NACE08)'!$B$3:$D$24,3,FALSE) -> Transports et entreposage | E97: 35-39 | F97: 5994 | G97: 9368 | H97: 1791.96
A98: 2024 | B98: H | C98: =VLOOKUP($B98,'NACE user INTN (NACE08)'!$B$3:$D$24,2,FALSE) -> Vervoer en opslag | D98: =VLOOKUP($B98,'NACE user INTN (NACE08)'!$B$3:$D$24,3,FALSE) -> Transports et entreposage | E98: 40-44 | F98: 4791 | G98: 7607 | H98: 1481.245
A99: 2024 | B99: H | C99: =VLOOKUP($B99,'NACE user INTN (NACE08)'!$B$3:$D$24,2,FALSE) -> Vervoer en opslag | D99: =VLOOKUP($B99,'NACE user INTN (NACE08)'!$B$3:$D$24,3,FALSE) -> Transports et entreposage | E99: 45-49 | F99: 3724 | G99: 5710 | H99: 1167.695
A100: 2024 | B100: H | C100: =VLOOKUP($B100,'NACE user INTN (NACE08)'!$B$3:$D$24,2,FALSE) -> Vervoer en opslag | D100: =VLOOKUP($B100,'NACE user INTN (NACE08)'!$B$3:$D$24,3,FALSE) -> Transports et entreposage | E100: 50-54 | F100: 2843 | G100: 4413 | H100: 919.735
...

Sheet NACE-lftd | NACE-âge (NACE25)
A1: Opmerking: In 2025 werd de NACE-nomenclatuur 2008 ingeruild voor de NACE-nomenclatuur 2025. Een heel aantal NACE-codes bleven overanderd, maar dat geldt zeker niet voor alle codes. In dit tabblad - en ook in de volgende tabbladen met een vermelding van NACE 25 - brengen we dan ook de verdeling van de gegevens naar NACE- sectie volgens de NACE 25 nomenclatuur. Voor 2025 is dat vanzelfsprekend, maar ook voor de gegevens uit 2024 geven we hier de verdeling volgens NACE 25. We creëren als het ware een fictieve situatie waarin de nieuwe NACE-nomenclatuur 2025 al van kracht was in 2024. Dat is noodzakelijk om de gegevens uit 2025 te vergelijken met hun tegenhanger uit 2024. Deze retropolatie beperkt zich tot het jaar 2024. Voor de voorgaande kwartalen voorzien we enkel een verdeling naar de destijds van toepassing zijnde NACE-nomenclatuur 2008. Die gegevens vindt u onder de tabbladen met vermelding NACE 08. Remarque: En 2025, la nomenclature NACE 2008 a été remplacée par la nomenclature NACE 2025. Un certain nombre de codes NACE sont demeurés inchangés, mais cette stabilité ne s’applique pas à l’ensemble des codes. Dès lors, le présent onglet - et aussi les onglets suivants avec une mention du NACE 25 - présente la répartition des données par section NACE selon la nomenclature NACE 2025. Pour l’année 2025, cette approche s’impose naturellement ; toutefois, pour les données relatives à l’année 2024, la répartition est également fournie sur la base de la nomenclature NACE 2025. Il s’agit ainsi de créer une situation fictive dans laquelle la nouvelle nomenclature NACE 2025 aurait déjà été d’application en 2024. Cette démarche est indispensable afin de permettre une comparaison cohérente entre les données de 2025 et celles de 2024. Pour les années précédentes, nous ne prévoyons qu’une répartition selon la nomenclature NACE 2008 alors en vigueur. Vous trouverez ces données sous les onglets portant la mention NACE 08.
A2: Jaar Année | B2: NACE SECTIE gebruiker SECTION NACE utilisateur | C2: sectie NACE | D2: section NACE | E2: leeftijdsklasse classe d'âge | F2: Tewerkgestelde uitzendwerknemers INTN Travailleurs intérimaires occupés INTN | G2: uitzendopdrachten INTN missions intérimaires INTN | H2: VTE INTN ETP INTN
A3: 2025 | B3: A | C3: Landbouw, bosbouw en visserij | D3: Agriculture, sylviculture et pêche | E3: -18 | F3: 21 | G3: 32 | H3: 0.5525
A4: 2025 | B4: A | C4: Landbouw, bosbouw en visserij | D4: Agriculture, sylviculture et pêche | E4: 18-19 | F4: 149 | G4: 206 | H4: 18.465
A5: 2025 | B5: A | C5: Landbouw, bosbouw en visserij | D5: Agriculture, sylviculture et pêche | E5: 20-24 | F5: 391 | G5: 584 | H5: 86.5325
A6: 2025 | B6: A | C6: Landbouw, bosbouw en visserij | D6: Agriculture, sylviculture et pêche | E6: 25-29 | F6: 283 | G6: 442 | H6: 64.7075
A7: 2025 | B7: A | C7: Landbouw, bosbouw en visserij | D7: Agriculture, sylviculture et pêche | E7: 30-34 | F7: 213 | G7: 306 | H7: 43.055
A8: 2025 | B8: A | C8: Landbouw, bosbouw en visserij | D8: Agriculture, sylviculture et pêche | E8: 35-39 | F8: 157 | G8: 246 | H8: 36.2375
A9: 2025 | B9: A | C9: Landbouw, bosbouw en visserij | D9: Agriculture, sylviculture et pêche | E9: 40-44 | F9: 134 | G9: 202 | H9: 28.935
A10: 2025 | B10: A | C10: Landbouw, bosbouw en visserij | D10: Agriculture, sylviculture et pêche | E10: 45-49 | F10: 125 | G10: 192 | H10: 32.18
A11: 2025 | B11: A | C11: Landbouw, bosbouw en visserij | D11: Agriculture, sylviculture et pêche | E11: 50-54 | F11: 123 | G11: 175 | H11: 29.7525
A12: 2025 | B12: A | C12: Landbouw, bosbouw en visserij | D12: Agriculture, sylviculture et pêche | E12: 55-59 | F12: 86 | G12: 127 | H12: 23.025
A13: 2025 | B13: A | C13: Landbouw, bosbouw en visserij | D13: Agriculture, sylviculture et pêche | E13: 60-64 | F13: 90 | G13: 107 | H13: 20.14
A14: 2025 | B14: A | C14: Landbouw, bosbouw en visserij | D14: Agriculture, sylviculture et pêche | E14: 65+ | F14: 67 | G14: 81 | H14: 7.5575
B15: Totaal A | C15: Landbouw, bosbouw en visserij | D15: Agriculture, sylviculture et pêche | F15: =SUBTOTAL(9,F3:F14) -> 1839 | G15: =SUBTOTAL(9,G3:G14) -> 2700 | H15: =SUBTOTAL(9,H3:H14) -> 391.14
A16: 2025 | B16: B | C16: Winning van delfstoffen | D16: Industries extractives | E16: 18-19 | F16: 8 | G16: 9 | H16: 1.455
A17: 2025 | B17: B | C17: Winning van delfstoffen | D17: Industries extractives | E17: 20-24 | F17: 37 | G17: 43 | H17: 13.07
A18: 2025 | B18: B | C18: Winning van delfstoffen | D18: Industries extractives | E18: 25-29 | F18: 20 | G18: 34 | H18: 9.1925
A19: 2025 | B19: B | C19: Winning van delfstoffen | D19: Industries extractives | E19: 30-34 | F19: 25 | G19: 32 | H19: 10.3125
A20: 2025 | B20: B | C20: Winning van delfstoffen | D20: Industries extractives | E20: 35-39 | F20: 18 | G20: 22 | H20: 6.5925
A21: 2025 | B21: B | C21: Winning van delfstoffen | D21: Industries extractives | E21: 40-44 | F21: 13 | G21: 16 | H21: 3.325
A22: 2025 | B22: B | C22: Winning van delfstoffen | D22: Industries extractives | E22: 45-49 | F22: 12 | G22: 15 | H22: 2.795
A23: 2025 | B23: B | C23: Winning van delfstoffen | D23: Industries extractives | E23: 50-54 | F23: 11 | G23: 15 | H23: 5.1925
A24: 2025 | B24: B | C24: Winning van delfstoffen | D24: Industries extractives | E24: 55-59 | F24: 9 | G24: 9 | H24: 2.0475
A25: 2025 | B25: B | C25: Winning van delfstoffen | D25: Industries extractives | E25: 60-64 | F25: 5 | G25: 5 | H25: 0.3475
A26: 2025 | B26: B | C26: Winning van delfstoffen | D26: Industries extractives | E26: 65+ | F26: 7 | G26: 8 | H26: 1.9575
B27: Totaal B | C27: Winning van delfstoffen | D27: Industries extractives | F27: =SUBTOTAL(9,F16:F26) -> 165 | G27: =SUBTOTAL(9,G16:G26) -> 208 | H27: =SUBTOTAL(9,H16:H26) -> 56.2875
A28: 2025 | B28: C | C28: Industrie | D28: Industrie manufacturière | E28: -18 | F28: 196 | G28: 207 | H28: 4.965
A29: 2025 | B29: C | C29: Industrie | D29: Industrie manufacturière | E29: 18-19 | F29: 5082 | G29: 7521 | H29: 858.33
A30: 2025 | B30: C | C30: Industrie | D30: Industrie manufacturière | E30: 20-24 | F30: 20991 | G30: 32708 | H30: 5649.2475
A31: 2025 | B31: C | C31: Industrie | D31: Industrie manufacturière | E31: 25-29 | F31: 15983 | G31: 24787 | H31: 4924.505
A32: 2025 | B32: C | C32: Industrie | D32: Industrie manufacturière | E32: 30-34 | F32: 11812 | G32: 18315 | H32: 3746.145
A33: 2025 | B33: C | C33: Industrie | D33: Industrie manufacturière | E33: 35-39 | F33: 9658 | G33: 14750 | H33: 3133.7
A34: 2025 | B34: C | C34: Industrie | D34: Industrie manufacturière | E34: 40-44 | F34: 8268 | G34: 12566 | H34: 2720.735
A35: 2025 | B35: C | C35: Industrie | D35: Industrie manufacturière | E35: 45-49 | F35: 6615 | G35: 10203 | H35: 2245.91
A36: 2025 | B36: C | C36: Industrie | D36: Industrie manufacturière | E36: 50-54 | F36: 5213 | G36: 7847 | H36: 1804.2175
A37: 2025 | B37: C | C37: Industrie | D37: Industrie manufacturière | E37: 55-59 | F37: 3555 | G37: 5275 | H37: 1223.2025
A38: 2025 | B38: C | C38: Industrie | D38: Industrie manufacturière | E38: 60-64 | F38: 1631 | G38: 2103 | H38: 480.565
A39: 2025 | B39: C | C39: Industrie | D39: Industrie manufacturière | E39: 65+ | F39: 888 | G39: 1026 | H39: 195.625
B40: Totaal C | C40: Industrie | D40: Industrie manufacturière | F40: =SUBTOTAL(9,F28:F39) -> 89892 | G40: =SUBTOTAL(9,G28:G39) -> 137308 | H40: =SUBTOTAL(9,H28:H39) -> 26987.147
A41: 2025 | B41: D | C41: Productie en distributie van elektriciteit, gas, stoom en gekoelde lucht | D41: Production et distribution d'électricité, de gaz, de vapeur et d'air conditionné | E41: -18 | F41: 2 | G41: 2 | H41: 0.0075
A42: 2025 | B42: D | C42: Productie en distributie van elektriciteit, gas, stoom en gekoelde lucht | D42: Production et distribution d'électricité, de gaz, de vapeur et d'air conditionné | E42: 18-19 | F42: 2 | G42: 2 | H42: 0.2
A43: 2025 | B43: D | C43: Productie en distributie van elektriciteit, gas, stoom en gekoelde lucht | D43: Production et distribution d'électricité, de gaz, de vapeur et d'air conditionné | E43: 20-24 | F43: 27 | G43: 34 | H43: 7.27
A44: 2025 | B44: D | C44: Productie en distributie van elektriciteit, gas, stoom en gekoelde lucht | D44: Production et distribution d'électricité, de gaz, de vapeur et d'air conditionné | E44: 25-29 | F44: 54 | G44: 67 | H44: 22.7
A45: 2025 | B45: D | C45: Productie en distributie van elektriciteit, gas, stoom en gekoelde lucht | D45: Production et distribution d'électricité, de gaz, de vapeur et d'air conditionné | E45: 30-34 | F45: 34 | G45: 42 | H45: 10.5425
A46: 2025 | B46: D | C46: Productie en distributie van elektriciteit, gas, stoom en gekoelde lucht | D46: Production et distribution d'électricité, de gaz, de vapeur et d'air conditionné | E46: 35-39 | F46: 18 | G46: 26 | H46: 7.49
A47: 2025 | B47: D | C47: Productie en distributie van elektriciteit, gas, stoom en gekoelde lucht | D47: Production et distribution d'électricité, de gaz, de vapeur et d'air conditionné | E47: 40-44 | F47: 34 | G47: 41 | H47: 11.535
A48: 2025 | B48: D | C48: Productie en distributie van elektriciteit, gas, stoom en gekoelde lucht | D48: Production et distribution d'électricité, de gaz, de vapeur et d'air conditionné | E48: 45-49 | F48: 15 | G48: 16 | H48: 6.04
A49: 2025 | B49: D | C49: Productie en distributie van elektriciteit, gas, stoom en gekoelde lucht | D49: Production et distribution d'électricité, de gaz, de vapeur et d'air conditionné | E49: 50-54 | F49: 16 | G49: 18 | H49: 6.1575
A50: 2025 | B50: D | C50: Productie en distributie van elektriciteit, gas, stoom en gekoelde lucht | D50: Production et distribution d'électricité, de gaz, de vapeur et d'air conditionné | E50: 55-59 | F50: 6 | G50: 10 | H50: 2.92
A51: 2025 | B51: D | C51: Productie en distributie van elektriciteit, gas, stoom en gekoelde lucht | D51: Production et distribution d'électricité, de gaz, de vapeur et d'air conditionné | E51: 60-64 | F51: 3 | G51: 4 | H51: 0.6375
A52: 2025 | B52: D | C52: Productie en distributie van elektriciteit, gas, stoom en gekoelde lucht | D52: Production et distribution d'électricité, de gaz, de vapeur et d'air conditionné | E52: 65+ | F52: 8 | G52: 9 | H52: 1.1475
B53: Totaal D | C53: Productie en distributie van elektriciteit, gas, stoom en gekoelde lucht | D53: Production et distribution d'électricité, de gaz, de vapeur et d'air conditionné | F53: =SUBTOTAL(9,F41:F52) -> 219 | G53: =SUBTOTAL(9,G41:G52) -> 271 | H53: =SUBTOTAL(9,H41:H52) -> 76.6475
A54: 2025 | B54: E | C54: Distributie van water; afval- en afvalwaterbeheer en sanering | D54: Production et distribution d'eau; assainissement, gestion des déchets et dépollution | E54: -18 | F54: 15 | G54: 15 | H54: 0.26
A55: 2025 | B55: E | C55: Distributie van water; afval- en afvalwaterbeheer en sanering | D55: Production et distribution d'eau; assainissement, gestion des déchets et dépollution | E55: 18-19 | F55: 366 | G55: 544 | H55: 59.6
A56: 2025 | B56: E | C56: Distributie van water; afval- en afvalwaterbeheer en sanering | D56: Production et distribution d'eau; assainissement, gestion des déchets et dépollution | E56: 20-24 | F56: 1612 | G56: 2503 | H56: 396.875
A57: 2025 | B57: E | C57: Distributie van water; afval- en afvalwaterbeheer en sanering | D57: Production et distribution d'eau; assainissement, gestion des déchets et dépollution | E57: 25-29 | F57: 1278 | G57: 2025 | H57: 368.0875
A58: 2025 | B58: E | C58: Distributie van water; afval- en afvalwaterbeheer en sanering | D58: Production et distribution d'eau; assainissement, gestion des déchets et dépollution | E58: 30-34 | F58: 1030 | G58: 1645 | H58: 308.7225
A59: 2025 | B59: E | C59: Distributie van water; afval- en afvalwaterbeheer en sanering | D59: Production et distribution d'eau; assainissement, gestion des déchets et dépollution | E59: 35-39 | F59: 919 | G59: 1446 | H59: 281.205
A60: 2025 | B60: E | C60: Distributie van water; afval- en afvalwaterbeheer en sanering | D60: Production et distribution d'eau; assainissement, gestion des déchets et dépollution | E60: 40-44 | F60: 786 | G60: 1176 | H60: 249.335
A61: 2025 | B61: E | C61: Distributie van water; afval- en afvalwaterbeheer en sanering | D61: Production et distribution d'eau; assainissement, gestion des déchets et dépollution | E61: 45-49 | F61: 683 | G61: 1023 | H61: 220.1075
A62: 2025 | B62: E | C62: Distributie van water; afval- en afvalwaterbeheer en sanering | D62: Production et distribution d'eau; assainissement, gestion des déchets et dépollution | E62: 50-54 | F62: 510 | G62: 781 | H62: 178.8775
A63: 2025 | B63: E | C63: Distributie van water; afval- en afvalwaterbeheer en sanering | D63: Production et distribution d'eau; assainissement, gestion des déchets et dépollution | E63: 55-59 | F63: 373 | G63: 554 | H63: 142.8925
A64: 2025 | B64: E | C64: Distributie van water; afval- en afvalwaterbeheer en sanering | D64: Production et distribution d'eau; assainissement, gestion des déchets et dépollution | E64: 60-64 | F64: 217 | G64: 270 | H64: 70.3875
A65: 2025 | B65: E | C65: Distributie van water; afval- en afvalwaterbeheer en sanering | D65: Production et distribution d'eau; assainissement, gestion des déchets et dépollution | E65: 65+ | F65: 133 | G65: 159 | H65: 38.52
B66: Totaal E | C66: Distributie van water; afval- en afvalwaterbeheer en sanering | D66: Production et distribution d'eau; assainissement, gestion des déchets et dépollution | F66: =SUBTOTAL(9,F54:F65) -> 7922 | G66: =SUBTOTAL(9,G54:G65) -> 12141 | H66: =SUBTOTAL(9,H54:H65) -> 2314.87
A67: 2025 | B67: F | C67: Bouwnijverheid | D67: Construction | E67: -18 | F67: 20 | G67: 20 | H67: 0.4925
A68: 2025 | B68: F | C68: Bouwnijverheid | D68: Construction | E68: 18-19 | F68: 668 | G68: 899 | H68: 126.65
A69: 2025 | B69: F | C69: Bouwnijverheid | D69: Construction | E69: 20-24 | F69: 3189 | G69: 4665 | H69: 779.14
A70: 2025 | B70: F | C70: Bouwnijverheid | D70: Construction | E70: 25-29 | F70: 2642 | G70: 3829 | H70: 671.6375
A71: 2025 | B71: F | C71: Bouwnijverheid | D71: Construction | E71: 30-34 | F71: 2162 | G71: 3119 | H71: 556.965
A72: 2025 | B72: F | C72: Bouwnijverheid | D72: Construction | E72: 35-39 | F72: 1885 | G72: 2678 | H72: 477.7525
A73: 2025 | B73: F | C73: Bouwnijverheid | D73: Construction | E73: 40-44 | F73: 1657 | G73: 2313 | H73: 443.085
A74: 2025 | B74: F | C74: Bouwnijverheid | D74: Construction | E74: 45-49 | F74: 1274 | G74: 1759 | H74: 348.62
A75: 2025 | B75: F | C75: Bouwnijverheid | D75: Construction | E75: 50-54 | F75: 955 | G75: 1300 | H75: 260.28
A76: 2025 | B76: F | C76: Bouwnijverheid | D76: Construction | E76: 55-59 | F76: 680 | G76: 926 | H76: 187.43
A77: 2025 | B77: F | C77: Bouwnijverheid | D77: Construction | E77: 60-64 | F77: 317 | G77: 407 | H77: 69.72
A78: 2025 | B78: F | C78: Bouwnijverheid | D78: Construction | E78: 65+ | F78: 264 | G78: 285 | H78: 48.4175
B79: Totaal F | C79: Bouwnijverheid | D79: Construction | F79: =SUBTOTAL(9,F67:F78) -> 15713 | G79: =SUBTOTAL(9,G67:G78) -> 22200 | H79: =SUBTOTAL(9,H67:H78) -> 3970.19
A80: 2025 | B80: G | C80: Groot- en detailhandel | D80: Commerce | E80: -18 | F80: 1080 | G80: 1108 | H80: 14.7175
A81: 2025 | B81: G | C81: Groot- en detailhandel | D81: Commerce | E81: 18-19 | F81: 5528 | G81: 7549 | H81: 603.8125
A82: 2025 | B82: G | C82: Groot- en detailhandel | D82: Commerce | E82: 20-24 | F82: 22681 | G82: 33826 | H82: 4242.1875
A83: 2025 | B83: G | C83: Groot- en detailhandel | D83: Commerce | E83: 25-29 | F83: 15470 | G83: 23313 | H83: 3508.1975
A84: 2025 | B84: G | C84: Groot- en detailhandel | D84: Commerce | E84: 30-34 | F84: 8983 | G84: 13720 | H84: 2231.115
A85: 2025 | B85: G | C85: Groot- en detailhandel | D85: Commerce | E85: 35-39 | F85: 6955 | G85: 10564 | H85: 1765.665
A86: 2025 | B86: G | C86: Groot- en detailhandel | D86: Commerce | E86: 40-44 | F86: 5548 | G86: 8471 | H86: 1450.4
A87: 2025 | B87: G | C87: Groot- en detailhandel | D87: Commerce | E87: 45-49 | F87: 4566 | G87: 7042 | H87: 1204.8975
A88: 2025 | B88: G | C88: Groot- en detailhandel | D88: Commerce | E88: 50-54 | F88: 3724 | G88: 5822 | H88: 972.3925
A89: 2025 | B89: G | C89: Groot- en detailhandel | D89: Commerce | E89: 55-59 | F89: 3072 | G89: 4819 | H89: 814.975
A90: 2025 | B90: G | C90: Groot- en detailhandel | D90: Commerce | E90: 60-64 | F90: 1609 | G90: 2319 | H90: 363.0975
A91: 2025 | B91: G | C91: Groot- en detailhandel | D91: Commerce | E91: 65+ | F91: 859 | G91: 1048 | H91: 131.2775
B92: Totaal G | C92: Groot- en detailhandel | D92: Commerce | F92: =SUBTOTAL(9,F80:F91) -> 80075 | G92: =SUBTOTAL(9,G80:G91) -> 119601 | H92: =SUBTOTAL(9,H80:H91) -> 17302.735
A93: 2025 | B93: H | C93: Vervoer en opslag | D93: Transports et entreposage | E93: -18 | F93: 97 | G93: 100 | H93: 1.9475
A94: 2025 | B94: H | C94: Vervoer en opslag | D94: Transports et entreposage | E94: 18-19 | F94: 2773 | G94: 3907 | H94: 383.71
A95: 2025 | B95: H | C95: Vervoer en opslag | D95: Transports et entreposage | E95: 20-24 | F95: 13999 | G95: 20789 | H95: 3128.68
A96: 2025 | B96: H | C96: Vervoer en opslag | D96: Transports et entreposage | E96: 25-29 | F96: 11079 | G96: 16783 | H96: 3053.2025
A97: 2025 | B97: H | C97: Vervoer en opslag | D97: Transports et entreposage | E97: 30-34 | F97: 7638 | G97: 11761 | H97: 2191.12
A98: 2025 | B98: H | C98: Vervoer en opslag | D98: Transports et entreposage | E98: 35-39 | F98: 5920 | G98: 9115 | H98: 1769.0425
A99: 2025 | B99: H | C99: Vervoer en opslag | D99: Transports et entreposage | E99: 40-44 | F99: 4739 | G99: 7283 | H99: 1466.3475
A100: 2025 | B100: H | C100: Vervoer en opslag | D100: Transports et entreposage | E100: 45-49 | F100: 3691 | G100: 5688 | H100: 1167.92
...

Sheet gesl-NACE | sexe-NACE (NACE08)
A1: Opmerking: In 2025 werd de NACE-nomenclatuur 2008 ingeruild voor de NACE-nomenclatuur 2025. Een heel aantal NACE-codes bleven overanderd, maar dat geldt zeker niet voor alle codes. In dit tabblad - en ook in de volgende tabbladen met een vermelding van NACE 25 - brengen we dan ook de verdeling van de gegevens naar NACE- sectie volgens de NACE 25 nomenclatuur. Voor 2025 is dat vanzelfsprekend, maar ook voor de gegevens uit 2024 geven we hier de verdeling volgens NACE 25. We creëren als het ware een fictieve situatie waarin de nieuwe NACE-nomenclatuur 2025 al van kracht was in 2024. Dat is noodzakelijk om de gegevens uit 2025 te vergelijken met hun tegenhanger uit 2024. Deze retropolatie beperkt zich tot het jaar 2024. Voor de voorgaande kwartalen voorzien we enkel een verdeling naar de destijds van toepassing zijnde NACE-nomenclatuur 2008. Die gegevens vindt u onder de tabbladen met vermelding NACE 08. Remarque: En 2025, la nomenclature NACE 2008 a été remplacée par la nomenclature NACE 2025. Un certain nombre de codes NACE sont demeurés inchangés, mais cette stabilité ne s’applique pas à l’ensemble des codes. Dès lors, le présent onglet - et aussi les onglets suivants avec une mention du NACE 25 - présente la répartition des données par section NACE selon la nomenclature NACE 2025. Pour l’année 2025, cette approche s’impose naturellement ; toutefois, pour les données relatives à l’année 2024, la répartition est également fournie sur la base de la nomenclature NACE 2025. Il s’agit ainsi de créer une situation fictive dans laquelle la nouvelle nomenclature NACE 2025 aurait déjà été d’application en 2024. Cette démarche est indispensable afin de permettre une comparaison cohérente entre les données de 2025 et celles de 2024. Pour les années précédentes, nous ne prévoyons qu’une répartition selon la nomenclature NACE 2008 alors en vigueur. Vous trouverez ces données sous les onglets portant la mention NACE 08.
A2: Jaar Année | B2: Geslacht-Sexe | C2: NACE SECTIE gebruiker SECTION NACE utilisateur | D2: sectie NACE | E2: section NACE | F2: Tewerkgestelde uitzendwerknemers INTN Travailleurs intérimaires occupés INTN | G2: uitzendopdrachten INTN missions intérimaires INTN | H2: VTE INTN ETP INTN
A3: 2024 | B3: Man - Homme | C3: A | D3: Landbouw, bosbouw en visserij | E3: Agriculture, sylviculture et pêche | F3: 1131 | G3: 1837 | H3: 246.315
A4: 2024 | B4: Man - Homme | C4: B | D4: Winning van delfstoffen | E4: Industries extractives | F4: 126 | G4: 167 | H4: 41.4425
A5: 2024 | B5: Man - Homme | C5: C | D5: Industrie | E5: Industries manufacturières | F5: 68566 | G5: 109290 | H5: 20997.922
A6: 2024 | B6: Man - Homme | C6: D | D6: Productie en distributie van elektriciteit, gas, stoom en gekoelde lucht | E6: Production et distribution d'électricité, de gaz, de vapeur et d'air conditionné | F6: 116 | G6: 161 | H6: 38.7725
A7: 2024 | B7: Man - Homme | C7: E | D7: Distributie van water; afval- en afvalwaterbeheer en sanering | E7: Production et distribution d'eau; assainissement, gestion des déchets et dépollution | F7: 7416 | G7: 11792 | H7: 2170.4
A8: 2024 | B8: Man - Homme | C8: F | D8: bouwnijverheid | E8: Construction | F8: 15493 | G8: 22415 | H8: 3895.41
A9: 2024 | B9: Man - Homme | C9: G | D9: Groot- en detailhandel; reparatie van auto's en motorfietsen | E9: Commerce; réparation d'automobiles et de motocycles | F9: 47411 | G9: 77658 | H9: 11292.063
A10: 2024 | B10: Man - Homme | C10: H | D10: Vervoer en opslag | E10: Transports et entreposage | F10: 47056 | G10: 73732 | H10: 12584.535
A11: 2024 | B11: Man - Homme | C11: I | D11: Verschaffen van accommodatie en maaltijden | E11: Hébergement et restauration | F11: 12050 | G11: 23698 | H11: 1557.315
A12: 2024 | B12: Man - Homme | C12: J | D12: Informatie en communicatie | E12: Information et communication | F12: 3152 | G12: 5095 | H12: 751.48
A13: 2024 | B13: Man - Homme | C13: K | D13: Financiële activiteiten en verzekeringen | E13: Activités financières et 'assurance | F13: 882 | G13: 1200 | H13: 266.0775
A14: 2024 | B14: Man - Homme | C14: L | D14: Exploitatie van en handel in onroerend goed | E14: Activités immobilières | F14: 418 | G14: 626 | H14: 81.325
... A24: 2024 | B24: Man - Homme | C24: \ | D24: Onbekend | E24: Inconnu | F24: 1930 | G24: 3751 | H24: 340.6375
B25: Totaal Man - Homme | F25: =SUBTOTAL(9,F3:F24) -> 243621 | G25: =SUBTOTAL(9,G3:G24) -> 392236 | H25: =SUBTOTAL(9,H3:H24) -> 61915.835
A26: 2024 | B26: Vrouw - Femme | C26: A | D26: Landbouw, bosbouw en visserij | E26: Agriculture, sylviculture et pêche | F26: 640 | G26: 860 | H26: 137.7275
A27: 2024 | B27: Vrouw - Femme | C27: B | D27: Winning van delfstoffen | E27: Industries extractives | F27: 30 | G27: 37 | H27: 5.4775
A28: 2024 | B28: Vrouw - Femme | C28: C | D28: Industrie | E28: Industries manufacturières | F28: 21709 | G28: 31298 | H28: 5890.445
A29: 2024 | B29: Vrouw - Femme | C29: D | D29: Productie en distributie van elektriciteit, gas, stoom en gekoelde lucht | E29: Production et distribution d'électricité, de gaz, de vapeur et d'air conditionné | F29: 137 | G29: 167 | H29: 59.2725
A30: 2024 | B30: Vrouw - Femme | C30: E | D30: Distributie van water; afval- en afvalwaterbeheer en sanering | E30: Production et distribution d'eau; assainissement, gestion des déchets et dépollution | F30: 764 | G30: 992 | H30: 189.2875
A31: 2024 | B31: Vrouw - Femme | C31: F | D31: bouwnijverheid | E31: Construction | F31: 1411 | G31: 1797 | H31: 330.2075
A32: 2024 | B32: Vrouw - Femme | C32: G | D32: Groot- en detailhandel; reparatie van auto's en motorfietsen | E32: Commerce; réparation d'automobiles et de motocycles | F32: 37390 | G32: 51603 | H32: 6679.7925
A33: 2024 | B33: Vrouw - Femme | C33: H | D33: Vervoer en opslag | E33: Transports et entreposage | F33: 10303 | G33: 13734 | H33: 2571.8825
A34: 2024 | B34: Vrouw - Femme | C34: I | D34: Verschaffen van accommodatie en maaltijden | E34: Hébergement et restauration | F34: 12598 | G34: 19926 | H34: 1279.465
A35: 2024 | B35: Vrouw - Femme | C35: J | D35: Informatie en communicatie | E35: Information et communication | F35: 2438 | G35: 3628 | H35: 527.1275
A36: 2024 | B36: Vrouw - Femme | C36: K | D36: Financiële activiteiten en verzekeringen | E36: Activités financières et 'assurance | F36: 1287 | G36: 1577 | H36: 392.0625
A37: 2024 | B37: Vrouw - Femme | C37: L | D37: Exploitatie van en handel in onroerend goed | E37: Activités immobilières | F37: 510 | G37: 722 | H37: 104.6
... A47: 2024 | B47: Vrouw - Femme | C47: \ | D47: Onbekend | E47: Inconnu | F47: 2427 | G47: 3596 | H47: 473.2425
B48: Totaal Vrouw - Femme | F48: =SUBTOTAL(9,F26:F47) -> 133584 | G48: =SUBTOTAL(9,G26:G47) -> 199937 | H48: =SUBTOTAL(9,H26:H47) -> 25602.173
A49: Totaal 2024 | F49: =SUBTOTAL(9,F3:F47) -> 377205 | G49: =SUM(G3:G48)/2 -> 592173 | H49: =SUBTOTAL(9,H3:H47) -> 87518.007
A50: 2023 | B50: Man - Homme | C50: A | D50: Landbouw, bosbouw en visserij | E50: Agriculture, sylviculture et pêche | F50: 1236 | G50: 1941 | H50: 264.6825
A51: 2023 | B51: Man - Homme | C51: B | D51: Winning van delfstoffen | E51: Industries extractives | F51: 151 | G51: 207 | H51: 51.0575
A52: 2023 | B52: Man - Homme | C52: C | D52: Industrie | E52: Industries manufacturières | F52: 71136 | G52: 113522 | H52: 21825.942
A53: 2023 | B53: Man - Homme | C53: D | D53: Productie en distributie van elektriciteit, gas, stoom en gekoelde lucht | E53: Production et distribution d'électricité, de gaz, de vapeur et d'air conditionné | F53: 156 | G53: 205 | H53: 38.7825
A54: 2023 | B54: Man - Homme | C54: E | D54: Distributie van water; afval- en afvalwaterbeheer en sanering | E54: Production et distribution d'eau; assainissement, gestion des déchets et dépollution | F54: 6869 | G54: 10987 | H54: 2021.1075
A55: 2023 | B55: Man - Homme | C55: F | D55: bouwnijverheid | E55: Construction | F55: 17641 | G55: 26416 | H55: 4513.4675
A56: 2023 | B56: Man - Homme | C56: G | D56: Groot- en detailhandel; reparatie van auto's en motorfietsen | E56: Commerce; réparation d'automobiles et de motocycles | F56: 46756 | G56: 77664 | H56: 11171.497
A57: 2023 | B57: Man - Homme | C57: H | D57: Vervoer en opslag | E57: Transports et entreposage | F57: 46110 | G57: 71096 | H57: 12796.07
A58: 2023 | B58: Man - Homme | C58: I | D58: Verschaffen van accommodatie en maaltijden | E58: Hébergement et restauration | F58: 11600 | G58: 22901 | H58: 1517.4975
A59: 2023 | B59: Man - Homme | C59: J | D59: Informatie en communicatie | E59: Information et communication | F59: 2914 | G59: 4675 | H59: 676.41
A60: 2023 | B60: Man - Homme | C60: K | D60: Financiële activiteiten en verzekeringen | E60: Activités financières et 'assurance | F60: 1018 | G60: 1414 | H60: 310.325
A61: 2023 | B61: Man - Homme | C61: L | D61: Exploitatie van en handel in onroerend goed | E61: Activités immobilières | F61: 421 | G61: 589 | H61: 84.25
... A71: 2023 | B71: Man - Homme | C71: / | D71: Onbekend | E71: Inconnu | F71: 1987 | G71: 4219 | H71: 382.4425
B72: Totaal Man - Homme | F72: =SUBTOTAL(9,F50:F71) -> 247121 | G72: =SUBTOTAL(9,G50:G71) -> 398826 | H72: =SUBTOTAL(9,H50:H71) -> 63618.545
A73: 2023 | B73: Vrouw - Femme | C73: A | D73: Landbouw, bosbouw en visserij | E73: Agriculture, sylviculture et pêche | F73: 590 | G73: 896 | H73: 126.2625
A74: 2023 | B74: Vrouw - Femme | C74: B | D74: Winning van delfstoffen | E74: Industries extractives | F74: 13 | G74: 19 | H74: 3.2475
A75: 2023 | B75: Vrouw - Femme | C75: C | D75: Industrie | E75: Industries manufacturières | F75: 23889 | G75: 34630 | H75: 6484.9025
A76: 2023 | B76: Vrouw - Femme | C76: D | D76: Productie en distributie van elektriciteit, gas, stoom en gekoelde lucht | E76: Production et distribution d'électricité, de gaz, de vapeur et d'air conditionné | F76: 149 | G76: 179 | H76: 59.775
A77: 2023 | B77: Vrouw - Femme | C77: E | D77: Distributie van water; afval- en afvalwaterbeheer en sanering | E77: Production et distribution d'eau; assainissement, gestion des déchets et dépollution | F77: 800 | G77: 1069 | H77: 206.605
A78: 2023 | B78: Vrouw - Femme | C78: F | D78: bouwnijverheid | E78: Construction | F78: 1687 | G78: 2173 | H78: 393.3175
A79: 2023 | B79: Vrouw - Femme | C79: G | D79: Groot- en detailhandel; reparatie van auto's en motorfietsen | E79: Commerce; réparation d'automobiles et de motocycles | F79: 38522 | G79: 53966 | H79: 6919.1675
A80: 2023 | B80: Vrouw - Femme | C80: H | D80: Vervoer en opslag | E80: Transports et entreposage | F80: 12195 | G80: 16223 | H80: 3135.0075
A81: 2023 | B81: Vrouw - Femme | C81: I | D81: Verschaffen van accommodatie en maaltijden | E81: Hébergement et restauration | F81: 12771 | G81: 20427 | H81: 1291.085
A82: 2023 | B82: Vrouw - Femme | C82: J | D82: Informatie en communicatie | E82: Information et communication | F82: 2426 | G82: 3611 | H82: 506.4375
A83: 2023 | B83: Vrouw - Femme | C83: K | D83: Financiële activiteiten en verzekeringen | E83: Activités financières et 'assurance | F83: 1510 | G83: 1891 | H83: 468.25
A84: 2023 | B84: Vrouw - Femme | C84: L | D84: Exploitatie van en handel in onroerend goed | E84: Activités immobilières | F84: 631 | G84: 925 | H84: 126.8475
... A94: 2023 | B94: Vrouw - Femme | C94: / | D94: Onbekend | E94: Inconnu | F94: 3039 | G94: 5425 | H94: 570.1225
B95: Totaal Vrouw - Femme | F95: =SUBTOTAL(9,F73:F94) -> 142719 | G95: =SUBTOTAL(9,G73:G94) -> 214815 | H95: =SUBTOTAL(9,H73:H94) -> 27847.623
A96: Totaal 2023 | F96: =SUBTOTAL(9,F50:F94) -> 389840 | G96: =SUBTOTAL(9,G50:G94) -> 613641 | H96: =SUBTOTAL(9,H50:H94) -> 91466.167

Sheet gesl-NACE | sexe-NACE (NACE25)
A1: Opmerking: In 2025 werd de NACE-nomenclatuur 2008 ingeruild voor de NACE-nomenclatuur 2025. Een heel aantal NACE-codes bleven overanderd, maar dat geldt zeker niet voor alle codes. In dit tabblad - en ook in de volgende tabbladen met een vermelding van NACE 25 - brengen we dan ook de verdeling van de gegevens naar NACE- sectie volgens de NACE 25 nomenclatuur. Voor 2025 is dat vanzelfsprekend, maar ook voor de gegevens uit 2024 geven we hier de verdeling volgens NACE 25. We creëren als het ware een fictieve situatie waarin de nieuwe NACE-nomenclatuur 2025 al van kracht was in 2024. Dat is noodzakelijk om de gegevens uit 2025 te vergelijken met hun tegenhanger uit 2024. Deze retropolatie beperkt zich tot het jaar 2024. Voor de voorgaande kwartalen voorzien we enkel een verdeling naar de destijds van toepassing zijnde NACE-nomenclatuur 2008. Die gegevens vindt u onder de tabbladen met vermelding NACE 08. Remarque: En 2025, la nomenclature NACE 2008 a été remplacée par la nomenclature NACE 2025. Un certain nombre de codes NACE sont demeurés inchangés, mais cette stabilité ne s’applique pas à l’ensemble des codes. Dès lors, le présent onglet - et aussi les onglets suivants avec une mention du NACE 25 - présente la répartition des données par section NACE selon la nomenclature NACE 2025. Pour l’année 2025, cette approche s’impose naturellement ; toutefois, pour les données relatives à l’année 2024, la répartition est également fournie sur la base de la nomenclature NACE 2025. Il s’agit ainsi de créer une situation fictive dans laquelle la nouvelle nomenclature NACE 2025 aurait déjà été d’application en 2024. Cette démarche est indispensable afin de permettre une comparaison cohérente entre les données de 2025 et celles de 2024. Pour les années précédentes, nous ne prévoyons qu’une répartition selon la nomenclature NACE 2008 alors en vigueur. Vous trouverez ces données sous les onglets portant la mention NACE 08.
A2: Jaar Année | B2: Geslacht-Sexe | C2: NACE SECTIE gebruiker SECTION NACE utilisateur | D2: sectie NACE | E2: section NACE | F2: Tewerkgestelde uitzendwerknemers INTN Travailleurs intérimaires occupés INTN | G2: uitzendopdrachten INTN missions intérimaires INTN | H2: VTE INTN ETP INTN
A3: 2025 | B3: Man - Homme | C3: A | D3: Landbouw, bosbouw en visserij | E3: Agriculture, sylviculture et pêche | F3: 1207 | G3: 1837 | H3: 243.7725
A4: 2025 | B4: Man - Homme | C4: B | D4: Winning van delfstoffen | E4: Industries extractives | F4: 135 | G4: 174 | H4: 47.08
A5: 2025 | B5: Man - Homme | C5: C | D5: Industrie | E5: Industrie manufacturière | F5: 68933 | G5: 107694 | H5: 21406
A6: 2025 | B6: Man - Homme | C6: D | D6: Productie en distributie van elektriciteit, gas, stoom en gekoelde lucht | E6: Production et distribution d'électricité, de gaz, de vapeur et d'air conditionné | F6: 115 | G6: 148 | H6: 37.64
A7: 2025 | B7: Man - Homme | C7: E | D7: Distributie van water; afval- en afvalwaterbeheer en sanering | E7: Production et distribution d'eau; assainissement, gestion des déchets et dépollution | F7: 7205 | G7: 11208 | H7: 2129.25
A8: 2025 | B8: Man - Homme | C8: F | D8: Bouwnijverheid | E8: Construction | F8: 14508 | G8: 20720 | H8: 3683.925
A9: 2025 | B9: Man - Homme | C9: G | D9: Groot- en detailhandel | E9: Commerce | F9: 44837 | G9: 71836 | H9: 11011.112
A10: 2025 | B10: Man - Homme | C10: H | D10: Vervoer en opslag | E10: Transports et entreposage | F10: 46776 | G10: 72182 | H10: 12753.38
A11: 2025 | B11: Man - Homme | C11: I | D11: Verschaffen van accommodatie en maaltijden | E11: Hébergement et restauration | F11: 11748 | G11: 22995 | H11: 1534.2225
A12: 2025 | B12: Man - Homme | C12: J | D12: Activiteiten van uitgeverijen, omroepactiviteiten en productie en distributie van inhoud | E12: Édition, diffusion et activités de production et de distribution de contenu | F12: 1686 | G12: 2986 | H12: 398.2025
A13: 2025 | B13: Man - Homme | C13: K | D13: Telecommunicatie, computerprogrammering, consultancy, informatica-infrastructuur en andere activiteiten op het gebied van informatiediensten | E13: Télécommunications, programmation informatique, conseil, infrastructure informatique et autres activités de service d'informa | F13: 1016 | G13: 1415 | H13: 312.385
A14: 2025 | B14: Man - Homme | C14: L | D14: Financiële activiteiten en verzekeringen | E14: Activités financières et d'assurance | F14: 818 | G14: 1109 | H14: 252.7325
... A24: 2025 | B24: Man - Homme | C24: V | D24: Activiteiten van extraterritoriale organisaties en instanties | E24: Activités des organisations et organismes extraterritoriaux | F24: 599 | G24: 638 | H24: 183.39
A25: 2025 | B25: Man - Homme | C25: \ | F25: 1699 | G25: 3349 | H25: 293.6525
B26: Totaal Man - Homme | F26: =SUBTOTAL(9,F3:F25) -> 239447 | G26: =SUBTOTAL(9,G3:G25) -> 378987 | H26: =SUBTOTAL(9,H3:H25) -> 61960.158
A27: 2025 | B27: Vrouw - Femme | C27: A | D27: Landbouw, bosbouw en visserij | E27: Agriculture, sylviculture et pêche | F27: 632 | G27: 863 | H27: 147.3675
A28: 2025 | B28: Vrouw - Femme | C28: B | D28: Winning van delfstoffen | E28: Industries extractives | F28: 30 | G28: 34 | H28: 9.2075
A29: 2025 | B29: Vrouw - Femme | C29: C | D29: Industrie | E29: Industrie manufacturière | F29: 20959 | G29: 29614 | H29: 5581.1475
A30: 2025 | B30: Vrouw - Femme | C30: D | D30: Productie en distributie van elektriciteit, gas, stoom en gekoelde lucht | E30: Production et distribution d'électricité, de gaz, de vapeur et d'air conditionné | F30: 104 | G30: 123 | H30: 39.0075
A31: 2025 | B31: Vrouw - Femme | C31: E | D31: Distributie van water; afval- en afvalwaterbeheer en sanering | E31: Production et distribution d'eau; assainissement, gestion des déchets et dépollution | F31: 717 | G31: 933 | H31: 185.62
A32: 2025 | B32: Vrouw - Femme | C32: F | D32: Bouwnijverheid | E32: Construction | F32: 1205 | G32: 1480 | H32: 286.265
A33: 2025 | B33: Vrouw - Femme | C33: G | D33: Groot- en detailhandel | E33: Commerce | F33: 35238 | G33: 47765 | H33: 6291.6225
A34: 2025 | B34: Vrouw - Femme | C34: H | D34: Vervoer en opslag | E34: Transports et entreposage | F34: 9853 | G34: 12910 | H34: 2452.8075
A35: 2025 | B35: Vrouw - Femme | C35: I | D35: Verschaffen van accommodatie en maaltijden | E35: Hébergement et restauration | F35: 12496 | G35: 19420 | H35: 1231.5875
A36: 2025 | B36: Vrouw - Femme | C36: J | D36: Activiteiten van uitgeverijen, omroepactiviteiten en productie en distributie van inhoud | E36: Édition, diffusion et activités de production et de distribution de contenu | F36: 1488 | G36: 2384 | H36: 323.555
A37: 2025 | B37: Vrouw - Femme | C37: K | D37: Telecommunicatie, computerprogrammering, consultancy, informatica-infrastructuur en andere activiteiten op het gebied van informatiediensten | E37: Télécommunications, programmation informatique, conseil, infrastructure informatique et autres activités de service d'informa | F37: 566 | G37: 751 | H37: 149.665
A38: 2025 | B38: Vrouw - Femme | C38: L | D38: Financiële activiteiten en verzekeringen | E38: Activités financières et d'assurance | F38: 1081 | G38: 1310 | H38: 326.2725
... A48: 2025 | B48: Vrouw - Femme | C48: V | D48: Activiteiten van extraterritoriale organisaties en instanties | E48: Activités des organisations et organismes extraterritoriaux | F48: 1079 | G48: 1119 | H48: 324.2225
A49: 2025 | B49: Vrouw - Femme | C49: \ | F49: 2298 | G49: 3265 | H49: 442.8875
B50: Totaal Vrouw - Femme | F50: =SUBTOTAL(9,F27:F49) -> 127045 | G50: =SUBTOTAL(9,G27:G49) -> 185929 | H50: =SUBTOTAL(9,H27:H49) -> 24028.195
A51: Totaal 2025 | F51: =SUBTOTAL(9,F3:F49) -> 366492 | G51: =SUBTOTAL(9,G3:G49) -> 564916 | H51: =SUBTOTAL(9,H3:H49) -> 85988.353
A52: 2024 | B52: Man - Homme | C52: A | D52: Landbouw, bosbouw en visserij | E52: Agriculture, sylviculture et pêche | F52: 1131 | G52: 1837 | H52: 246.315
A53: 2024 | B53: Man - Homme | C53: B | D53: Winning van delfstoffen | E53: Industries extractives | F53: 126 | G53: 167 | H53: 41.4425
A54: 2024 | B54: Man - Homme | C54: C | D54: Industrie | E54: Industrie manufacturière | F54: 68566 | G54: 109290 | H54: 20997.922
A55: 2024 | B55: Man - Homme | C55: D | D55: Productie en distributie van elektriciteit, gas, stoom en gekoelde lucht | E55: Production et distribution d'électricité, de gaz, de vapeur et d'air conditionné | F55: 116 | G55: 161 | H55: 38.7725
A56: 2024 | B56: Man - Homme | C56: E | D56: Distributie van water; afval- en afvalwaterbeheer en sanering | E56: Production et distribution d'eau; assainissement, gestion des déchets et dépollution | F56: 7416 | G56: 11792 | H56: 2170.4
A57: 2024 | B57: Man - Homme | C57: F | D57: Bouwnijverheid | E57: Construction | F57: 15346 | G57: 22167 | H57: 3866.875
A58: 2024 | B58: Man - Homme | C58: G | D58: Groot- en detailhandel | E58: Commerce | F58: 45242 | G58: 74408 | H58: 10774.382
A59: 2024 | B59: Man - Homme | C59: H | D59: Vervoer en opslag | E59: Transports et entreposage | F59: 47056 | G59: 73732 | H59: 12584.535
A60: 2024 | B60: Man - Homme | C60: I | D60: Verschaffen van accommodatie en maaltijden | E60: Hébergement et restauration | F60: 12050 | G60: 23698 | H60: 1557.315
A61: 2024 | B61: Man - Homme | C61: J | D61: Activiteiten van uitgeverijen, omroepactiviteiten en productie en distributie van inhoud | E61: Édition, diffusion et activités de production et de distribution de contenu | F61: 1805 | G61: 3127 | H61: 419.295
A62: 2024 | B62: Man - Homme | C62: K | D62: Telecommunicatie, computerprogrammering, consultancy, informatica-infrastructuur en andere activiteiten op het gebied van informatiediensten | E62: Télécommunications, programmation informatique, conseil, infrastructure informatique et autres activités de service d'informa | F62: 1347 | G62: 1968 | H62: 332.185
A63: 2024 | B63: Man - Homme | C63: L | D63: Financiële activiteiten en verzekeringen | E63: Activités financières et d'assurance | F63: 882 | G63: 1200 | H63: 266.0775
... A73: 2024 | B73: Man - Homme | C73: V | D73: Activiteiten van extraterritoriale organisaties en instanties | E73: Activités des organisations et organismes extraterritoriaux | F73: 608 | G73: 672 | H73: 196.0875
A74: 2024 | B74: Man - Homme | C74: \ | F74: 1930 | G74: 3751 | H74: 340.6375
B75: Totaal Man - Homme | F75: =SUBTOTAL(9,F52:F74) -> 243621 | G75: =SUBTOTAL(9,G52:G74) -> 392236 | H75: =SUBTOTAL(9,H52:H74) -> 61915.835
A76: 2024 | B76: Vrouw - Femme | C76: A | D76: Landbouw, bosbouw en visserij | E76: Agriculture, sylviculture et pêche | F76: 640 | G76: 860 | H76: 137.7275
A77: 2024 | B77: Vrouw - Femme | C77: B | D77: Winning van delfstoffen | E77: Industries extractives | F77: 30 | G77: 37 | H77: 5.4775
A78: 2024 | B78: Vrouw - Femme | C78: C | D78: Industrie | E78: Industrie manufacturière | F78: 21709 | G78: 31298 | H78: 5890.445
A79: 2024 | B79: Vrouw - Femme | C79: D | D79: Productie en distributie van elektriciteit, gas, stoom en gekoelde lucht | E79: Production et distribution d'électricité, de gaz, de vapeur et d'air conditionné | F79: 137 | G79: 167 | H79: 59.2725
A80: 2024 | B80: Vrouw - Femme | C80: E | D80: Distributie van water; afval- en afvalwaterbeheer en sanering | E80: Production et distribution d'eau; assainissement, gestion des déchets et dépollution | F80: 764 | G80: 992 | H80: 189.2875
A81: 2024 | B81: Vrouw - Femme | C81: F | D81: Bouwnijverheid | E81: Construction | F81: 1326 | G81: 1673 | H81: 313.87
A82: 2024 | B82: Vrouw - Femme | C82: G | D82: Groot- en detailhandel | E82: Commerce | F82: 37193 | G82: 51334 | H82: 6627.64
A83: 2024 | B83: Vrouw - Femme | C83: H | D83: Vervoer en opslag | E83: Transports et entreposage | F83: 10303 | G83: 13734 | H83: 2571.8825
A84: 2024 | B84: Vrouw - Femme | C84: I | D84: Verschaffen van accommodatie en maaltijden | E84: Hébergement et restauration | F84: 12597 | G84: 19925 | H84: 1279.4225
A85: 2024 | B85: Vrouw - Femme | C85: J | D85: Activiteiten van uitgeverijen, omroepactiviteiten en productie en distributie van inhoud | E85: Édition, diffusion et activités de production et de distribution de contenu | F85: 1582 | G85: 2555 | H85: 333.7325
A86: 2024 | B86: Vrouw - Femme | C86: K | D86: Telecommunicatie, computerprogrammering, consultancy, informatica-infrastructuur en andere activiteiten op het gebied van informatiediensten | E86: Télécommunications, programmation informatique, conseil, infrastructure informatique et autres activités de service d'informa | F86: 856 | G86: 1073 | H86: 193.395
A87: 2024 | B87: Vrouw - Femme | C87: L | D87: Financiële activiteiten en verzekeringen | E87: Activités financières et d'assurance | F87: 1287 | G87: 1577 | H87: 392.0625
... A97: 2024 | B97: Vrouw - Femme | C97: V | D97: Activiteiten van extraterritoriale organisaties en instanties | E97: Activités des organisations et organismes extraterritoriaux | F97: 1070 | G97: 1119 | H97: 348.3175
A98: 2024 | B98: Vrouw - Femme | C98: \ | F98: 2427 | G98: 3596 | H98: 473.2425
B99: Totaal Vrouw - Femme | F99: =SUBTOTAL(9,F76:F98) -> 133584 | G99: =SUBTOTAL(9,G76:G98) -> 199937 | H99: =SUBTOTAL(9,H76:H98) -> 25602.173
A100: Totaal 2024 | F100: =SUBTOTAL(9,F52:F98) -> 377205 | G100: =SUBTOTAL(9,G52:G98) -> 592173 | H100: =SUBTOTAL(9,H52:H98) -> 87518.007

Sheet dimensie | dimension
A1: Jaar Année | B1: code | C1: Specifieke dimensieklassen | D1: Classes dimensionnelles spécifiques | E1: uitzendopdrachten INTN missions intérimaires INTN | F1: proportie uitzendopdrachten | G1: Proportie gebruikende werkgevers proportion des entreprise utilisatrice
A2: 2025 | C2: Minder dan 5 tewerkgestelde uitzendwerknemers | D2: moins de 5 intérimaires occupés | E2: 58155 | F2: 0.10294451 | G2: 0.70672488
A3: 2025 | C3: 5 tot 9 tewerkgestelde uitzendwerknemers | D3: 5 à 9 interémaires occupés | E3: 39161 | F3: 0.069321811 | G3: 0.12256182
A4: 2025 | C4: 10 tot 19 tewerkgestelde uitzendwerknemers | D4: 10 à 19 interémaires occupés | E4: 49453 | F4: 0.087540448 | G4: 0.074757202
A5: 2025 | C5: 20 tot 49 tewerkgestelde uitzendwerknemers | D5: 20 à 49 interémaires occupés | E5: 84623 | F5: 0.14979749 | G5: 0.056516771
A6: 2025 | C6: 50 tot 99 tewerkgestelde uitzendwerknemers | D6: 50 à 99 interémaires occupés | E6: 68306 | F6: 0.12091355 | G6: 0.020219538
A7: 2025 | C7: 100 tot 199 tewerkgestelde uitzendwerknemers | D7: 100 à 199 interémaires occupés | E7: 76209 | F7: 0.13490324 | G7: 0.011221742
A8: 2025 | C8: 200 tot 499 tewerkgestelde uitzendwerknemers | D8: 200 à 499 interémaires occupés | E8: 91218 | F8: 0.16147179 | G8: 0.0062025626
A9: 2025 | C9: 500 tot 999 tewerkgestelde uitzendwerknemers | D9: 500 à 999 interémaires occupés | E9: 40317 | F9: 0.071368133 | G9: 0.0012037868
A10: 2025 | C10: 1000 of meer tewerkgestelde uitzendwerknemers | D10: 1.000 intérimaires occupés ou plus | E10: 57474 | F10: 0.10173902 | G10: 0.00059169183
A11: Totaal 2025 | E11: =SUBTOTAL(9,E2:E10) -> 564916
A12: 2024 | B12: 1 | C12: Minder dan 5 tewerkgestelde uitzendwerknemers | D12: Moins de 5 intérimaires occupés | E12: 60191 | F12: 0.10164428 | G12: 0.70315026
A13: 2024 | B13: 2 | C13: 5 tot 9 tewerkgestelde uitzendwerknemers | D13: 5 à 9 intérimaires occupés | E13: 41032 | F13: 0.069290562 | G13: 0.12366439
A14: 2024 | B14: 3 | C14: 10 tot 19 tewerkgestelde uitzendwerknemers | D14: 10 à 19 intérimaires occupés | E14: 52702 | F14: 0.088997641 | G14: 0.076449947
A15: 2024 | B15: 4 | C15: 20 tot 49 tewerkgestelde uitzendwerknemers | D15: 20 à 49 intérimaires occupés | E15: 87251 | F15: 0.14734039 | G15: 0.056184205
A16: 2024 | B16: 5 | C16: 50 tot 99 tewerkgestelde uitzendwerknemers | D16: 50à 99 intérimaires occupés | E16: 74184 | F16: 0.1252742 | G16: 0.021133147
A17: 2024 | B17: 6 | C17: 100 tot 199 tewerkgestelde uitzendwerknemers | D17: 100 à 199 intérimaires occupés | E17: 77360 | F17: 0.1306375 | G17: 0.011039704
A18: 2024 | B18: 7 | C18: 200 tot 499 tewerkgestelde uitzendwerknemers | D18: 200 à 499 intérimaires occupés | E18: 96603 | F18: 0.16313307 | G18: 0.0064858258
A19: 2024 | B19: 8 | C19: 500 tot 999 tewerkgestelde uitzendwerknemers | D19: 500 à 999 intérimaires occupés | E19: 42499 | F19: 0.071767879 | G19: 0.0012616804
A20: 2024 | B20: 9 | C20: 1000 of meer tewerkgestelde uitzendwerknemers | D20: 1000 intérimaires occupés ou plus | E20: 60351 | F20: 0.10191447 | G20: 0.0006308402
A21: Totaal 2024 | E21: =SUBTOTAL(9,E12:E20) -> 592173
A22: 2023 | B22: 1 | C22: Minder dan 5 tewerkgestelde uitzendwerknemers | D22: Moins de 5 intérimaires occupés | E22: 61468 | F22: 0.10016932 | G22: 0.69959534
A23: 2023 | B23: 2 | C23: 5 tot 9 tewerkgestelde uitzendwerknemers | D23: 5 à 9 intérimaires occupés | E23: 42810 | F23: 0.069763917 | G23: 0.12573116
A24: 2023 | B24: 3 | C24: 10 tot 19 tewerkgestelde uitzendwerknemers | D24: 10 à 19 intérimaires occupés | E24: 54537 | F24: 0.08887444 | G24: 0.077344994
A25: 2023 | B25: 4 | C25: 20 tot 49 tewerkgestelde uitzendwerknemers | D25: 20 à 49 intérimaires occupés | E25: 89402 | F25: 0.14569105 | G25: 0.057514911
A26: 2023 | B26: 5 | C26: 50 tot 99 tewerkgestelde uitzendwerknemers | D26: 50à 99 intérimaires occupés | E26: 73219 | F26: 0.11931895 | G26: 0.020405424
A27: 2023 | B27: 6 | C27: 100 tot 199 tewerkgestelde uitzendwerknemers | D27: 100 à 199 intérimaires occupés | E27: 81931 | F27: 0.13351618 | G27: 0.011219147
A28: 2023 | B28: 7 | C28: 200 tot 499 tewerkgestelde uitzendwerknemers | D28: 200 à 499 intérimaires occupés | E28: 98562 | F28: 0.16061834 | G28: 0.0063095718
A29: 2023 | B29: 8 | C29: 500 tot 999 tewerkgestelde uitzendwerknemers | D29: 500 à 999 intérimaires occupés | E29: 46332 | F29: 0.07550343 | G29: 0.00126575
A30: 2023 | B30: 9 | C30: 1000 of meer tewerkgestelde uitzendwerknemers | D30: 1000 intérimaires occupés ou plus | E30: 65380 | F30: 0.10654438 | G30: 0.00061369695
A31: Totaal 2023 | E31: =SUBTOTAL(9,E22:E30) -> 613641

Sheet Uurklassen_Classes d'heure
A1: Jaar Année | B1: Uurklasse | Classe d'heure | C1: Tewerkgestelde uitzendwerknemers INTN Travailleurs intérimaires occupés INTN
A2: 2025 | B2: <80 | C2: 111183
A3: 2025 | B3: 80- <160 | C3: 41405
A4: 2025 | B4: 160 - <240 | C4: 29578
A5: 2025 | B5: 240 - <320 | C5: 22343
A6: 2025 | B6: 320 - <400 | C6: 18950
A7: 2025 | B7: 400 - <480 | C7: 16903
A8: 2025 | B8: 480 - <560 | C8: 15031
A9: 2025 | B9: 560 - <640 | C9: 12824
A10: 2025 | B10: 640 - <720 | C10: 11665
A11: 2025 | B11: 720 - <800 | C11: 10221
A12: 2025 | B12: 800 - <880 | C12: 9398
A13: 2025 | B13: 880 - <960 | C13: 8828
... A27: 2025 | B27: >=2000 | C27: 1345
A28: Totaal 2025 | C28: =SUBTOTAL(9,C2:C27) -> 366492
A29: 2024 | B29: <80 | C29: 113726
A30: 2024 | B30: 80- <160 | C30: 43171
A31: 2024 | B31: 160 - <240 | C31: 30743
A32: 2024 | B32: 240 - <320 | C32: 23945
A33: 2024 | B33: 320 - <400 | C33: 20169
A34: 2024 | B34: 400 - <480 | C34: 17562
A35: 2024 | B35: 480 - <560 | C35: 15607
A36: 2024 | B36: 560 - <640 | C36: 13112
A37: 2024 | B37: 640 - <720 | C37: 11564
A38: 2024 | B38: 720 - <800 | C38: 10272
A39: 2024 | B39: 800 - <880 | C39: 9694
A40: 2024 | B40: 880 - <960 | C40: 9226
... A54: 2024 | B54: >=2000 | C54: 1531
A55: Totaal 2024 | C55: =SUBTOTAL(9,C29:C54) -> 377205
A56: 2023 | B56: <80 | C56: 116056
A57: 2023 | B57: 80- <160 | C57: 43972
A58: 2023 | B58: 160 - <240 | C58: 31344
A59: 2023 | B59: 240 - <320 | C59: 24873
A60: 2023 | B60: 320 - <400 | C60: 20368
A61: 2023 | B61: 400 - <480 | C61: 18491
A62: 2023 | B62: 480 - <560 | C62: 16521
A63: 2023 | B63: 560 - <640 | C63: 14285
A64: 2023 | B64: 640 - <720 | C64: 12295
A65: 2023 | B65: 720 - <800 | C65: 11159
A66: 2023 | B66: 800 - <880 | C66: 10491
A67: 2023 | B67: 880 - <960 | C67: 9513
... A81: 2023 | B81: >=2000 | C81: 1375
A82: Totaal 2023 | C82: =SUBTOTAL(9,C56:C81) -> 389840

Sheet Uurkl-gesl_Classes d'hr-sexe
A1: Jaar Année | B1: Geslacht-Sexe | C1: Uurklasse | Classe d'heure | D1: Tewerkgestelde uitzendwerknemers INTN |Intérimaires occupés INTN
A2: 2025 | B2: Man-Homme | C2: <80 | D2: 63301
A3: 2025 | B3: Man-Homme | C3: 80- <160 | D3: 26195
A4: 2025 | B4: Man-Homme | C4: 160 - <240 | D4: 19353
A5: 2025 | B5: Man-Homme | C5: 240 - <320 | D5: 14849
A6: 2025 | B6: Man-Homme | C6: 320 - <400 | D6: 12846
A7: 2025 | B7: Man-Homme | C7: 400 - <480 | D7: 11591
A8: 2025 | B8: Man-Homme | C8: 480 - <560 | D8: 10262
A9: 2025 | B9: Man-Homme | C9: 560 - <640 | D9: 8950
A10: 2025 | B10: Man-Homme | C10: 640 - <720 | D10: 8278
A11: 2025 | B11: Man-Homme | C11: 720 - <800 | D11: 7244
A12: 2025 | B12: Man-Homme | C12: 800 - <880 | D12: 6750
A13: 2025 | B13: Man-Homme | C13: 880 - <960 | D13: 6445
... A53: 2025 | B53: Vrouw-Femme | C53: >=2000 | D53: 233
A54: Totaal 2025 | D54: =SUBTOTAL(9,D2:D53) -> 366492
A55: 2024 | B55: Man-Homme | C55: <80 | D55: 64833
A56: 2024 | B56: Man-Homme | C56: 80- <160 | D56: 26899
A57: 2024 | B57: Man-Homme | C57: 160 - <240 | D57: 19820
A58: 2024 | B58: Man-Homme | C58: 240 - <320 | D58: 15842
A59: 2024 | B59: Man-Homme | C59: 320 - <400 | D59: 13545
A60: 2024 | B60: Man-Homme | C60: 400 - <480 | D60: 11854
A61: 2024 | B61: Man-Homme | C61: 480 - <560 | D61: 10453
A62: 2024 | B62: Man-Homme | C62: 560 - <640 | D62: 9070
A63: 2024 | B63: Man-Homme | C63: 640 - <720 | D63: 7974
A64: 2024 | B64: Man-Homme | C64: 720 - <800 | D64: 7173
A65: 2024 | B65: Man-Homme | C65: 800 - <880 | D65: 6869
A66: 2024 | B66: Man-Homme | C66: 880 - <960 | D66: 6618
... A80: 2024 | B80: Man-Homme | C80: >=2000 | D80: 1260
B81: Totaal Man-Homme | D81: =SUBTOTAL(9,D55:D80) -> 243621
A82: 2024 | B82: Vrouw-Femme | C82: <80 | D82: 48893
A83: 2024 | B83: Vrouw-Femme | C83: 80- <160 | D83: 16272
A84: 2024 | B84: Vrouw-Femme | C84: 160 - <240 | D84: 10923
A85: 2024 | B85: Vrouw-Femme | C85: 240 - <320 | D85: 8103
A86: 2024 | B86: Vrouw-Femme | C86: 320 - <400 | D86: 6624
A87: 2024 | B87: Vrouw-Femme | C87: 400 - <480 | D87: 5708
A88: 2024 | B88: Vrouw-Femme | C88: 480 - <560 | D88: 5154
A89: 2024 | B89: Vrouw-Femme | C89: 560 - <640 | D89: 4042
A90: 2024 | B90: Vrouw-Femme | C90: 640 - <720 | D90: 3590
A91: 2024 | B91: Vrouw-Femme | C91: 720 - <800 | D91: 3099
A92: 2024 | B92: Vrouw-Femme | C92: 800 - <880 | D92: 2825
A93: 2024 | B93: Vrouw-Femme | C93: 880 - <960 | D93: 2608
... A107: 2024 | B107: Vrouw-Femme | C107: >=2000 | D107: 271
B108: Totaal Vrouw-Femme | D108: =SUBTOTAL(9,D82:D107) -> 133584
A109: Totaal 2024 | D109: =SUBTOTAL(9,D55:D107) -> 377205
A110: 2023 | B110: Man-Homme | C110: <80 | D110: 64529
A111: 2023 | B111: Man-Homme | C111: 80- <160 | D111: 27131
A112: 2023 | B112: Man-Homme | C112: 160 - <240 | D112: 19933
A113: 2023 | B113: Man-Homme | C113: 240 - <320 | D113: 16078
A114: 2023 | B114: Man-Homme | C114: 320 - <400 | D114: 13079
A115: 2023 | B115: Man-Homme | C115: 400 - <480 | D115: 12266
A116: 2023 | B116: Man-Homme | C116: 480 - <560 | D116: 10895
A117: 2023 | B117: Man-Homme | C117: 560 - <640 | D117: 9684
A118: 2023 | B118: Man-Homme | C118: 640 - <720 | D118: 8363
A119: 2023 | B119: Man-Homme | C119: 720 - <800 | D119: 7598
A120: 2023 | B120: Man-Homme | C120: 800 - <880 | D120: 7311
A121: 2023 | B121: Man-Homme | C121: 880 - <960 | D121: 6608
... A135: 2023 | B135: Man-Homme | C135: >=2000 | D135: 1147
B136: Totaal Man-Homme | D136: =SUBTOTAL(9,D110:D135) -> 247121
A137: 2023 | B137: Vrouw-Femme | C137: <80 | D137: 51527
A138: 2023 | B138: Vrouw-Femme | C138: 80- <160 | D138: 16841
A139: 2023 | B139: Vrouw-Femme | C139: 160 - <240 | D139: 11411
A140: 2023 | B140: Vrouw-Femme | C140: 240 - <320 | D140: 8795
A141: 2023 | B141: Vrouw-Femme | C141: 320 - <400 | D141: 7289
A142: 2023 | B142: Vrouw-Femme | C142: 400 - <480 | D142: 6225
A143: 2023 | B143: Vrouw-Femme | C143: 480 - <560 | D143: 5626
A144: 2023 | B144: Vrouw-Femme | C144: 560 - <640 | D144: 4601
A145: 2023 | B145: Vrouw-Femme | C145: 640 - <720 | D145: 3932
A146: 2023 | B146: Vrouw-Femme | C146: 720 - <800 | D146: 3561
A147: 2023 | B147: Vrouw-Femme | C147: 800 - <880 | D147: 3180
A148: 2023 | B148: Vrouw-Femme | C148: 880 - <960 | D148: 2905
... A162: 2023 | B162: Vrouw-Femme | C162: >=2000 | D162: 228
B163: Totaal Vrouw-Femme | D163: =SUBTOTAL(9,D137:D162) -> 142719
A164: Totaal 2023 | D164: =SUBTOTAL(9,D110:D162) -> 389840

Sheet Uurkl-lftd_Classes d'hr-âge
A1: Jaar Année | B1: Leeftijd | Âge | C1: Uurklasse | Classe d'heure | D1: Tewerkgestelde uitzendwerknemers INTN | Intérimaires occupés INTN
A2: 2025 | B2: <25 | C2: <80 | D2: 40393
A3: 2025 | B3: <25 | C3: 80 - 160 | D3: 13048
A4: 2025 | B4: <25 | C4: 160 - 240 | D4: 9076
A5: 2025 | B5: <25 | C5: 240 - 320 | D5: 6659
A6: 2025 | B6: <25 | C6: 320 - 400 | D6: 5516
A7: 2025 | B7: <25 | C7: 400 - 480 | D7: 4874
A8: 2025 | B8: <25 | C8: 480 - 560 | D8: 4087
A9: 2025 | B9: <25 | C9: 560 - 640 | D9: 3425
A10: 2025 | B10: <25 | C10: 640 - 720 | D10: 2885
A11: 2025 | B11: <25 | C11: 720 - 800 | D11: 2489
A12: 2025 | B12: <25 | C12: 800 - 880 | D12: 2191
A13: 2025 | B13: <25 | C13: 880 - 960 | D13: 2034
... A182: 2025 | B182: 70+ | C182: >=2000 | D182: 4
A183: Totaal 2025 | D183: =SUBTOTAL(9,D2:D182) -> 366492
A184: 2024 | B184: <25 | C184: <80 | D184: 41975
A185: 2024 | B185: <25 | C185: 80 - 160 | D185: 14003
A186: 2024 | B186: <25 | C186: 160 - 240 | D186: 9673
A187: 2024 | B187: <25 | C187: 240 - 320 | D187: 7170
A188: 2024 | B188: <25 | C188: 320 - 400 | D188: 5925
A189: 2024 | B189: <25 | C189: 400 - 480 | D189: 5128
A190: 2024 | B190: <25 | C190: 480 - 560 | D190: 4430
A191: 2024 | B191: <25 | C191: 560 - 640 | D191: 3495
A192: 2024 | B192: <25 | C192: 640 - 720 | D192: 2995
A193: 2024 | B193: <25 | C193: 720 - 800 | D193: 2432
A194: 2024 | B194: <25 | C194: 800 - 880 | D194: 2361
A195: 2024 | B195: <25 | C195: 880 - 960 | D195: 2132
... A365: 2024 | B365: 70+ | C365: >=2000 | D365: 6
A366: Totaal 2024 | D366: =SUBTOTAL(9,D184:D365) -> 377205
A367: 2023 | B367: <25 | C367: <80 | D367: 43993
A368: 2023 | B368: <25 | C368: 80 - 160 | D368: 13928
A369: 2023 | B369: <25 | C369: 160 - 240 | D369: 9676
A370: 2023 | B370: <25 | C370: 240 - 320 | D370: 7429
A371: 2023 | B371: <25 | C371: 320 - 400 | D371: 5882
A372: 2023 | B372: <25 | C372: 400 - 480 | D372: 5393
A373: 2023 | B373: <25 | C373: 480 - 560 | D373: 4644
A374: 2023 | B374: <25 | C374: 560 - 640 | D374: 3839
A375: 2023 | B375: <25 | C375: 640 - 720 | D375: 3185
A376: 2023 | B376: <25 | C376: 720 - 800 | D376: 2792
A377: 2023 | B377: <25 | C377: 800 - 880 | D377: 2529
A378: 2023 | B378: <25 | C378: 880 - 960 | D378: 2200
... A548: 2023 | B548: 70+ | C548: >=2000 | D548: 5
A549: Totaal 2023 | D549: =SUBTOTAL(9,D367:D548) -> 389840

Sheet Uurkl-lftd-gesl_cl hr-âge-sexe
A1: Jaar Année | B1: Geslacht-Sexe | C1: Leeftijd-Âge | D1: Uurklasse | Classe d'heure | E1: Tewerkgestelde uitzendwerknemers INTN |Intérimaires occupés INTN
A2: 2025 | B2: Man - Homme | C2: <25 | D2: <80 | E2: 23369
A3: 2025 | B3: Man - Homme | C3: <25 | D3: 80 - 160 | E3: 8629
A4: 2025 | B4: Man - Homme | C4: <25 | D4: 160 - 240 | E4: 6047
A5: 2025 | B5: Man - Homme | C5: <25 | D5: 240 - 320 | E5: 4602
A6: 2025 | B6: Man - Homme | C6: <25 | D6: 320 - 400 | E6: 3890
A7: 2025 | B7: Man - Homme | C7: <25 | D7: 400 - 480 | E7: 3526
A8: 2025 | B8: Man - Homme | C8: <25 | D8: 480 - 560 | E8: 2917
A9: 2025 | B9: Man - Homme | C9: <25 | D9: 560 - 640 | E9: 2491
A10: 2025 | B10: Man - Homme | C10: <25 | D10: 640 - 720 | E10: 2138
A11: 2025 | B11: Man - Homme | C11: <25 | D11: 720 - 800 | E11: 1837
A12: 2025 | B12: Man - Homme | C12: <25 | D12: 800 - 880 | E12: 1629
A13: 2025 | B13: Man - Homme | C13: <25 | D13: 880 - 960 | E13: 1544
... A357: 2025 | B357: Vrouw - Femme | C357: 70+ | D357: >=2000 | E357: 1
A358: Totaal 2025 | E358: =SUBTOTAL(9,E2:E357) -> 366492
A359: 2024 | B359: Man - Homme | C359: <25 | D359: <80 | E359: 24093
A360: 2024 | B360: Man - Homme | C360: <25 | D360: 80 - 160 | E360: 8894
A361: 2024 | B361: Man - Homme | C361: <25 | D361: 160 - 240 | E361: 6374
A362: 2024 | B362: Man - Homme | C362: <25 | D362: 240 - 320 | E362: 4887
A363: 2024 | B363: Man - Homme | C363: <25 | D363: 320 - 400 | E363: 4074
A364: 2024 | B364: Man - Homme | C364: <25 | D364: 400 - 480 | E364: 3564
A365: 2024 | B365: Man - Homme | C365: <25 | D365: 480 - 560 | E365: 3084
A366: 2024 | B366: Man - Homme | C366: <25 | D366: 560 - 640 | E366: 2487
A367: 2024 | B367: Man - Homme | C367: <25 | D367: 640 - 720 | E367: 2141
A368: 2024 | B368: Man - Homme | C368: <25 | D368: 720 - 800 | E368: 1784
A369: 2024 | B369: Man - Homme | C369: <25 | D369: 800 - 880 | E369: 1725
A370: 2024 | B370: Man - Homme | C370: <25 | D370: 880 - 960 | E370: 1600
... A717: 2024 | B717: Vrouw - Femme | C717: 70+ | D717: >=2000 | E717: 1
A718: Totaal 2024 | E718: =SUBTOTAL(9,E359:E717) -> 377205
A719: 2023 | B719: Man - Homme | C719: <25 | D719: <80 | E719: 24503
A720: 2023 | B720: Man - Homme | C720: <25 | D720: 80 - 160 | E720: 8841
A721: 2023 | B721: Man - Homme | C721: <25 | D721: 160 - 240 | E721: 6327
A722: 2023 | B722: Man - Homme | C722: <25 | D722: 240 - 320 | E722: 4922
A723: 2023 | B723: Man - Homme | C723: <25 | D723: 320 - 400 | E723: 3816
A724: 2023 | B724: Man - Homme | C724: <25 | D724: 400 - 480 | E724: 3747
A725: 2023 | B725: Man - Homme | C725: <25 | D725: 480 - 560 | E725: 3161
A726: 2023 | B726: Man - Homme | C726: <25 | D726: 560 - 640 | E726: 2734
A727: 2023 | B727: Man - Homme | C727: <25 | D727: 640 - 720 | E727: 2252
A728: 2023 | B728: Man - Homme | C728: <25 | D728: 720 - 800 | E728: 1974
A729: 2023 | B729: Man - Homme | C729: <25 | D729: 800 - 880 | E729: 1847
A730: 2023 | B730: Man - Homme | C730: <25 | D730: 880 - 960 | E730: 1618
... A1077: 2023 | B1077: Vrouw - Femme | C1077: 70+ | D1077: >=2000 | E1077: 1
A1078: Totaal 2023 | E1078: =SUBTOTAL(9,E719:E1077) -> 389840

Sheet % VTE | % ETP  (NACE08)
A1: Opmerking: In 2025 werd de NACE-nomenclatuur 2008 ingeruild voor de NACE-nomenclatuur 2025. Een heel aantal NACE-codes bleven overanderd, maar dat geldt zeker niet voor alle codes. In dit tabblad - en ook in de volgende tabbladen met een vermelding van NACE 25 - brengen we dan ook de verdeling van de gegevens naar NACE- sectie volgens de NACE 25 nomenclatuur. Voor 2025 is dat vanzelfsprekend, maar ook voor de gegevens uit 2024 geven we hier de verdeling volgens NACE 25. We creëren als het ware een fictieve situatie waarin de nieuwe NACE-nomenclatuur 2025 al van kracht was in 2024. Dat is noodzakelijk om de gegevens uit 2025 te vergelijken met hun tegenhanger uit 2024. Deze retropolatie beperkt zich tot het jaar 2024. Voor de voorgaande kwartalen voorzien we enkel een verdeling naar de destijds van toepassing zijnde NACE-nomenclatuur 2008. Die gegevens vindt u onder de tabbladen met vermelding NACE 08. Remarque: En 2025, la nomenclature NACE 2008 a été remplacée par la nomenclature NACE 2025. Un certain nombre de codes NACE sont demeurés inchangés, mais cette stabilité ne s’applique pas à l’ensemble des codes. Dès lors, le présent onglet - et aussi les onglets suivants avec une mention du NACE 25 - présente la répartition des données par section NACE selon la nomenclature NACE 2025. Pour l’année 2025, cette approche s’impose naturellement ; toutefois, pour les données relatives à l’année 2024, la répartition est également fournie sur la base de la nomenclature NACE 2025. Il s’agit ainsi de créer une situation fictive dans laquelle la nouvelle nomenclature NACE 2025 aurait déjà été d’application en 2024. Cette démarche est indispensable afin de permettre une comparaison cohérente entre les données de 2025 et celles de 2024. Pour les années précédentes, nous ne prévoyons qu’une répartition selon la nomenclature NACE 2008 alors en vigueur. Vous trouverez ces données sous les onglets portant la mention NACE 08.
A2: Jaar Année | B2: Sectie NACE gebruiker Section NACE Utilisateur | C2: Sectie NACE gebruiker | D2: section NACE utilisateur | E2: VTE INTN | ETP INTN | F2: VTE globaal | ETP globale* | G2: % VTE uitzendarbeid (INTN) op totaal VTE* | % de l'ETP intérim (INTN) sur l'ETP total*
A3: 2024 | B3: A | C3: Landbouw, bosbouw en visserij | D3: =VLOOKUP(B3,'NACE user INTN (NACE08)'!$B$3:$D$24,3,FALSE) -> Agriculture, sylviculture et pêche | E3: 384.0425 | F3: 24927.852 | G3: 0.015406161
A4: 2024 | B4: B | C4: Winning van delfstoffen | D4: =VLOOKUP(B4,'NACE user INTN (NACE08)'!$B$3:$D$24,3,FALSE) -> Industries extractives | E4: 46.92 | F4: 1818.025 | G4: 0.025808226
A5: 2024 | B5: C | C5: Industrie | D5: =VLOOKUP(B5,'NACE user INTN (NACE08)'!$B$3:$D$24,3,FALSE) -> Industries manufacturières | E5: 26888.368 | F5: 434365.38 | G5: 0.061902649
A6: 2024 | B6: D | C6: Productie en distributie van elektriciteit, gas, stoom en gekoelde lucht | D6: =VLOOKUP(B6,'NACE user INTN (NACE08)'!$B$3:$D$24,3,FALSE) -> Production et distribution d'électricité, de gaz, de vapeur et d'air conditionné | E6: 98.045 | F6: 18976.363 | G6: 0.0051666909
A7: 2024 | B7: E | C7: Distributie van water; afval- en afvalwaterbeheer en sanering | D7: =VLOOKUP(B7,'NACE user INTN (NACE08)'!$B$3:$D$24,3,FALSE) -> Production et distribution d'eau; assainissement, gestion des déchets et dépollution | E7: 2359.6875 | F7: 33431.577 | G7: 0.070582595
A8: 2024 | B8: F | C8: Bouwnijverheid | D8: =VLOOKUP(B8,'NACE user INTN (NACE08)'!$B$3:$D$24,3,FALSE) -> Construction | E8: 4225.6175 | F8: 177006.71 | G8: 0.02387264
A9: 2024 | B9: G | C9: Groot- en detailhandel; reparatie van auto's en motorfietsen | D9: =VLOOKUP(B9,'NACE user INTN (NACE08)'!$B$3:$D$24,3,FALSE) -> Commerce; réparation d'automobiles et de motocycles | E9: 17971.855 | F9: 433239.21 | G9: 0.041482521
A10: 2024 | B10: H | C10: Vervoer en opslag | D10: =VLOOKUP(B10,'NACE user INTN (NACE08)'!$B$3:$D$24,3,FALSE) -> Transports et entreposage | E10: 15156.417 | F10: 227734.57 | G10: 0.066552994
A11: 2024 | B11: I | C11: Verschaffen van accommodatie en maaltijden | D11: =VLOOKUP(B11,'NACE user INTN (NACE08)'!$B$3:$D$24,3,FALSE) -> Hébergement et restauration | E11: 2836.78 | F11: 97473.943 | G11: 0.029102957
A12: 2024 | B12: J | C12: Informatie et communicatie | D12: =VLOOKUP(B12,'NACE user INTN (NACE08)'!$B$3:$D$24,3,FALSE) -> Information et communication | E12: 1278.6075 | F12: 118356.82 | G12: 0.010802989
A13: 2024 | B13: K | C13: Financiële activiteiten en verzekeringen | D13: =VLOOKUP(B13,'NACE user INTN (NACE08)'!$B$3:$D$24,3,FALSE) -> Activités financières et 'assurance | E13: 658.14 | F13: 105805.05 | G13: 0.006220308
A14: 2024 | B14: L | C14: Exploitatie van en handel in onroerend goed | D14: =VLOOKUP(B14,'NACE user INTN (NACE08)'!$B$3:$D$24,3,FALSE) -> Activités immobilières | E14: 185.925 | F14: 19152.855 | G14: 0.00970743
... A23: 2024 | B23: U | C23: Extraterritoriale organisaties en lichamen | D23: =VLOOKUP(B23,'NACE user INTN (NACE08)'!$B$3:$D$24,3,FALSE) -> Activités des organisations et organismes extraterritoriaux | E23: 544.405 | F23: 3550.315 | G23: 0.15333991
A24: Totaal 2024 | E24: =SUBTOTAL(9,E3:E23) -> 86704.128 | F24: =SUBTOTAL(9,F3:F23) -> 3417192.9
A25: 2023 | B25: A | C25: Landbouw, bosbouw en visserij | D25: =VLOOKUP(B25,'NACE user INTN (NACE08)'!$B$3:$D$24,3,FALSE) -> Agriculture, sylviculture et pêche | E25: 390.945 | F25: 25047.04 | G25: 0.0156
A26: 2023 | B26: B | C26: Winning van delfstoffen | D26: =VLOOKUP(B26,'NACE user INTN (NACE08)'!$B$3:$D$24,3,FALSE) -> Industries extractives | E26: 54.305 | F26: 1977.305 | G26: 0.0275
A27: 2023 | B27: C | C27: Industrie | D27: =VLOOKUP(B27,'NACE user INTN (NACE08)'!$B$3:$D$24,3,FALSE) -> Industries manufacturières | E27: 28310.845 | F27: 445946.62 | G27: 0.0635
A28: 2023 | B28: D | C28: Productie en distributie van elektriciteit, gas, stoom en gekoelde lucht | D28: =VLOOKUP(B28,'NACE user INTN (NACE08)'!$B$3:$D$24,3,FALSE) -> Production et distribution d'électricité, de gaz, de vapeur et d'air conditionné | E28: 98.5575 | F28: 18228.81 | G28: 0.0054
A29: 2023 | B29: E | C29: Distributie van water; afval- en afvalwaterbeheer en sanering | D29: =VLOOKUP(B29,'NACE user INTN (NACE08)'!$B$3:$D$24,3,FALSE) -> Production et distribution d'eau; assainissement, gestion des déchets et dépollution | E29: 2227.7125 | F29: 32726.097 | G29: 0.0681
A30: 2023 | B30: F | C30: Bouwnijverheid | D30: =VLOOKUP(B30,'NACE user INTN (NACE08)'!$B$3:$D$24,3,FALSE) -> Construction | E30: 4906.785 | F30: 180790.19 | G30: 0.0271
A31: 2023 | B31: G | C31: Groot- en detailhandel; reparatie van auto's en motorfietsen | D31: =VLOOKUP(B31,'NACE user INTN (NACE08)'!$B$3:$D$24,3,FALSE) -> Commerce; réparation d'automobiles et de motocycles | E31: 18090.665 | F31: 437465.2 | G31: 0.0414
A32: 2023 | B32: H | C32: Vervoer en opslag | D32: =VLOOKUP(B32,'NACE user INTN (NACE08)'!$B$3:$D$24,3,FALSE) -> Transports et entreposage | E32: 15931.077 | F32: 229060.64 | G32: 0.0695
A33: 2023 | B33: I | C33: Verschaffen van accommodatie en maaltijden | D33: =VLOOKUP(B33,'NACE user INTN (NACE08)'!$B$3:$D$24,3,FALSE) -> Hébergement et restauration | E33: 2808.5825 | F33: 96528.4 | G33: 0.0291
A34: 2023 | B34: J | C34: Informatie et communicatie | D34: =VLOOKUP(B34,'NACE user INTN (NACE08)'!$B$3:$D$24,3,FALSE) -> Information et communication | E34: 1182.8475 | F34: 118938.81 | G34: 0.0099
A35: 2023 | B35: K | C35: Financiële activiteiten en verzekeringen | D35: =VLOOKUP(B35,'NACE user INTN (NACE08)'!$B$3:$D$24,3,FALSE) -> Activités financières et 'assurance | E35: 778.575 | F35: 105220.85 | G35: 0.0074
A36: 2023 | B36: L | C36: Exploitatie van en handel in onroerend goed | D36: =VLOOKUP(B36,'NACE user INTN (NACE08)'!$B$3:$D$24,3,FALSE) -> Activités immobilières | E36: 211.0975 | F36: 19129.63 | G36: 0.011
... A45: 2023 | B45: U | C45: Extraterritoriale organisaties en lichamen | D45: =VLOOKUP(B45,'NACE user INTN (NACE08)'!$B$3:$D$24,3,FALSE) -> Activités des organisations et organismes extraterritoriaux | E45: 557.775 | F45: 3601.4725 | G45: 0.1549
A46: Totaal 2023 | E46: =SUBTOTAL(9,E25:E45) -> 90513.602 | F46: =SUBTOTAL(9,F25:F45) -> 3420886.4
A49: *Bij het berekenen van het totale VTE per sectie NACE, classificeren we de interimarbeid onder de NACE-code van de gebruiker, niet de onder de NACE-code van het uitzendkantoor. De totalen in VTE globaal komen hier dan ook niet overeen met de gegevens in andere publicaties op onze website. Wanneer de NACE-code van de gebruiker onbekend is, is die niet opgenomen in het totaal.
A51: *Lors du calcul du total des ETP par section NACE, nous classons le travail intérimaire sous le code NACE de l'utilisateur, et non sous le code NACE de l'agence d'intérim. Les totaux en ETP globaux ne correspondent donc pas aux données présentées dans d'autres publications sur notre site web. Lorsque le code NACE de l'utilisateur est inconnu, il n'est pas inclus dans le total.

Sheet % VTE | % ETP  (NACE25)
A1: Opmerking: In 2025 werd de NACE-nomenclatuur 2008 ingeruild voor de NACE-nomenclatuur 2025. Een heel aantal NACE-codes bleven overanderd, maar dat geldt zeker niet voor alle codes. In dit tabblad - en ook in de volgende tabbladen met een vermelding van NACE 25 - brengen we dan ook de verdeling van de gegevens naar NACE- sectie volgens de NACE 25 nomenclatuur. Voor 2025 is dat vanzelfsprekend, maar ook voor de gegevens uit 2024 geven we hier de verdeling volgens NACE 25. We creëren als het ware een fictieve situatie waarin de nieuwe NACE-nomenclatuur 2025 al van kracht was in 2024. Dat is noodzakelijk om de gegevens uit 2025 te vergelijken met hun tegenhanger uit 2024. Deze retropolatie beperkt zich tot het jaar 2024. Voor de voorgaande kwartalen voorzien we enkel een verdeling naar de destijds van toepassing zijnde NACE-nomenclatuur 2008. Die gegevens vindt u onder de tabbladen met vermelding NACE 08. Remarque: En 2025, la nomenclature NACE 2008 a été remplacée par la nomenclature NACE 2025. Un certain nombre de codes NACE sont demeurés inchangés, mais cette stabilité ne s’applique pas à l’ensemble des codes. Dès lors, le présent onglet - et aussi les onglets suivants avec une mention du NACE 25 - présente la répartition des données par section NACE selon la nomenclature NACE 2025. Pour l’année 2025, cette approche s’impose naturellement ; toutefois, pour les données relatives à l’année 2024, la répartition est également fournie sur la base de la nomenclature NACE 2025. Il s’agit ainsi de créer une situation fictive dans laquelle la nouvelle nomenclature NACE 2025 aurait déjà été d’application en 2024. Cette démarche est indispensable afin de permettre une comparaison cohérente entre les données de 2025 et celles de 2024. Pour les années précédentes, nous ne prévoyons qu’une répartition selon la nomenclature NACE 2008 alors en vigueur. Vous trouverez ces données sous les onglets portant la mention NACE 08.
A2: Jaar Année | B2: Sectie NACE gebruiker Section NACE Utilisateur | C2: Sectie NACE gebruiker | D2: section NACE utilisateur | E2: VTE INTN | ETP INTN | F2: VTE globaal | ETP globale* | G2: % VTE uitzendarbeid (INTN) op totaal VTE* | % de l'ETP intérim (INTN) sur l'ETP total*
A3: 2025 | B3: A | C3: Landbouw, bosbouw en visserij | D3: Agriculture, sylviculture et pêche | E3: 391.14 | F3: 26107.568 | G3: 0.014981863
A4: 2025 | B4: B | C4: Winning van delfstoffen | D4: Industries extractives | E4: 56.2875 | F4: 1706.4075 | G4: 0.032985966
A5: 2025 | B5: C | C5: Industrie | D5: Industrie manufacturière | E5: 26987.147 | F5: 426607.41 | G5: 0.063259912
A6: 2025 | B6: D | C6: Productie en distributie van elektriciteit, gas, stoom en gekoelde lucht | D6: Production et distribution d'électricité, de gaz, de vapeur et d'air conditionné | E6: 76.6475 | F6: 19611.145 | G6: 0.0039083644
A7: 2025 | B7: E | C7: Distributie van water; afval- en afvalwaterbeheer en sanering | D7: Production et distribution d'eau; assainissement, gestion des déchets et dépollution | E7: 2314.87 | F7: 33967.87 | G7: 0.068148812
A8: 2025 | B8: F | C8: Bouwnijverheid | D8: Construction | E8: 3970.19 | F8: 175485.33 | G8: 0.022624056
A9: 2025 | B9: G | C9: Groot- en detailhandel | D9: Commerce | E9: 17302.735 | F9: 417982.86 | G9: 0.0413958
A10: 2025 | B10: H | C10: Vervoer en opslag | D10: Transports et entreposage | E10: 15206.188 | F10: 227164.21 | G10: 0.066939188
A11: 2025 | B11: I | C11: Verschaffen van accommodatie en maaltijden | D11: Hébergement et restauration | E11: 2765.81 | F11: 99350.458 | G11: 0.027838926
A12: 2025 | B12: J | C12: Activiteiten van uitgeverijen, omroepactiviteiten en productie en distributie van inhoud | D12: Édition, diffusion et activités de production et de distribution de contenu | E12: 721.7575 | F12: 18008.112 | G12: 0.040079575
A13: 2025 | B13: K | C13: Telecommunicatie, computerprogrammering, consultancy, informatica-infrastructuur en andere activiteiten op het gebied van informatiediensten | D13: Télécommunications, programmation informatique, conseil, infrastructure informatique et autres activités de service d'informa | E13: 462.05 | F13: 98471.167 | G13: 0.0046922364
A14: 2025 | B14: L | C14: Financiële activiteiten en verzekeringen | D14: Activités financières et d'assurance | E14: 579.005 | F14: 106437.12 | G14: 0.0054398786
... A24: 2025 | B24: V | C24: Activiteiten van extraterritoriale organisaties en instanties | D24: Activités des organisations et organismes extraterritoriaux | E24: 507.6125 | F24: 3550.2475 | G24: 0.14297947
A25: Totaal 2025 | E25: =SUBTOTAL(9,E3:E24) -> 85251.813 | F25: =SUBTOTAL(9,F3:F24) -> 3422833.8 | G25: =SUBTOTAL(9,G3:G24) -> 0.63829113
A26: 2024 | B26: A | C26: Landbouw, bosbouw en visserij | D26: Agriculture, sylviculture et pêche | E26: 384.0425 | F26: 24936.702 | G26: 0.015400693
A27: 2024 | B27: B | C27: Winning van delfstoffen | D27: Industries extractives | E27: 46.92 | F27: 1813.5575 | G27: 0.025871802
A28: 2024 | B28: C | C28: Industrie | D28: Industrie manufacturière | E28: 26888.368 | F28: 433664.14 | G28: 0.062002745
A29: 2024 | B29: D | C29: Productie en distributie van elektriciteit, gas, stoom en gekoelde lucht | D29: Production et distribution d'électricité, de gaz, de vapeur et d'air conditionné | E29: 98.045 | F29: 18950.268 | G29: 0.0051738056
A30: 2024 | B30: E | C30: Distributie van water; afval- en afvalwaterbeheer en sanering | D30: Production et distribution d'eau; assainissement, gestion des déchets et dépollution | E30: 2359.6875 | F30: 33553.738 | G30: 0.070325623
A31: 2024 | B31: F | C31: Bouwnijverheid | D31: Construction | E31: 4180.745 | F31: 174824.6 | G31: 0.023913941
A32: 2024 | B32: G | C32: Groot- en detailhandel | D32: Commerce | E32: 17402.022 | F32: 420124.75 | G32: 0.041421084
A33: 2024 | B33: H | C33: Vervoer en opslag | D33: Transports et entreposage | E33: 15156.417 | F33: 227570.59 | G33: 0.066600949
A34: 2024 | B34: I | C34: Verschaffen van accommodatie en maaltijden | D34: Hébergement et restauration | E34: 2836.7375 | F34: 97491.153 | G34: 0.029097384
A35: 2024 | B35: J | C35: Activiteiten van uitgeverijen, omroepactiviteiten en productie en distributie van inhoud | D35: Édition, diffusion et activités de production et de distribution de contenu | E35: 753.0275 | F35: 18340.593 | G35: 0.04105797
A36: 2024 | B36: K | C36: Telecommunicatie, computerprogrammering, consultancy, informatica-infrastructuur en andere activiteiten op het gebied van informatiediensten | D36: Télécommunications, programmation informatique, conseil, infrastructure informatique et autres activités de service d'informa | E36: 525.58 | F36: 100123.25 | G36: 0.0052493302
A37: 2024 | B37: L | C37: Financiële activiteiten en verzekeringen | D37: Activités financières et d'assurance | E37: 658.14 | F37: 105804.28 | G37: 0.0062203531
... A47: 2024 | B47: V | C47: Activiteiten van extraterritoriale organisaties en instanties | D47: Activités des organisations et organismes extraterritoriaux | E47: 544.405 | F47: 3552.565 | G47: 0.1532428
A48: Totaal 2024 | E48: =SUBTOTAL(9,E26:E47) -> 86704.127 | F48: =SUBTOTAL(9,F26:F47) -> 3417192.9 | G48: =SUBTOTAL(9,G26:G47) -> 0.65457167
A51: *Bij het berekenen van het totale VTE per sectie NACE, classificeren we de interimarbeid onder de NACE-code van de gebruiker, niet de onder de NACE-code van het uitzendkantoor. De totalen in VTE globaal komen hier dan ook niet overeen met de gegevens in andere publicaties op onze website. Wanneer de NACE-code van de gebruiker onbekend is, is die niet opgenomen in het totaal.
A53: *Lors du calcul du total des ETP par section NACE, nous classons le travail intérimaire sous le code NACE de l'utilisateur, et non sous le code NACE de l'agence d'intérim. Les totaux en ETP globaux ne correspondent donc pas aux données présentées dans d'autres publications sur notre site web. Lorsque le code NACE de l'utilisateur est inconnu, il n'est pas inclus dans le total.

Sheet Gew kwart-gesl_Trim occupé-sexe
A1: Jaar - Année | B1: Aantal gewerkte kwartalen Nombre de trimestres travaillés | C1: Geslacht | Sexe | D1: Aantal uitzendwerknemers Nombre d'intérimaires
A2: 2025 | B2: 1 | C2: Man |Homme | D2: 94371
A3: 2025 | B3: 2 | C3: Man |Homme | D3: 60272
A4: 2025 | B4: 3 | C4: Man |Homme | D4: 40104
A5: 2025 | B5: 4 | C5: Man |Homme | D5: 44700
B6: Totaal Man | Total Homme | D6: =SUM(D2:D5) -> 239447
A7: 2025 | B7: 1 | C7: Vrouw | Femme | D7: 58277
A8: 2025 | B8: 2 | C8: Vrouw | Femme | D8: 30919
A9: 2025 | B9: 3 | C9: Vrouw | Femme | D9: 18083
A10: 2025 | B10: 4 | C10: Vrouw | Femme | D10: 19766
B11: Totaal Vrouw | Total Femme | D11: =SUM(D7:D10) -> 127045
A12: Totaal 2025 | D12: =D6+D11 -> 366492
A13: 2024 | B13: 1 | C13: Man |Homme | D13: 97472
A14: 2024 | B14: 2 | C14: Man |Homme | D14: 62664
A15: 2024 | B15: 3 | C15: Man |Homme | D15: 39594
A16: 2024 | B16: 4 | C16: Man |Homme | D16: 43891
B17: Totaal Man | Total Homme | D17: =SUM(D13:D16) -> 243621
A18: 2024 | B18: 1 | C18: Vrouw | Femme | D18: 60971
A19: 2024 | B19: 2 | C19: Vrouw | Femme | D19: 32901
A20: 2024 | B20: 3 | C20: Vrouw | Femme | D20: 18591
A21: 2024 | B21: 4 | C21: Vrouw | Femme | D21: 21121
B22: Totaal Vrouw | Total Femme | D22: =SUM(D18:D21) -> 133584
A23: Totaal 2024 | D23: =D17+D22 -> 377205
A24: 2023 | B24: 1 | C24: Man |Homme | D24: 99405
A25: 2023 | B25: 2 | C25: Man |Homme | D25: 61731
A26: 2023 | B26: 3 | C26: Man |Homme | D26: 40787
A27: 2023 | B27: 4 | C27: Man |Homme | D27: 45198
B28: Totaal Man | Total Homme | D28: =SUM(D24:D27) -> 247121
A29: 2023 | B29: 1 | C29: Vrouw | Femme | D29: 65234
A30: 2023 | B30: 2 | C30: Vrouw | Femme | D30: 35027
A31: 2023 | B31: 3 | C31: Vrouw | Femme | D31: 20147
A32: 2023 | B32: 4 | C32: Vrouw | Femme | D32: 22311
B33: Totaal Vrouw | Total Femme | D33: =SUM(D29:D32) -> 142719
A34: Totaal 2023 | D34: =D28+D33 -> 389840
