Workbook

Sheet Handleiding-Manuel
A2: Handleiding
A4: Opmerking: In 2025 werd de NACE-nomenclatuur 2008 ingeruild voor de NACE-nomenclatuur 2025. Een heel aantal NACE-codes bleven overanderd, maar dat geldt zeker niet voor alle codes. In dit tabblad - en ook in de volgende tabbladen met een vermelding van NACE 2025 - brengen we dan ook de verdeling van de gegevens naar NACE- sectie volgens de NACE 25 nomenclatuur. Voor 2025 is dat vanzelfsprekend, maar ook voor de gegevens uit 2024 geven we hier de verdeling volgens NACE 25. We creëren als het ware een fictieve situatie waarin de nieuwe NACE-nomenclatuur 2025 al van kracht was in 2024. Dat is noodzakelijk om de gegevens uit 2025 te vergelijken met hun tegenhanger uit 2024. Deze retropolatie beperkt zich tot 2024. Voor de voorgaande jaren voorzien we enkel een verdeling naar de destijds van toepassing zijnde NACE-nomenclatuur 2008. Die gegevens vindt u onder de tabbladen met vermelding NACE 08. Remarque: En 2025, la nomenclature NACE 2008 a été remplacée par la nomenclature NACE 2025. Un certain nombre de codes NACE sont demeurés inchangés, mais cette stabilité ne s’applique pas à l’ensemble des codes. Dès lors, le présent onglet - et aussi les onglets suivants avec une mention du NACE 2025 - présente la répartition des données par section NACE selon la nomenclature NACE 2025. Pour l’année 2025, cette approche s’impose naturellement ; toutefois, pour les données relatives à l’année 2024, la répartition est également fournie sur la base de la nomenclature NACE 2025. Il s’agit ainsi de créer une situation fictive dans laquelle la nouvelle nomenclature NACE 2025 aurait déjà été d’application en 2024. Cette démarche est indispensable afin de permettre une comparaison cohérente entre les données de 2025 et celles de 2024. Pour les années précédentes, nous ne prévoyons qu’une répartition selon la nomenclature NACE 2008 alors en vigueur. Vous trouverez ces données sous les onglets portant la mention NACE 08.
A6: In dit excelbestand worden gegevens weergegeven met door Excel gegenereerde subtotalen
A7: Dit heeft als extra voordeel dat u voor elk kwartaal de detailrijen kunt weergeven en verbergen.
A8: Met behulp van het overzicht aan de linkerkant van elk tabblad kunt u de data verbergen met de – knopjes en weergeven met de + knopjes.
A10: Wilt u de subtotalen verwijderen? Volg dan onderstaande stappen:
A11: 1.Selecteer een cel in het bereik dat subtotalen bevat.
A12: 2.Klik in het lint op het tabblad 'Gegevens' in de groep 'Overzicht' op 'Subtotaal'.
A13: 3.Klik in het dialoogvenster Subtotaal op 'Alles verwijderen'.
A15: We voorzien de gegevens die als basis dienen voor de grafieken en tabellen in een afzonderlijk tabblad per grafiek/tabel. Zoals u zal merken bevatten die tabbladen meer gegevens dan weergegeven in de desbetreffende tabel en dit om de continuïteit van onze statistieken te verzekeren. We leveren bovendien eveneens uitgebreide data op niveau van de werkgever (tabblad 'werkgevers').
A17: Manuel
A19: Les données dans ce fichier Excel sont affichées avec des sous-totaux générés par Excel.
... A29: Nous fournissons les données qui servent de base aux graphiques et tableaux dans un onglet séparé par graphique/tableau. Comme vous le remarquerez, ces onglets contiennent plus de données que celles présentées dans le tableau correspondant, afin d’assurer la continuité de nos statistiques. Nous fournissons également des données détaillées au niveau de l’employeur (onglet ‘employeurs’).

Sheet inhoudstafel-Table des matières
A1: Inhoudstafel | Table des matières
B2: naam tabblad | C2: Inhoud
A3: 1 | B3: Kercijfers_chifres clés | C3: aantal in de sociale zekerheid opgenomen studentenjobs, tewerkgestelde jobstudenten, gepresteerde uren en lonen, gemiddeld aantal jobs per student, gemiddeld aantal gepresteerde uren per jobstudent, gemiddeld loon per student en gemiddeld uurloon
A4: 2 | B4: Geslacht_Sexe | C4: Aantal in de sociale zekerheid opgenomen studentenjobs, tewerkgestelde jobstudenten, gepresteerde uren en lonen opgedeeld naar geslacht
A5: 3 | B5: NACE | C5: Aantal in de sociale zekerheid opgenomen studentenjobs, tewerkgestelde jobstudenten, gepresteerde uren en lonen opgedeeld naar activiteitstak van de werkgever (NACE-code)
A6: 4 | B6: dim | C6: Aantal in de sociale zekerheid opgenomen studentenjobs, tewerkgestelde jobstudenten, gepresteerde uren en lonen opgedeeld naar dimensie van de werkgever
A7: 5 | B7: dim_stu | C7: Aantal in de sociale zekerheid opgenomen studentenjobs, tewerkgestelde jobstudenten, gepresteerde uren en lonen opgedeeld naar dimensie van de werkgever. Bij deze dimensie wordt er enkel rekening gehouden met het aantal studenten die een werkgever tewerkstelt
A8: 6 | B8: kwrtl_trim_sexe | C8: Aantal tewerkgestelde jobstudenten, opgedeeld naar geslacht en de kwartalen waarin deze studenten gewerkt hebben
A9: 7 | B9: werkg_leeftijd | C9: Aantal in de sociale zekerheid opgenomen studentenjobs, tewerkgestelde jobstudenten, opgedeeld naar leeftijdsklasse het aantal werkgevers waar ze tewerkgesteld zijn
A10: 8 | B10: uren_lftd_sexe | C10: Aantal tewerkgestelde jobstudenten, opgedeeld naar het aantal gepresteerde uren (onderverdeeld in klassen), leeftijdsklasse en geslacht
A11: 9 | B11: gesl lftd-sexe age | C11: Aantal in de sociale zekerheid opgenomen studentenjobs, tewerkgestelde jobstudenten, gepresteerde uren en lonen opgedeeld naar geslacht en leeftijdsklasse van de tewerkgestelde student
A12: 10 | B12: Nace-sexe | C12: Aantal in de sociale zekerheid opgenomen studentenjobs, tewerkgestelde jobstudenten, gepresteerde uren en lonen opgedeeld naar geslacht en activiteitstak van de werkgever
A13: 11 | B13: Nace-age | C13: aantal in de sociale zekerheid opgenomen studentenjobs, tewerkgestelde jobstudenten gepresteerde uren en lonen opgedeeld naar leeftijdsklasse en activiteitstak van de werkgever
A14: 12 | B14: werkplaats-NACE | C14: aantal in de sociale zekerheid opgenomen studentenjobs, tewerkgestelde studenten en gepresteerde uren, opgedeeld naar het gewest van de belangrijkste uitbatingszetel en de activiteitstak van de werkgever
... A16: 14 | B16: dim_stud - NACE | C16: aantal tewerkgestelde jobstudenten en aantal werkgevers opgedeeld naar activiteitstak van de werkgever en het aantal tewerkgestelde studenten

Sheet kerncijfers_chifres clés
G1: Gemiddelden | Moyennes
A2: Jaar|Année | B2: Nombre d'étudiants Aantal studenten | C2: Aantal studentenjobs Nombre de jobs d'étudiants | D2: Bezoldigde uren Heures rémunérées | E2: Lonen in 1.000 Eur Salaires en 1.000 Eur | F2: Aantal werkgevers | G2: Aantal jobs per student Nombre de jobs par étudiant | H2: Aantal uren per student Nombre d'heures par étudiant | I2: Loon per student (Eur) Salaire par étudiant | J2: Uurloon (Eur) Salaire horaire (Eur)
A3: 2025 | B3: 649055 | C3: 1063167 | D3: 146015932 | E3: 2259515.4 | F3: 73510 | G3: =C3/B3 -> 1.638023 | H3: 224.96696 | I3: 3481.2387 | J3: 15.474444
A4: 2024 | B4: 640608 | C4: 1039047 | D4: 141114978 | E4: 2095561.8 | F4: 72505 | G4: =C4/B4 -> 1.6219701 | H4: =D4/B4 -> 220.28288 | I4: =E4*1000/B4 -> 3271.2077 | J4: =E4*1000/D4 -> 14.850031
A5: 2023 | B5: 632672 | C5: 1029446 | D5: 136788164 | E5: 2002895.5 | F5: 72617 | G5: =C5/B5 -> 1.6271401 | H5: =D5/B5 -> 216.20708 | I5: =E5*1000/B5 -> 3165.7723 | J5: =E5*1000/D5 -> 14.642316
A6: 2022 | B6: 626733 | C6: 1019299 | D6: 129269184 | E6: 1737239.1 | F6: 71751 | G6: =C6/B6 -> 1.6263688 | H6: =D6/B6 -> 206.25878 | I6: =E6*1000/B6 -> 2771.8967 | J6: =E6*1000/D6 -> 13.438927
A7: 2021 | B7: 565247 | C7: 883517 | D7: 117372968 | E7: 1500131 | F7: 68572 | G7: =C7/B7 -> 1.5630636 | H7: =D7/B7 -> 207.64899 | I7: =E7*1000/B7 -> 2653.9389 | J7: =E7*1000/D7 -> 12.78089
A8: 2020 | B8: 499359 | C8: 743817 | D8: 96126795 | E8: 1193747.6 | F8: 63675 | G8: =C8/B8 -> 1.4895436 | H8: =D8/B8 -> 192.50038 | I8: =E8*1000/B8 -> 2390.5598 | J8: =E8*1000/D8 -> 12.418468
A9: 2019 | B9: 560996 | C9: 871800 | D9: 103997471 | E9: 1261371.6 | F9: 65007 | G9: =C9/B9 -> 1.5540218 | H9: =D9/B9 -> 185.38006 | I9: =E9*1000/B9 -> 2248.4502 | J9: =E9*1000/D9 -> 12.128868
A10: 2018 | B10: 544749 | C10: 831442 | D10: 98104829 | E10: 1165181.3 | F10: 62722 | G10: =C10/B10 -> 1.5262846 | H10: =D10/B10 -> 180.0918 | I10: =E10*1000/B10 -> 2138.9324 | J10: =E10*1000/D10 -> 11.8769
A11: 2017 | B11: 522765 | C11: 778281 | D11: 89595003 | E11: 1043964.3 | F11: 59807 | G11: =C11/B11 -> 1.4887779 | H11: =D11/B11 -> 171.38677 | I11: =E11*1000/B11 -> 1997.005 | J11: =E11*1000/D11 -> 11.652037
A12: inhoudstafel - Table des matières

Sheet Geslacht_Sexe
G1: Gemiddelden | Moyennes
A2: Jaar Année | B2: Geslacht Sexe | C2: Nombre d'étudiants Aantal studenten | D2: Aantal studentenjobs Nombre de jobs d'étudiants | E2: Bezoldigde uren Heures rémunérées | F2: Lonen in 1.000 (Eur) Salaires en 1.000 (Eur) | G2: Aantal jobs per student Nombre de jobs par étudiant | H2: Aantal uren per student Nombre d'heures par étudiant | I2: Loon per student (Eur) Salaire par étudiant (Eur) | J2: Uurloon (Eur) Salaire horaire (Eur)
A3: 2025 | B3: Man-Homme | C3: 302932 | D3: 486146 | E3: 67159182 | F3: 1043235.6 | G3: =D3/C3 -> 1.6048024 | H3: 221.69722 | I3: 3443.7948 | J3: 15.533775
A4: 2025 | B4: Vrouw-Femme | C4: 346123 | D4: 577021 | E4: 78856750 | F4: 1216279.7 | G4: =D4/C4 -> 1.6670981 | H4: 227.82869 | I4: 3514.0101 | J4: 15.423914
A5: Totaal 2025 | C5: =SUBTOTAL(9,C3:C4) -> 649055 | D5: =SUBTOTAL(9,D3:D4) -> 1063167 | E5: =SUBTOTAL(9,E3:E4) -> 146015932 | F5: =SUBTOTAL(9,F3:F4) -> 2259515.4 | G5: =D5/C5 -> 1.638023 | H5: =E5/C5 -> 224.96696 | I5: =F5*1000/C5 -> 3481.2387 | J5: =F5*1000/E5 -> 15.474444
A6: 2024 | B6: Man-Homme | C6: 298102 | D6: 472783 | E6: 64319758 | F6: 957466.98 | G6: =D6/C6 -> 1.5859773 | H6: =E6/C6 -> 215.76426 | I6: =F6*1000/C6 -> 3211.8771 | J6: =F6*1000/E6 -> 14.886048
A7: 2024 | B7: Vrouw-Femme | C7: 342506 | D7: 566264 | E7: 76795220 | F7: 1138094.8 | G7: =D7/C7 -> 1.6532966 | H7: =E7/C7 -> 224.21569 | I7: =F7*1000/C7 -> 3322.8464 | J7: =F7*1000/E7 -> 14.819866
A8: Totaal 2024 | C8: =SUBTOTAL(9,C6:C7) -> 640608 | D8: =SUBTOTAL(9,D6:D7) -> 1039047 | E8: =SUBTOTAL(9,E6:E7) -> 141114978 | F8: =SUBTOTAL(9,F6:F7) -> 2095561.8 | G8: =D8/C8 -> 1.6219701 | H8: =E8/C8 -> 220.28288 | I8: =F8*1000/C8 -> 3271.2077 | J8: =F8*1000/E8 -> 14.850031
A9: 2023 | B9: Man-Homme | C9: 294526 | D9: 468373 | E9: 62131094 | F9: 911009.04 | G9: =D9/C9 -> 1.5902603 | H9: =E9/C9 -> 210.95283 | I9: =F9*1000/C9 -> 3093.1362 | J9: =F9*1000/E9 -> 14.662691
A10: 2023 | B10: Vrouw-Femme | C10: 338146 | D10: 561073 | E10: 74657070 | F10: 1091886.4 | G10: =D10/C10 -> 1.6592626 | H10: =E10/C10 -> 220.78354 | I10: =F10*1000/C10 -> 3229.0385 | J10: =F10*1000/E10 -> 14.625359
A11: Totaal 2023 | C11: =SUBTOTAL(9,C9:C10) -> 632672 | D11: =SUBTOTAL(9,D9:D10) -> 1029446 | E11: =SUBTOTAL(9,E9:E10) -> 136788164 | F11: =SUBTOTAL(9,F9:F10) -> 2002895.5 | G11: =D11/C11 -> 1.6271401 | H11: =E11/C11 -> 216.20708 | I11: =F11*1000/C11 -> 3165.7723 | J11: =F11*1000/E11 -> 14.642316
A12: 2022 | B12: Man-Homme | C12: 291248 | D12: 461574 | E12: 58230578 | F12: 782549.96 | G12: =D12/C12 -> 1.5848143 | H12: =E12/C12 -> 199.93469 | I12: =F12*1000/C12 -> 2686.8853 | J12: =F12*1000/E12 -> 13.438815
A13: 2022 | B13: Vrouw-Femme | C13: 335485 | D13: 557725 | E13: 71038606 | F13: 954689.15 | G13: =D13/C13 -> 1.6624439 | H13: =E13/C13 -> 211.74898 | I13: =F13*1000/C13 -> 2845.6985 | J13: =F13*1000/E13 -> 13.439019
A14: Totaal 2022 | C14: =SUBTOTAL(9,C12:C13) -> 626733 | D14: =SUBTOTAL(9,D12:D13) -> 1019299 | E14: =SUBTOTAL(9,E12:E13) -> 129269184 | F14: =SUBTOTAL(9,F12:F13) -> 1737239.1 | G14: =D14/C14 -> 1.6263688 | H14: =E14/C14 -> 206.25878 | I14: =F14*1000/C14 -> 2771.8967 | J14: =F14*1000/E14 -> 13.438927
A15: 2021 | B15: Man-Homme | C15: 260696 | D15: 396532 | E15: 52955259 | F15: 680271.8 | G15: =D15/C15 -> 1.5210513 | H15: =E15/C15 -> 203.13031 | I15: =F15*1000/C15 -> 2609.4447 | J15: =F15*1000/E15 -> 12.846161
A16: 2021 | B16: Vrouw-Femme | C16: 304551 | D16: 486985 | E16: 64417709 | F16: 819859.2 | G16: =D16/C16 -> 1.5990261 | H16: =E16/C16 -> 211.51698 | I16: =F16*1000/C16 -> 2692.026 | J16: =F16*1000/E16 -> 12.727233
A17: Totaal 2021 | C17: =SUBTOTAL(9,C15:C16) -> 565247 | D17: =SUBTOTAL(9,D15:D16) -> 883517 | E17: =SUBTOTAL(9,E15:E16) -> 117372968 | F17: =SUBTOTAL(9,F15:F16) -> 1500131 | G17: =D17/C17 -> 1.5630636 | H17: =E17/C17 -> 207.64899 | I17: =F17*1000/C17 -> 2653.9389 | J17: =F17*1000/E17 -> 12.78089
A18: 2020 | B18: Man-Homme | C18: 228642 | D18: 330623 | E18: 43511459 | F18: 544346.94 | G18: =D18/C18 -> 1.4460292 | H18: =E18/C18 -> 190.30388 | I18: =F18*1000/C18 -> 2380.7828 | J18: =F18*1000/E18 -> 12.510427
A19: 2020 | B19: Vrouw-Femme | C19: 270717 | D19: 413194 | E19: 52615336 | F19: 649400.62 | G19: =D19/C19 -> 1.526295 | H19: =E19/C19 -> 194.35549 | I19: =F19*1000/C19 -> 2398.8173 | J19: =F19*1000/E19 -> 12.342421
A20: Totaal 2020 | C20: =SUBTOTAL(9,C18:C19) -> 499359 | D20: =SUBTOTAL(9,D18:D19) -> 743817 | E20: =SUBTOTAL(9,E18:E19) -> 96126795 | F20: =SUBTOTAL(9,F18:F19) -> 1193747.6 | G20: =D20/C20 -> 1.4895436 | H20: =E20/C20 -> 192.50038 | I20: =F20*1000/C20 -> 2390.5598 | J20: =F20*1000/E20 -> 12.418468
A21: 2019 | B21: Man-Homme | C21: 260163 | D21: 391764 | E21: 47179003 | F21: 578483.28 | G21: =D21/C21 -> 1.5058406 | H21: =E21/C21 -> 181.34402 | I21: =F21*1000/C21 -> 2223.5417 | J21: =F21*1000/E21 -> 12.261456
A22: 2019 | B22: Vrouw-Femme | C22: 300833 | D22: 480036 | E22: 56818468 | F22: 682888.27 | G22: =D22/C22 -> 1.5956893 | H22: =E22/C22 -> 188.87046 | I22: =F22*1000/C22 -> 2269.9912 | J22: =F22*1000/E22 -> 12.018773
A23: Totaal 2019 | C23: =SUBTOTAL(9,C21:C22) -> 560996 | D23: =SUBTOTAL(9,D21:D22) -> 871800 | E23: =SUBTOTAL(9,E21:E22) -> 103997471 | F23: =SUBTOTAL(9,F21:F22) -> 1261371.6 | G23: =D23/C23 -> 1.5540218 | H23: =E23/C23 -> 185.38006 | I23: =F23*1000/C23 -> 2248.4502 | J23: =F23*1000/E23 -> 12.128868
A24: 2018 | B24: Man-Homme | C24: 253117 | D24: 374627 | E24: 44817619 | F24: 539032.26 | G24: =D24/C24 -> 1.4800547 | H24: =E24/C24 -> 177.06286 | I24: =F24*1000/C24 -> 2129.5775 | J24: =F24*1000/E24 -> 12.02724
A25: 2018 | B25: Vrouw-Femme | C25: 291632 | D25: 456815 | E25: 53287210 | F25: 626149.02 | G25: =D25/C25 -> 1.566409 | H25: =E25/C25 -> 182.72072 | I25: =F25*1000/C25 -> 2147.0518 | J25: =F25*1000/E25 -> 11.750456
A26: Totaal 2018 | C26: =SUBTOTAL(9,C24:C25) -> 544749 | D26: =SUBTOTAL(9,D24:D25) -> 831442 | E26: =SUBTOTAL(9,E24:E25) -> 98104829 | F26: =SUBTOTAL(9,F24:F25) -> 1165181.3 | G26: =D26/C26 -> 1.5262846 | H26: =E26/C26 -> 180.0918 | I26: =F26*1000/C26 -> 2138.9324 | J26: =F26*1000/E26 -> 11.8769
A27: 2017 | B27: Man-Homme | C27: 242824 | D27: 351392 | E27: 41126494 | F27: 485596.49 | G27: =D27/C27 -> 1.4471057 | H27: =E27/C27 -> 169.3675 | I27: =F27*1000/C27 -> 1999.7879 | J27: =F27*1000/E27 -> 11.807388
A28: 2017 | B28: Vrouw-Femme | C28: 279941 | D28: 426889 | E28: 48468509 | F28: 558367.81 | G28: =D28/C28 -> 1.5249249 | H28: =E28/C28 -> 173.1383 | I28: =F28*1000/C28 -> 1994.5911 | J28: =F28*1000/E28 -> 11.520219
A29: Totaal 2017 | C29: =SUBTOTAL(9,C27:C28) -> 522765 | D29: =SUBTOTAL(9,D27:D28) -> 778281 | E29: =SUBTOTAL(9,E27:E28) -> 89595003 | F29: =SUBTOTAL(9,F27:F28) -> 1043964.3 | G29: =D29/C29 -> 1.4887779 | H29: =E29/C29 -> 171.38677 | I29: =F29*1000/C29 -> 1997.005 | J29: =F29*1000/E29 -> 11.652037
A30: Inhoudstafel - Table des matières

Sheet NACE08
A1: Opmerking: In 2025 werd de NACE-nomenclatuur 2008 ingeruild voor de NACE-nomenclatuur 2025. Een heel aantal NACE-codes bleven overanderd, maar dat geldt zeker niet voor alle codes. In dit tabblad - en ook in de volgende tabbladen met een vermelding van NACE 2025 - brengen we dan ook de verdeling van de gegevens naar NACE- sectie volgens de NACE 25 nomenclatuur. Voor 2025 is dat vanzelfsprekend, maar ook voor de gegevens uit 2024 geven we hier de verdeling volgens NACE 25. We creëren als het ware een fictieve situatie waarin de nieuwe NACE-nomenclatuur 2025 al van kracht was in 2024. Dat is noodzakelijk om de gegevens uit 2025 te vergelijken met hun tegenhanger uit 2024. Deze retropolatie beperkt zich tot 2024. Voor de voorgaande jaren voorzien we enkel een verdeling naar de destijds van toepassing zijnde NACE-nomenclatuur 2008. Die gegevens vindt u onder de tabbladen met vermelding NACE 08. Remarque: En 2025, la nomenclature NACE 2008 a été remplacée par la nomenclature NACE 2025. Un certain nombre de codes NACE sont demeurés inchangés, mais cette stabilité ne s’applique pas à l’ensemble des codes. Dès lors, le présent onglet - et aussi les onglets suivants avec une mention du NACE 2025 - présente la répartition des données par section NACE selon la nomenclature NACE 2025. Pour l’année 2025, cette approche s’impose naturellement ; toutefois, pour les données relatives à l’année 2024, la répartition est également fournie sur la base de la nomenclature NACE 2025. Il s’agit ainsi de créer une situation fictive dans laquelle la nouvelle nomenclature NACE 2025 aurait déjà été d’application en 2024. Cette démarche est indispensable afin de permettre une comparaison cohérente entre les données de 2025 et celles de 2024. Pour les années précédentes, nous ne prévoyons qu’une répartition selon la nomenclature NACE 2008 alors en vigueur. Vous trouverez ces données sous les onglets portant la mention NACE 08.
A3: Jaar Annéé | B3: Section NACE NACE Sectie | C3: Label NACE Sectie | D3: Libellé section NACE | E3: Nombre d'étudiants jobiste Aantal jobstudenten | F3: Aantal studentenjobs Nombre de jobs d'étudiants | G3: Bezoldigde uren Heures rémunérées | H3: Lonen in 1.000 Eur Salaires en 1.000 Eur
A4: 2024 | B4: A | C4: Landbouw, bosbouw en visserij | D4: Agriculture, sylviculture et pêche | E4: 3041 | F4: 4421 | G4: 631021 | H4: 8014.9309
A5: 2024 | B5: B | C5: Winning van delfstoffen | D5: Industries extractives | E5: 21 | F5: 26 | G5: 4003 | H5: 58.39583
A6: 2024 | B6: C | C6: Industrie | D6: Industries manufacturières | E6: 17132 | F6: 24916 | G6: 3611755 | H6: 49503.681
A7: 2024 | B7: D | C7: Productie en distributie van elektriciteit, gas, stoom en gekoelde lucht | D7: Production et distribution d'électricité, de gaz, de vapeur et d'air conditionné | E7: 73 | F7: 86 | G7: 13299 | H7: 189.2987
A8: 2024 | B8: E | C8: Distributie van water; afval- en afvalwaterbeheer en sanering | D8: Production et distribution d'eau; assainissement, gestion des déchets et dépollution | E8: 903 | F8: 1242 | G8: 184730 | H8: 2724.314
A9: 2024 | B9: F | C9: Bouwnijverheid | D9: Construction | E9: 9304 | F9: 12413 | G9: 1935088 | H9: 31921.623
A10: 2024 | B10: G | C10: Groot- en detailhandel; reparatie van auto's en motorfietsen | D10: Commerce; réparation d'automobiles et de motocycles | E10: 100737 | F10: 145624 | G10: 24269816 | H10: 342085.02
A11: 2024 | B11: H | C11: Vervoer en opslag | D11: Transports et entreposage | E11: 8476 | F11: 13263 | G11: 2075751 | H11: 30934.806
A12: 2024 | B12: I | C12: Verschaffen van accommodatie en maaltijden | D12: Hébergement et restauration | E12: 129229 | F12: 215831 | G12: 30686285 | H12: 439634.01
A13: 2024 | B13: J | C13: Informatie et communicatie | D13: Information et communication | E13: 3552 | F13: 5243 | G13: 915086 | H13: 13809.526
A14: 2024 | B14: K | C14: Financiële activiteiten en verzekeringen | D14: Activités financières et 'assurance | E14: 2404 | F14: 3228 | G14: 550846 | H14: 8303.03
A15: 2024 | B15: L | C15: Exploitatie van en handel in onroerend goed | D15: Activités immobilières | E15: 1874 | F15: 2778 | G15: 408435 | H15: 5701.4945
... A25: 2024 | B25: U | C25: Extraterritoriale organisaties en lichamen | D25: Activités des organisations et organismes extraterritoriaux | E25: 42 | F25: 47 | G25: 8825 | H25: 132.16783
A26: Totaal 2024 | E26: =SUBTOTAL(9,E4:E25) -> 640608 | F26: =SUBTOTAL(9,F4:F25) -> 1039047 | G26: =SUBTOTAL(9,G4:G25) -> 141114978 | H26: =SUBTOTAL(9,H4:H25) -> 2095561.8
A27: 2023 | B27: A | C27: Landbouw, bosbouw en visserij | D27: Agriculture, sylviculture et pêche | E27: 2822 | F27: 4119 | G27: 550397 | H27: 6851.9943
A28: 2023 | B28: B | C28: Winning van delfstoffen | D28: Industries extractives | E28: 18 | F28: 19 | G28: 4187 | H28: 60.08165
A29: 2023 | B29: C | C29: Industrie | D29: Industries manufacturières | E29: 17482 | F29: 25507 | G29: 3605976 | H29: 47874.513
A30: 2023 | B30: D | C30: Productie en distributie van elektriciteit, gas, stoom en gekoelde lucht | D30: Production et distribution d'électricité, de gaz, de vapeur et d'air conditionné | E30: 48 | F30: 74 | G30: 9162 | H30: 126.72992
A31: 2023 | B31: E | C31: Distributie van water; afval- en afvalwaterbeheer en sanering | D31: Production et distribution d'eau; assainissement, gestion des déchets et dépollution | E31: 905 | F31: 1226 | G31: 169570 | H31: 2434.1846
A32: 2023 | B32: F | C32: Bouwnijverheid | D32: Construction | E32: 9318 | F32: 12652 | G32: 1920681 | H32: 28832.784
A33: 2023 | B33: G | C33: Groot- en detailhandel; reparatie van auto's en motorfietsen | D33: Commerce; réparation d'automobiles et de motocycles | E33: 100853 | F33: 151603 | G33: 23898163 | H33: 331962.25
A34: 2023 | B34: H | C34: Vervoer en opslag | D34: Transports et entreposage | E34: 8043 | F34: 12483 | G34: 1915851 | H34: 27805.161
A35: 2023 | B35: I | C35: Verschaffen van accommodatie en maaltijden | D35: Hébergement et restauration | E35: 128211 | F35: 211446 | G35: 29436338 | H35: 423302.32
A36: 2023 | B36: J | C36: Informatie et communicatie | D36: Information et communication | E36: 3662 | F36: 5379 | G36: 907671 | H36: 13390.746
A37: 2023 | B37: K | C37: Financiële activiteiten en verzekeringen | D37: Activités financières et 'assurance | E37: 2531 | F37: 3391 | G37: 573366 | H37: 8155.6754
A38: 2023 | B38: L | C38: Exploitatie van en handel in onroerend goed | D38: Activités immobilières | E38: 1764 | F38: 2664 | G38: 369491 | H38: 5029.2545
... A48: 2023 | B48: U | C48: Extraterritoriale organisaties en lichamen | D48: Activités des organisations et organismes extraterritoriaux | E48: 27 | F48: 37 | G48: 5672 | H48: 77.78454
A49: Totaal 2023 | E49: =SUBTOTAL(9,E27:E48) -> 632672 | F49: =SUBTOTAL(9,F27:F48) -> 1029446 | G49: =SUBTOTAL(9,G27:G48) -> 136788164 | H49: =SUBTOTAL(9,H27:H48) -> 2002895.5
A50: 2022 | B50: A | C50: Landbouw, bosbouw en visserij | D50: Agriculture, sylviculture et pêche | E50: 2728 | F50: 3950 | G50: 502237 | H50: 5644.379
A51: 2022 | B51: B | C51: Winning van delfstoffen | D51: Industries extractives | E51: 27 | F51: 31 | G51: 5827 | H51: 77.42448
A52: 2022 | B52: C | C52: Industrie | D52: Industries manufacturières | E52: 17595 | F52: 25755 | G52: 3482093 | H52: 42698.915
A53: 2022 | B53: D | C53: Productie en distributie van elektriciteit, gas, stoom en gekoelde lucht | D53: Production et distribution d'électricité, de gaz, de vapeur et d'air conditionné | E53: 61 | F53: 84 | G53: 11483 | H53: 140.30321
A54: 2022 | B54: E | C54: Distributie van water; afval- en afvalwaterbeheer en sanering | D54: Production et distribution d'eau; assainissement, gestion des déchets et dépollution | E54: 759 | F54: 1008 | G54: 143370 | H54: 1939.4327
A55: 2022 | B55: F | C55: Bouwnijverheid | D55: Construction | E55: 9187 | F55: 12478 | G55: 1817987 | H55: 22120.681
A56: 2022 | B56: G | C56: Groot- en detailhandel; reparatie van auto's en motorfietsen | D56: Commerce; réparation d'automobiles et de motocycles | E56: 98320 | F56: 145184 | G56: 22078863 | H56: 284070.31
A57: 2022 | B57: H | C57: Vervoer en opslag | D57: Transports et entreposage | E57: 7564 | F57: 11571 | G57: 1688995 | H57: 22652.716
A58: 2022 | B58: I | C58: Verschaffen van accommodatie en maaltijden | D58: Hébergement et restauration | E58: 123241 | F58: 205549 | G58: 26714393 | H58: 345566.67
A59: 2022 | B59: J | C59: Informatie et communicatie | D59: Information et communication | E59: 3757 | F59: 5697 | G59: 872954 | H59: 12066.517
A60: 2022 | B60: K | C60: Financiële activiteiten en verzekeringen | D60: Activités financières et 'assurance | E60: 2759 | F60: 3661 | G60: 569411 | H60: 7319.2194
A61: 2022 | B61: L | C61: Exploitatie van en handel in onroerend goed | D61: Activités immobilières | E61: 1705 | F61: 2478 | G61: 332198 | H61: 4145.955
... A71: 2022 | B71: U | C71: Extraterritoriale organisaties en lichamen | D71: Activités des organisations et organismes extraterritoriaux | E71: 48 | F71: 67 | G71: 7775 | H71: 106.7147
A72: Totaal 2022 | E72: =SUBTOTAL(9,E50:E71) -> 626733 | F72: =SUBTOTAL(9,F50:F71) -> 1019299 | G72: =SUBTOTAL(9,G50:G71) -> 129269184 | H72: =SUBTOTAL(9,H50:H71) -> 1737239.1
A73: 2021 | B73: A | C73: Landbouw, bosbouw en visserij | D73: Agriculture, sylviculture et pêche | E73: 2642 | F73: 3761 | G73: 527080 | H73: 5712.0269
A74: 2021 | B74: B | C74: Winning van delfstoffen | D74: Industries extractives | E74: 23 | F74: 29 | G74: 5397 | H74: 64.94081
A75: 2021 | B75: C | C75: Industrie | D75: Industries manufacturières | E75: 17542 | F75: 24627 | G75: 3535862 | H75: 40775.877
A76: 2021 | B76: D | C76: Productie en distributie van elektriciteit, gas, stoom en gekoelde lucht | D76: Production et distribution d'électricité, de gaz, de vapeur et d'air conditionné | E76: 28 | F76: 46 | G76: 7828 | H76: 96.54871
A77: 2021 | B77: E | C77: Distributie van water; afval- en afvalwaterbeheer en sanering | D77: Production et distribution d'eau; assainissement, gestion des déchets et dépollution | E77: 755 | F77: 968 | G77: 145209 | H77: 1872.1374
A78: 2021 | B78: F | C78: Bouwnijverheid | D78: Construction | E78: 9462 | F78: 12320 | G78: 1945996 | H78: 22459.369
A79: 2021 | B79: G | C79: Groot- en detailhandel; reparatie van auto's en motorfietsen | D79: Commerce; réparation d'automobiles et de motocycles | E79: 93197 | F79: 129314 | G79: 21873020 | H79: 265550.01
A80: 2021 | B80: H | C80: Vervoer en opslag | D80: Transports et entreposage | E80: 7749 | F80: 11297 | G80: 1783063 | H80: 22519.044
A81: 2021 | B81: I | C81: Verschaffen van accommodatie en maaltijden | D81: Hébergement et restauration | E81: 98328 | F81: 158894 | G81: 20761279 | H81: 260913.6
A82: 2021 | B82: J | C82: Informatie et communicatie | D82: Information et communication | E82: 3836 | F82: 5421 | G82: 882755 | H82: 11693.055
A83: 2021 | B83: K | C83: Financiële activiteiten en verzekeringen | D83: Activités financières et 'assurance | E83: 2666 | F83: 3416 | G83: 571606 | H83: 6722.4811
A84: 2021 | B84: L | C84: Exploitatie van en handel in onroerend goed | D84: Activités immobilières | E84: 1689 | F84: 2423 | G84: 353491 | H84: 4192.8294
... A94: 2021 | B94: U | C94: Extraterritoriale organisaties en lichamen | D94: Activités des organisations et organismes extraterritoriaux | E94: 33 | F94: 50 | G94: 6108 | H94: 78.99774
A95: Totaal 2021 | E95: =SUBTOTAL(9,E73:E94) -> 565247 | F95: =SUBTOTAL(9,F73:F94) -> 883517 | G95: =SUBTOTAL(9,G73:G94) -> 117372968 | H95: =SUBTOTAL(9,H73:H94) -> 1500131
A96: 2020 | B96: A | C96: Landbouw, bosbouw en visserij | D96: Agriculture, sylviculture et pêche | E96: 2447 | F96: 3448 | G96: 490683 | H96: 5251.5848
A97: 2020 | B97: B | C97: Winning van delfstoffen | D97: Industries extractives | E97: 30 | F97: 31 | G97: 5119 | H97: 69.44099
A98: 2020 | B98: C | C98: Industrie | D98: Industries manufacturières | E98: 15323 | F98: 20980 | G98: 3003929 | H98: 33871.407
A99: 2020 | B99: D | C99: Productie en distributie van elektriciteit, gas, stoom en gekoelde lucht | D99: Production et distribution d'électricité, de gaz, de vapeur et d'air conditionné | E99: 27 | F99: 44 | G99: 5419 | H99: 67.31709
A100: 2020 | B100: E | C100: Distributie van water; afval- en afvalwaterbeheer en sanering | D100: Production et distribution d'eau; assainissement, gestion des déchets et dépollution | E100: 743 | F100: 931 | G100: 127493 | H100: 1662
A101: 2020 | B101: F | C101: Bouwnijverheid | D101: Construction | E101: 8549 | F101: 10931 | G101: 1762414 | H101: 20046.9
A102: 2020 | B102: G | C102: Groot- en detailhandel; reparatie van auto's en motorfietsen | D102: Commerce; réparation d'automobiles et de motocycles | E102: 89900 | F102: 118914 | G102: 20476623 | H102: 245228.37
A103: 2020 | B103: H | C103: Vervoer en opslag | D103: Transports et entreposage | E103: 7096 | F103: 9977 | G103: 1491133 | H103: 18784.55
A104: 2020 | B104: I | C104: Verschaffen van accommodatie en maaltijden | D104: Hébergement et restauration | E104: 81542 | F104: 129039 | G104: 14248400 | H104: 177260.05
A105: 2020 | B105: J | C105: Informatie et communicatie | D105: Information et communication | E105: 3276 | F105: 4346 | G105: 666537 | H105: 8669.9265
A106: 2020 | B106: K | C106: Financiële activiteiten en verzekeringen | D106: Activités financières et 'assurance | E106: 2297 | F106: 2950 | G106: 462483 | H106: 5363.6016
A107: 2020 | B107: L | C107: Exploitatie van en handel in onroerend goed | D107: Activités immobilières | E107: 1468 | F107: 2053 | G107: 278416 | H107: 3305.1674
... A117: 2020 | B117: U | C117: Extraterritoriale organisaties en lichamen | D117: Activités des organisations et organismes extraterritoriaux | E117: 32 | F117: 40 | G117: 4748 | H117: 58.12295
A118: Totaal 2020 | E118: =SUBTOTAL(9,E96:E117) -> 499359 | F118: =SUBTOTAL(9,F96:F117) -> 743817 | G118: =SUBTOTAL(9,G96:G117) -> 96126795 | H118: =SUBTOTAL(9,H96:H117) -> 1193747.6
A119: 2019 | B119: A | C119: Landbouw, bosbouw en visserij | D119: Agriculture, sylviculture et pêche | E119: 2226 | F119: 3080 | G119: 386785 | H119: 4082.7814
A120: 2019 | B120: B | C120: Winning van delfstoffen | D120: Industries extractives | E120: 25 | F120: 30 | G120: 5168 | H120: 69.3685
A121: 2019 | B121: C | C121: Industrie | D121: Industries manufacturières | E121: 17012 | F121: 23564 | G121: 3110953 | H121: 34841.46
A122: 2019 | B122: D | C122: Productie en distributie van elektriciteit, gas, stoom en gekoelde lucht | D122: Production et distribution d'électricité, de gaz, de vapeur et d'air conditionné | E122: 62 | F122: 73 | G122: 11546 | H122: 126.21818
A123: 2019 | B123: E | C123: Distributie van water; afval- en afvalwaterbeheer en sanering | D123: Production et distribution d'eau; assainissement, gestion des déchets et dépollution | E123: 838 | F123: 1086 | G123: 138563 | H123: 1725.2201
A124: 2019 | B124: F | C124: Bouwnijverheid | D124: Construction | E124: 8301 | F124: 10846 | G124: 1533291 | H124: 17142.072
A125: 2019 | B125: G | C125: Groot- en detailhandel; reparatie van auto's en motorfietsen | D125: Commerce; réparation d'automobiles et de motocycles | E125: 91210 | F125: 124759 | G125: 18668861 | H125: 216568.97
A126: 2019 | B126: H | C126: Vervoer en opslag | D126: Transports et entreposage | E126: 8110 | F126: 10941 | G126: 1613338 | H126: 20624.181
A127: 2019 | B127: I | C127: Verschaffen van accommodatie en maaltijden | D127: Hébergement et restauration | E127: 100570 | F127: 163396 | G127: 19746835 | H127: 242634.58
A128: 2019 | B128: J | C128: Informatie et communicatie | D128: Information et communication | E128: 3954 | F128: 5404 | G128: 852400 | H128: 10690.069
A129: 2019 | B129: K | C129: Financiële activiteiten en verzekeringen | D129: Activités financières et 'assurance | E129: 3779 | F129: 4852 | G129: 708070 | H129: 7916.4287
A130: 2019 | B130: L | C130: Exploitatie van en handel in onroerend goed | D130: Activités immobilières | E130: 1792 | F130: 2581 | G130: 316991 | H130: 3635.1492
... A140: 2019 | B140: U | C140: Extraterritoriale organisaties en lichamen | D140: Activités des organisations et organismes extraterritoriaux | E140: 55 | F140: 75 | G140: 7310 | H140: 89.39566
A141: Totaal 2019 | E141: =SUBTOTAL(9,E119:E140) -> 560996 | F141: =SUBTOTAL(9,F119:F140) -> 871800 | G141: =SUBTOTAL(9,G119:G140) -> 103997471 | H141: =SUBTOTAL(9,H119:H140) -> 1261371.6
A142: 2018 | B142: A | C142: Landbouw, bosbouw en visserij | D142: Agriculture, sylviculture et pêche | E142: 2080 | F142: 2834 | G142: 368558 | H142: 3800.1116
A143: 2018 | B143: B | C143: Winning van delfstoffen | D143: Industries extractives | E143: 25 | F143: 27 | G143: 5272 | H143: 66.22779
A144: 2018 | B144: C | C144: Industrie | D144: Industries manufacturières | E144: 17095 | F144: 23251 | G144: 3045602 | H144: 33550.342
A145: 2018 | B145: D | C145: Productie en distributie van elektriciteit, gas, stoom en gekoelde lucht | D145: Production et distribution d'électricité, de gaz, de vapeur et d'air conditionné | E145: 51 | F145: 56 | G145: 8107 | H145: 85.49512
A146: 2018 | B146: E | C146: Distributie van water; afval- en afvalwaterbeheer en sanering | D146: Production et distribution d'eau; assainissement, gestion des déchets et dépollution | E146: 868 | F146: 1117 | G146: 146471 | H146: 1747.0104
A147: 2018 | B147: F | C147: Bouwnijverheid | D147: Construction | E147: 7871 | F147: 10207 | G147: 1429726 | H147: 15650.109
A148: 2018 | B148: G | C148: Groot- en detailhandel; reparatie van auto's en motorfietsen | D148: Commerce; réparation d'automobiles et de motocycles | E148: 88616 | F148: 120106 | G148: 17680999 | H148: 199793.27
A149: 2018 | B149: H | C149: Vervoer en opslag | D149: Transports et entreposage | E149: 7885 | F149: 10207 | G149: 1528762 | H149: 19224.41
A150: 2018 | B150: I | C150: Verschaffen van accommodatie en maaltijden | D150: Hébergement et restauration | E150: 93738 | F150: 149254 | G150: 17938726 | H150: 216139.07
A151: 2018 | B151: J | C151: Informatie et communicatie | D151: Information et communication | E151: 3798 | F151: 5139 | G151: 810547 | H151: 9818.4493
A152: 2018 | B152: K | C152: Financiële activiteiten en verzekeringen | D152: Activités financières et 'assurance | E152: 4006 | F152: 4945 | G152: 729988 | H152: 8003.8846
A153: 2018 | B153: L | C153: Exploitatie van en handel in onroerend goed | D153: Activités immobilières | E153: 1762 | F153: 2437 | G153: 293488 | H153: 3292.8335
... A163: 2018 | B163: U | C163: Extraterritoriale organisaties en lichamen | D163: Activités des organisations et organismes extraterritoriaux | E163: 38 | F163: 53 | G163: 5671 | H163: 72.44739
A164: Totaal 2018 | E164: =SUBTOTAL(9,E142:E163) -> 544749 | F164: =SUBTOTAL(9,F142:F163) -> 831442 | G164: =SUBTOTAL(9,G142:G163) -> 98104829 | H164: =SUBTOTAL(9,H142:H163) -> 1165181.3
...

Sheet NACE 2025
A1: Opmerking: In 2025 werd de NACE-nomenclatuur 2008 ingeruild voor de NACE-nomenclatuur 2025. Een heel aantal NACE-codes bleven overanderd, maar dat geldt zeker niet voor alle codes. In dit tabblad - en ook in de volgende tabbladen met een vermelding van NACE 2025 - brengen we dan ook de verdeling van de gegevens naar NACE- sectie volgens de NACE 25 nomenclatuur. Voor 2025 is dat vanzelfsprekend, maar ook voor de gegevens uit 2024 geven we hier de verdeling volgens NACE 25. We creëren als het ware een fictieve situatie waarin de nieuwe NACE-nomenclatuur 2025 al van kracht was in 2024. Dat is noodzakelijk om de gegevens uit 2025 te vergelijken met hun tegenhanger uit 2024. Deze retropolatie beperkt zich tot 2024. Voor de voorgaande jaren voorzien we enkel een verdeling naar de destijds van toepassing zijnde NACE-nomenclatuur 2008. Die gegevens vindt u onder de tabbladen met vermelding NACE 08. Remarque: En 2025, la nomenclature NACE 2008 a été remplacée par la nomenclature NACE 2025. Un certain nombre de codes NACE sont demeurés inchangés, mais cette stabilité ne s’applique pas à l’ensemble des codes. Dès lors, le présent onglet - et aussi les onglets suivants avec une mention du NACE 2025 - présente la répartition des données par section NACE selon la nomenclature NACE 2025. Pour l’année 2025, cette approche s’impose naturellement ; toutefois, pour les données relatives à l’année 2024, la répartition est également fournie sur la base de la nomenclature NACE 2025. Il s’agit ainsi de créer une situation fictive dans laquelle la nouvelle nomenclature NACE 2025 aurait déjà été d’application en 2024. Cette démarche est indispensable afin de permettre une comparaison cohérente entre les données de 2025 et celles de 2024. Pour les années précédentes, nous ne prévoyons qu’une répartition selon la nomenclature NACE 2008 alors en vigueur. Vous trouverez ces données sous les onglets portant la mention NACE 08.
A3: Jaar Annéé | B3: Section NACE NACE Sectie | C3: Label NACE Sectie | D3: Libellé section NACE | E3: Nombre d'étudiants jobiste Aantal jobstudenten | F3: Aantal studentenjobs Nombre de jobs d'étudiants | G3: Bezoldigde uren Heures rémunérées | H3: Lonen in 1.000 Eur Salaires en 1.000 Eur
A4: 2025 | B4: A | C4: Landbouw, bosbouw en visserij | D4: Agriculture, sylviculture et pêche | E4: 3251 | F4: 4753 | G4: 707772 | H4: 9332.9857
A5: 2025 | B5: B | C5: Winning van delfstoffen | D5: Industries extractives | E5: 13 | F5: 17 | G5: 2329 | H5: 38.28973
A6: 2025 | B6: C | C6: Industrie | D6: Industrie manufacturière | E6: 16904 | F6: 24548 | G6: 3634551 | H6: 51927.284
A7: 2025 | B7: D | C7: Productie en distributie van elektriciteit, gas, stoom en gekoelde lucht | D7: Production et distribution d'électricité, de gaz, de vapeur et d'air conditionné | E7: 85 | F7: 110 | G7: 16075 | H7: 245.94857
A8: 2025 | B8: E | C8: Distributie van water; afval- en afvalwaterbeheer en sanering | D8: Production et distribution d'eau, assainissement, gestion des déchets et dépollution | E8: 919 | F8: 1289 | G8: 190516 | H8: 2900.0746
A9: 2025 | B9: F | C9: Bouwnijverheid | D9: Construction | E9: 9708 | F9: 12945 | G9: 2098734 | H9: 35897.534
A10: 2025 | B10: G | C10: Groot- en detailhandel | D10: Commerce | E10: 100137 | F10: 142358 | G10: 24749794 | H10: 360501.84
A11: 2025 | B11: H | C11: Vervoer en opslag | D11: Transports et entreposage | E11: 8334 | F11: 13230 | G11: 2145485 | H11: 33051.894
A12: 2025 | B12: I | C12: Verschaffen van accommodatie en maaltijden | D12: Hébergement et restauration | E12: 134198 | F12: 223587 | G12: 32508410 | H12: 493214.54
A13: 2025 | B13: J | C13: Activiteiten van uitgeverijen, omroepactiviteiten en productie en distributie van inhoud | D13: Édition, diffusion et activités de production et de distribution de contenu | E13: 1355 | F13: 2147 | G13: 352648 | H13: 5516.3378
A14: 2025 | B14: K | C14: Telecommunicatie, computerprogrammering, consultancy, informatica-infrastructuur en andere activiteiten op het gebied van informatiediensten | D14: Télécommunications, programmation informatique, conseil, infrastructure informatique et autres activités de service d'information | E14: 1996 | F14: 2862 | G14: 532825 | H14: 8246.1691
A15: 2025 | B15: L | C15: Financiële activiteiten en verzekeringen | D15: Activités financières et d'assurance | E15: 2526 | F15: 3604 | G15: 615317 | H15: 9214.8323
... A26: 2025 | B26: V | C26: Activiteiten van extraterritoriale organisaties en instanties | D26: Activités des organisations et organismes extraterritoriaux | E26: 35 | F26: 37 | G26: 9612 | H26: 143.21076
A27: Totaal 2025 | E27: =SUBTOTAL(9,E4:E26) -> 649055 | F27: =SUBTOTAL(9,F4:F26) -> 1063167 | G27: =SUBTOTAL(9,G4:G26) -> 146015932 | H27: =SUBTOTAL(9,H4:H26) -> 2259515.4
A28: 2024 | B28: A | C28: Landbouw, bosbouw en visserij | D28: Agriculture, sylviculture et pêche | E28: 3045 | F28: 4423 | G28: 631252 | H28: 8017.0569
A29: 2024 | B29: B | C29: Winning van delfstoffen | D29: Industries extractives | E29: 20 | F29: 24 | G29: 3643 | H29: 54.88206
A30: 2024 | B30: C | C30: Industrie | D30: Industrie manufacturière | E30: 17131 | F30: 24913 | G30: 3612314 | H30: 49506.63
A31: 2024 | B31: D | C31: Productie en distributie van elektriciteit, gas, stoom en gekoelde lucht | D31: Production et distribution d'électricité, de gaz, de vapeur et d'air conditionné | E31: 73 | F31: 86 | G31: 13299 | H31: 189.2987
A32: 2024 | B32: E | C32: Distributie van water; afval- en afvalwaterbeheer en sanering | D32: Production et distribution d'eau, assainissement, gestion des déchets et dépollution | E32: 907 | F32: 1250 | G32: 186274 | H32: 2746.1937
A33: 2024 | B33: F | C33: Bouwnijverheid | D33: Construction | E33: 9206 | F33: 12251 | G33: 1910792 | H33: 31546.314
A34: 2024 | B34: G | C34: Groot- en detailhandel | D34: Commerce | E34: 99371 | F34: 143526 | G34: 23940138 | H34: 336961.03
A35: 2024 | B35: H | C35: Vervoer en opslag | D35: Transports et entreposage | E35: 8469 | F35: 13254 | G35: 2073974 | H35: 30904.169
A36: 2024 | B36: I | C36: Verschaffen van accommodatie en maaltijden | D36: Hébergement et restauration | E36: 129258 | F36: 215890 | G36: 30694649 | H36: 439753.62
A37: 2024 | B37: J | C37: Activiteiten van uitgeverijen, omroepactiviteiten en productie en distributie van inhoud | D37: Édition, diffusion et activités de production et de distribution de contenu | E37: 1365 | F37: 2136 | G37: 354124 | H37: 5475.2282
A38: 2024 | B38: K | C38: Telecommunicatie, computerprogrammering, consultancy, informatica-infrastructuur en andere activiteiten op het gebied van informatiediensten | D38: Télécommunications, programmation informatique, conseil, infrastructure informatique et autres activités de service d'information | E38: 2209 | F38: 3146 | G38: 565114 | H38: 8396.5593
A39: 2024 | B39: L | C39: Financiële activiteiten en verzekeringen | D39: Activités financières et d'assurance | E39: 2405 | F39: 3229 | G39: 551198 | H39: 8308.43
... A50: 2024 | B50: V | C50: Activiteiten van extraterritoriale organisaties en instanties | D50: Activités des organisations et organismes extraterritoriaux | E50: 42 | F50: 47 | G50: 8825 | H50: 132.16783
A51: Totaal 2024 | E51: =SUBTOTAL(9,E28:E50) -> 640608 | F51: =SUBTOTAL(9,F28:F50) -> 1039047 | G51: =SUBTOTAL(9,G28:G50) -> 141114978 | H51: =SUBTOTAL(9,H28:H50) -> 2095561.8

Sheet dimensieklasse|classe de dim
A1: Jaar Année | B1: Classe de dimension Dimensieklasse | C1: Label | D1: Libellé | E1: Nombre d'étudiants jobistes Aantal jobstudenten | F1: Aantal studentenjobs Nombre de jobs d'étudiants | G1: Bezoldigde uren Heures rémunérées | H1: Lonen in 1.000 Eur Salaires en 1.000 Eur | I1: Aantal werkgevers Nombre d'employeurs
A2: 2025 | B2: 0 | C2: Enkel tewerkgestelde studenten | D2: Uniquement étudiants jobistes | E2: 10394 | F2: 19152 | G2: 2365660 | H2: 36870.364 | I2: 6077
A3: 2025 | B3: 1 | C3: Minder dan 5 werknemers | D3: Moins de 5 travailleurs | E3: 82375 | F3: 137107 | G3: 18073095 | H3: 267309.06 | I3: 32265
A4: 2025 | B4: 2 | C4: 5-9 werkenemers | D4: 5-9 travailleurs | E4: 56762 | F4: 89866 | G4: 13419502 | H4: 196453.08 | I4: 14261
A5: 2025 | B5: 3 | C5: 10-19 werknemers | D5: 10-19 travailleurs | E5: 53287 | F5: 84457 | G5: 12863955 | H5: 188952.19 | I5: 9389
A6: 2025 | B6: 4 | C6: 20-49 werknemers | D6: 20-49 travailleurs | E6: 52101 | F6: 81122 | G6: 12479942 | H6: 184503.38 | I6: 6441
A7: 2025 | B7: 5 | C7: 50-99 werknemers | D7: 50-99 travailleurs | E7: 34558 | F7: 55651 | G7: 7817563 | H7: 119610.93 | I7: 2403
A8: 2025 | B8: 6 | C8: 100-199 werknemers | D8: 100-199 travailleurs | E8: 30612 | F8: 47184 | G8: 6709513 | H8: 109349.05 | I8: 1360
A9: 2025 | B9: 7 | C9: 200-499 werknemers | D9: 200-499 travailleurs | E9: 32028 | F9: 47634 | G9: 6998128 | H9: 116071.78 | I9: 800
A10: 2025 | B10: 8 | C10: 500-999 werknemers | D10: 500-999 travailleurs | E10: 39744 | F10: 65741 | G10: 8700444 | H10: 142669.08 | I10: 253
A11: 2025 | B11: 9 | C11: 1000 of meer werknemers | D11: 1000 travailleurs ou plus | E11: 257194 | F11: 435253 | G11: 56588130 | H11: 897726.45 | I11: 261
A12: Totaal 2025 | E12: =SUBTOTAL(9,E2:E11) -> 649055 | F12: =SUBTOTAL(9,F2:F11) -> 1063167 | G12: =SUBTOTAL(9,G2:G11) -> 146015932 | H12: =SUBTOTAL(9,H2:H11) -> 2259515.4 | I12: =SUBTOTAL(9,I2:I11) -> 73510
A13: 2024 | B13: 0 | C13: Enkel tewerkgestelde studenten | D13: Uniquement étudiants jobistes | E13: 10261 | F13: 18780 | G13: 2255739 | H13: 33808.601 | I13: 5783
A14: 2024 | B14: 1 | C14: minder dan 5 werknemers | D14: Moins de 5 travailleurs | E14: 80265 | F14: 133477 | G14: 17301569 | H14: 243486.33 | I14: 31855
A15: 2024 | B15: 2 | C15: 5-9 werkenemers | D15: 5-9 travailleurs | E15: 56678 | F15: 90839 | G15: 13156596 | H15: 182859.5 | I15: 14168
A16: 2024 | B16: 3 | C16: 10-19 werknemers | D16: 10-19 travailleurs | E16: 49873 | F16: 78565 | G16: 11767133 | H16: 164638.78 | I16: 9249
A17: 2024 | B17: 4 | C17: 20-49 werknemers | D17: 20-49 travailleurs | E17: 52596 | F17: 84101 | G17: 12247122 | H17: 173705.5 | I17: 6375
A18: 2024 | B18: 5 | C18: 50-99 werknemers | D18: 50-99 travailleurs | E18: 31698 | F18: 49520 | G18: 7038227 | H18: 104948.01 | I18: 2395
A19: 2024 | B19: 6 | C19: 100-199 werknemers | D19: 100-199 travailleurs | E19: 32070 | F19: 50451 | G19: 6692225 | H19: 105328.09 | I19: 1387
A20: 2024 | B20: 7 | C20: 200-499 werknemers | D20: 200-499 travailleurs | E20: 34609 | F20: 51287 | G20: 7485172 | H20: 118321.25 | I20: 786
A21: 2024 | B21: 8 | C21: 500-999 werknemers | D21: 500-999 travailleurs | E21: 34185 | F21: 59242 | G21: 7296651 | H21: 114997.02 | I21: 242
A22: 2024 | B22: 9 | C22: 1000 of meer werknemers | D22: 1000 travailleurs ou plus | E22: 258373 | F22: 422785 | G22: 55874544 | H22: 853468.74 | I22: 265
A23: Totaal 2024 | E23: =SUBTOTAL(9,E13:E22) -> 640608 | F23: =SUBTOTAL(9,F13:F22) -> 1039047 | G23: =SUBTOTAL(9,G13:G22) -> 141114978 | H23: =SUBTOTAL(9,H13:H22) -> 2095561.8 | I23: =SUBTOTAL(9,I13:I22) -> 72505
A24: 2023 | B24: 0 | C24: Enkel tewerkgestelde studenten | D24: Uniquement étudiants jobistes | E24: 10704 | F24: 19673 | G24: 2260314 | H24: 33002.865 | I24: 5862
A25: 2023 | B25: 1 | C25: minder dan 5 werknemers | D25: Moins de 5 travailleurs | E25: 81569 | F25: 134453 | G25: 17089457 | H25: 236933.55 | I25: 32318
A26: 2023 | B26: 2 | C26: 5-9 werkenemers | D26: 5-9 travailleurs | E26: 54808 | F26: 87765 | G26: 12350204 | H26: 169476.84 | I26: 13967
A27: 2023 | B27: 3 | C27: 10-19 werknemers | D27: 10-19 travailleurs | E27: 50499 | F27: 79095 | G27: 11599700 | H27: 159982.74 | I27: 9101
A28: 2023 | B28: 4 | C28: 20-49 werknemers | D28: 20-49 travailleurs | E28: 48243 | F28: 77307 | G28: 11187682 | H28: 157020.58 | I28: 6388
A29: 2023 | B29: 5 | C29: 50-99 werknemers | D29: 50-99 travailleurs | E29: 30157 | F29: 49116 | G29: 6506439 | H29: 96567.06 | I29: 2325
A30: 2023 | B30: 6 | C30: 100-199 werknemers | D30: 100-199 travailleurs | E30: 29177 | F30: 46056 | G30: 6051440 | H30: 94051.501 | I30: 1345
A31: 2023 | B31: 7 | C31: 200-499 werknemers | D31: 200-499 travailleurs | E31: 37068 | F31: 57171 | G31: 7800259 | H31: 120774.38 | I31: 802
A32: 2023 | B32: 8 | C32: 500-999 werknemers | D32: 500-999 travailleurs | E32: 26605 | F32: 42245 | G32: 5762921 | H32: 94536.09 | I32: 246
A33: 2023 | B33: 9 | C33: 1000 of meer werknemers | D33: 1000 travailleurs ou plus | E33: 263842 | F33: 436565 | G33: 56179748 | H33: 840549.89 | I33: 263
A34: Totaal 2023 | E34: =SUBTOTAL(9,E24:E33) -> 632672 | F34: =SUBTOTAL(9,F24:F33) -> 1029446 | G34: =SUBTOTAL(9,G24:G33) -> 136788164 | H34: =SUBTOTAL(9,H24:H33) -> 2002895.5 | I34: =SUBTOTAL(9,I24:I33) -> 72617
A35: 2022 | B35: 0 | C35: Enkel tewerkgestelde studenten | D35: Uniquement étudiants jobistes | E35: 10777 | F35: 19585 | G35: 2158675 | H35: 28552.726 | I35: 5901
A36: 2022 | B36: 1 | C36: minder dan 5 werknemers | D36: Moins de 5 travailleurs | E36: 80528 | F36: 134519 | G36: 16048669 | H36: 202027.61 | I36: 32207
A37: 2022 | B37: 2 | C37: 5-9 werkenemers | D37: 5-9 travailleurs | E37: 53749 | F37: 85894 | G37: 11515090 | H37: 143920.57 | I37: 13669
A38: 2022 | B38: 3 | C38: 10-19 werknemers | D38: 10-19 travailleurs | E38: 47944 | F38: 75457 | G38: 10367267 | H38: 130405.88 | I38: 8833
A39: 2022 | B39: 4 | C39: 20-49 werknemers | D39: 20-49 travailleurs | E39: 45230 | F39: 71326 | G39: 9900505 | H39: 127227.52 | I39: 6202
A40: 2022 | B40: 5 | C40: 50-99 werknemers | D40: 50-99 travailleurs | E40: 29172 | F40: 46688 | G40: 6124465 | H40: 83954.218 | I40: 2288
A41: 2022 | B41: 6 | C41: 100-199 werknemers | D41: 100-199 travailleurs | E41: 25033 | F41: 38306 | G41: 4994946 | H41: 71119.125 | I41: 1323
A42: 2022 | B42: 7 | C42: 200-499 werknemers | D42: 200-499 travailleurs | E42: 42870 | F42: 68967 | G42: 8665951 | H42: 122440.59 | I42: 823
A43: 2022 | B43: 8 | C43: 500-999 werknemers | D43: 500-999 travailleurs | E43: 28984 | F43: 47635 | G43: 5938492 | H43: 88760.036 | I43: 241
A44: 2022 | B44: 9 | C44: 1000 of meer werknemers | D44: 1000 travailleurs ou plus | E44: 262446 | F44: 430922 | G44: 53555124 | H44: 738830.83 | I44: 264
A45: Totaal 2022 | E45: =SUBTOTAL(9,E35:E44) -> 626733 | F45: =SUBTOTAL(9,F35:F44) -> 1019299 | G45: =SUBTOTAL(9,G35:G44) -> 129269184 | H45: =SUBTOTAL(9,H35:H44) -> 1737239.1 | I45: =SUBTOTAL(9,I35:I44) -> 71751
A46: 2021 | B46: 0 | C46: Enkel tewerkgestelde studenten | D46: Uniquement étudiants jobistes | E46: 11087 | F46: 18388 | G46: 2211257 | H46: 27866.147 | I46: 5956
A47: 2021 | B47: 1 | C47: minder dan 5 werknemers | D47: Moins de 5 travailleurs | E47: 75612 | F47: 121234 | G47: 15014209 | H47: 181897.8 | I47: 31233
A48: 2021 | B48: 2 | C48: 5-9 werkenemers | D48: 5-9 travailleurs | E48: 47528 | F48: 73234 | G48: 10266696 | H48: 122103.07 | I48: 12900
A49: 2021 | B49: 3 | C49: 10-19 werknemers | D49: 10-19 travailleurs | E49: 41751 | F49: 63859 | G49: 9345360 | H49: 112425.05 | I49: 8289
A50: 2021 | B50: 4 | C50: 20-49 werknemers | D50: 20-49 travailleurs | E50: 36937 | F50: 56941 | G50: 8083997 | H50: 99615.071 | I50: 5561
A51: 2021 | B51: 5 | C51: 50-99 werknemers | D51: 50-99 travailleurs | E51: 22184 | F51: 32123 | G51: 4564722 | H51: 60668.338 | I51: 2126
A52: 2021 | B52: 6 | C52: 100-199 werknemers | D52: 100-199 travailleurs | E52: 25684 | F52: 39314 | G52: 4726366 | H52: 66638.479 | I52: 1262
A53: 2021 | B53: 7 | C53: 200-499 werknemers | D53: 200-499 travailleurs | E53: 36358 | F53: 57003 | G53: 6913854 | H53: 96114.511 | I53: 768
A54: 2021 | B54: 8 | C54: 500-999 werknemers | D54: 500-999 travailleurs | E54: 20338 | F54: 30735 | G54: 4244360 | H54: 59860.035 | I54: 236
A55: 2021 | B55: 9 | C55: 1000 of meer werknemers | D55: 1000 travailleurs ou plus | E55: 247768 | F55: 390686 | G55: 52002147 | H55: 672942.51 | I55: 241
A56: Totaal 2021 | E56: =SUBTOTAL(9,E46:E55) -> 565247 | F56: =SUBTOTAL(9,F46:F55) -> 883517 | G56: =SUBTOTAL(9,G46:G55) -> 117372968 | H56: =SUBTOTAL(9,H46:H55) -> 1500131 | I56: =SUBTOTAL(9,I46:I55) -> 68572
A57: 2020 | B57: 0 | C57: Enkel tewerkgestelde studenten | D57: Uniquement étudiants jobistes | E57: 10659 | F57: 16970 | G57: 1865059 | H57: 23185.848 | I57: 5788
A58: 2020 | B58: 1 | C58: minder dan 5 werknemers | D58: Moins de 5 travailleurs | E58: 72534 | F58: 111878 | G58: 12682592 | H58: 150638.75 | I58: 30144
A59: 2020 | B59: 2 | C59: 5-9 werkenemers | D59: 5-9 travailleurs | E59: 40865 | F59: 61546 | G59: 7860388 | H59: 91697.52 | I59: 11306
A60: 2020 | B60: 3 | C60: 10-19 werknemers | D60: 10-19 travailleurs | E60: 33286 | F60: 49087 | G60: 6790367 | H60: 79238.702 | I60: 7139
A61: 2020 | B61: 4 | C61: 20-49 werknemers | D61: 20-49 travailleurs | E61: 30075 | F61: 44037 | G61: 6059705 | H61: 72257.771 | I61: 4980
A62: 2020 | B62: 5 | C62: 50-99 werknemers | D62: 50-99 travailleurs | E62: 18663 | F62: 26257 | G62: 3586357 | H62: 45825.107 | I62: 1955
A63: 2020 | B63: 6 | C63: 100-199 werknemers | D63: 100-199 travailleurs | E63: 22480 | F63: 32378 | G63: 4001924 | H63: 52058.206 | I63: 1164
A64: 2020 | B64: 7 | C64: 200-499 werknemers | D64: 200-499 travailleurs | E64: 30564 | F64: 45718 | G64: 5663886 | H64: 72974.886 | I64: 721
A65: 2020 | B65: 8 | C65: 500-999 werknemers | D65: 500-999 travailleurs | E65: 25777 | F65: 38490 | G65: 5018536 | H65: 66696.591 | I65: 235
A66: 2020 | B66: 9 | C66: 1000 of meer werknemers | D66: 1000 travailleurs ou plus | E66: 214456 | F66: 317456 | G66: 42597981 | H66: 539174.18 | I66: 243
A67: Totaal 2020 | E67: =SUBTOTAL(9,E57:E66) -> 499359 | F67: =SUBTOTAL(9,F57:F66) -> 743817 | G67: =SUBTOTAL(9,G57:G66) -> 96126795 | H67: =SUBTOTAL(9,H57:H66) -> 1193747.6 | I67: =SUBTOTAL(9,I57:I66) -> 63675
A68: 2019 | B68: 0 | C68: Enkel tewerkgestelde studenten | D68: Uniquement étudiants jobistes | E68: 9913 | F68: 19372 | G68: 1785463 | H68: 22216.373 | I68: 5213
A69: 2019 | B69: 1 | C69: minder dan 5 werknemers | D69: Moins de 5 travailleurs | E69: 69427 | F69: 110328 | G69: 12571123 | H69: 146438.42 | I69: 29280
A70: 2019 | B70: 2 | C70: 5-9 werkenemers | D70: 5-9 travailleurs | E70: 44724 | F70: 68436 | G70: 8673147 | H70: 100581.95 | I70: 12220
A71: 2019 | B71: 3 | C71: 10-19 werknemers | D71: 10-19 travailleurs | E71: 41234 | F71: 61941 | G71: 8255741 | H71: 95660.143 | I71: 8011
A72: 2019 | B72: 4 | C72: 20-49 werknemers | D72: 20-49 travailleurs | E72: 38616 | F72: 57966 | G72: 7701859 | H72: 90589.412 | I72: 5612
A73: 2019 | B73: 5 | C73: 50-99 werknemers | D73: 50-99 travailleurs | E73: 25044 | F73: 40684 | G73: 4550317 | H73: 55723.691 | I73: 2090
A74: 2019 | B74: 6 | C74: 100-199 werknemers | D74: 100-199 travailleurs | E74: 23707 | F74: 35023 | G74: 4232965 | H74: 52481.816 | I74: 1274
A75: 2019 | B75: 7 | C75: 200-499 werknemers | D75: 200-499 travailleurs | E75: 37343 | F75: 58417 | G75: 6685015 | H75: 83330.847 | I75: 808
A76: 2019 | B76: 8 | C76: 500-999 werknemers | D76: 500-999 travailleurs | E76: 23853 | F76: 37144 | G76: 4369215 | H76: 55975.411 | I76: 239
A77: 2019 | B77: 9 | C77: 1000 of meer werknemers | D77: 1000 travailleurs ou plus | E77: 247135 | F77: 382489 | G77: 45172626 | H77: 558373.5 | I77: 260
A78: Totaal 2019 | E78: =SUBTOTAL(9,E68:E77) -> 560996 | F78: =SUBTOTAL(9,F68:F77) -> 871800 | G78: =SUBTOTAL(9,G68:G77) -> 103997471 | H78: =SUBTOTAL(9,H68:H77) -> 1261371.6 | I78: =SUBTOTAL(9,I68:I77) -> 65007
A79: 2018 | B79: 0 | C79: Enkel tewerkgestelde studenten | D79: Uniquement étudiants jobistes | E79: 9809 | F79: 17997 | G79: 1731222 | H79: 21027.382 | I79: 5283
A80: 2018 | B80: 1 | C80: minder dan 5 werknemers | D80: Moins de 5 travailleurs | E80: 66746 | F80: 105128 | G80: 11803047 | H80: 134151.65 | I80: 28216
A81: 2018 | B81: 2 | C81: 5-9 werkenemers | D81: 5-9 travailleurs | E81: 42107 | F81: 63756 | G81: 7825666 | H81: 88803.486 | I81: 11528
A82: 2018 | B82: 3 | C82: 10-19 werknemers | D82: 10-19 travailleurs | E82: 38467 | F82: 56924 | G82: 7552769 | H82: 85716.045 | I82: 7631
A83: 2018 | B83: 4 | C83: 20-49 werknemers | D83: 20-49 travailleurs | E83: 38784 | F83: 58591 | G83: 7536057 | H83: 86600.329 | I83: 5434
A84: 2018 | B84: 5 | C84: 50-99 werknemers | D84: 50-99 travailleurs | E84: 21094 | F84: 30382 | G84: 3853656 | H84: 46397.101 | I84: 2096
A85: 2018 | B85: 6 | C85: 100-199 werknemers | D85: 100-199 travailleurs | E85: 24707 | F85: 36311 | G85: 4238019 | H85: 51615.752 | I85: 1248
A86: 2018 | B86: 7 | C86: 200-499 werknemers | D86: 200-499 travailleurs | E86: 33204 | F86: 49906 | G86: 5897412 | H86: 72583.512 | I86: 791
A87: 2018 | B87: 8 | C87: 500-999 werknemers | D87: 500-999 travailleurs | E87: 30946 | F87: 49360 | G87: 5258999 | H87: 65199.077 | I87: 242
A88: 2018 | B88: 9 | C88: 1000 of meer werknemers | D88: 1000 travailleurs ou plus | E88: 238885 | F88: 363087 | G88: 42407982 | H88: 513086.94 | I88: 253
A89: Totaal 2018 | E89: =SUBTOTAL(9,E79:E88) -> 544749 | F89: =SUBTOTAL(9,F79:F88) -> 831442 | G89: =SUBTOTAL(9,G79:G88) -> 98104829 | H89: =SUBTOTAL(9,H79:H88) -> 1165181.3 | I89: =SUBTOTAL(9,I79:I88) -> 62722
A90: 2017 | B90: 0 | C90: Enkel tewerkgestelde studenten | D90: Uniquement étudiants jobistes | E90: 10128 | F90: 16605 | G90: 1673513 | H90: 19628.607 | I90: 5311
A91: 2017 | B91: 1 | C91: minder dan 5 werknemers | D91: Moins de 5 travailleurs | E91: 64820 | F91: 99785 | G91: 10829127 | H91: 120756.91 | I91: 26825
A92: 2017 | B92: 2 | C92: 5-9 werkenemers | D92: 5-9 travailleurs | E92: 37519 | F92: 55766 | G92: 6756392 | H92: 74935.272 | I92: 10721
A93: 2017 | B93: 3 | C93: 10-19 werknemers | D93: 10-19 travailleurs | E93: 35245 | F93: 51542 | G93: 6638095 | H93: 73423.992 | I93: 7205
A94: 2017 | B94: 4 | C94: 20-49 werknemers | D94: 20-49 travailleurs | E94: 34393 | F94: 48509 | G94: 6432165 | H94: 72506.59 | I94: 5316
A95: 2017 | B95: 5 | C95: 50-99 werknemers | D95: 50-99 travailleurs | E95: 23715 | F95: 34391 | G95: 4089406 | H95: 48682.161 | I95: 1994
A96: 2017 | B96: 6 | C96: 100-199 werknemers | D96: 100-199 travailleurs | E96: 21123 | F96: 29845 | G96: 3539972 | H96: 42478.446 | I96: 1207
A97: 2017 | B97: 7 | C97: 200-499 werknemers | D97: 200-499 travailleurs | E97: 36885 | F97: 55231 | G97: 6014897 | H97: 72938.197 | I97: 759
A98: 2017 | B98: 8 | C98: 500-999 werknemers | D98: 500-999 travailleurs | E98: 26991 | F98: 41643 | G98: 4454532 | H98: 53960.225 | I98: 225
A99: 2017 | B99: 9 | C99: 1000 of meer werknemers | D99: 1000 travailleurs ou plus | E99: 231946 | F99: 344964 | G99: 39166904 | H99: 464653.91 | I99: 244
A100: Totaal 2017 | E100: =SUBTOTAL(9,E90:E99) -> 522765 | F100: =SUBTOTAL(9,F90:F99) -> 778281 | G100: =SUBTOTAL(9,G90:G99) -> 89595003 | H100: =SUBTOTAL(9,H90:H99) -> 1043964.3 | I100: =SUBTOTAL(9,I90:I99) -> 59807
...

Sheet dim spec_student|étudiant
A1: Jaar Année Trimestre | B1: Specifieke dimensie studententewerkstelling Dimension spécifique emploi étudiant | C1: Label | D1: Libellé | E1: Nombre d'étudiants jobistes Aantal jobstudenten | F1: Aantal studentenjobs Nombre de jobs d'étudiants | G1: Volume in bezoldigde uren Volume en heures rémunérées | H1: Lonen in 1.000 Eur Salaires en 1.000 Eur | I1: Aantal werkgevers Nombre d'employeurs
A2: 2025 | B2: 1 | C2: minder dan 5 tewerkgestelde studenten | D2: Moins de 5 étudiants jobistes | E2: 58783 | F2: 87358 | G2: 13731711 | H2: 210894.64 | I2: 49439
A3: 2025 | B3: 2 | C3: 5 tot 9 tewerkgestelde studenten | D3: 5-9 étudiants jobistes | E3: 44247 | F3: 70210 | G3: 9886392 | H3: 146842.66 | I3: 10698
A4: 2025 | B4: 3 | C4: 10 tot 19 tewerkgestelde studenten | D4: 10-19 étudiants jobistes | E4: 59811 | F4: 95096 | G4: 13590256 | H4: 202059.64 | I4: 7046
A5: 2025 | B5: 4 | C5: 20 tot 49 tewerkgestelde studenten | D5: 20-49 étudiants jobistes | E5: 85808 | F5: 133161 | G5: 19703072 | H5: 295927.8 | I5: 4475
A6: 2025 | B6: 5 | C6: 50 tot 99 tewerkgestelde studenten | D6: 50-99 étudiants jobistes | E6: 50707 | F6: 76672 | G6: 11778133 | H6: 181834.21 | I6: 1137
A7: 2025 | B7: 6 | C7: 100 tot 199 tewerkgestelde studenten | D7: 100-199 étudiants jobistes | E7: 34398 | F7: 53447 | G7: 7879594 | H7: 125192.82 | I7: 399
A8: 2025 | B8: 7 | C8: 200 tot 499 tewerkgestelde studenten | D8: 200-499 étudiants jobistes | E8: 33524 | F8: 52819 | G8: 7526429 | H8: 127289.41 | I8: 180
A9: 2025 | B9: 8 | C9: 500 tot 999 tewerkgestelde studenten | D9: 500-999 étudiants jobistes | E9: 24436 | F9: 40166 | G9: 5723136 | H9: 95523.535 | I9: 59
A10: 2025 | B10: 9 | C10: 1.000 of meer tewerkgestelde studenten | D10: 1.000 étudiants jobistes ou plus | E10: 257341 | F10: 454238 | G10: 56197209 | H10: 873950.64 | I10: 77
A11: Totaal 2025 | E11: =SUBTOTAL(9,E2:E10) -> 649055 | F11: =SUBTOTAL(9,F2:F10) -> 1063167 | G11: =SUBTOTAL(9,G2:G10) -> 146015932 | H11: =SUBTOTAL(9,H2:H10) -> 2259515.4 | I11: =SUBTOTAL(9,I2:I10) -> 73510
A12: 2024 | B12: 1 | C12: minder dan 5 tewerkgestelde studenten | D12: Moins de 5 étudiants jobistes | E12: 58200 | F12: 86220 | G12: 13279528 | H12: 195494.22 | I12: 48842
A13: 2024 | B13: 2 | C13: 5 tot 9 tewerkgestelde studenten | D13: 5-9 étudiants jobistes | E13: 43928 | F13: 69482 | G13: 9631794 | H13: 136440.85 | I13: 10558
A14: 2024 | B14: 3 | C14: 10 tot 19 tewerkgestelde studenten | D14: 10-19 étudiants jobistes | E14: 58559 | F14: 92964 | G14: 12994833 | H14: 183741.06 | I14: 6897
A15: 2024 | B15: 4 | C15: 20 tot 49 tewerkgestelde studenten | D15: 20-49 étudiants jobistes | E15: 83460 | F15: 130269 | G15: 18808325 | H15: 270960.04 | I15: 4390
A16: 2024 | B16: 5 | C16: 50 tot 99 tewerkgestelde studenten | D16: 50-99 étudiants jobistes | E16: 49936 | F16: 76583 | G16: 11492779 | H16: 170367.96 | I16: 1143
A17: 2024 | B17: 6 | C17: 100 tot 199 tewerkgestelde studenten | D17: 100-199 étudiants jobistes | E17: 32493 | F17: 50299 | G17: 7092974 | H17: 110143.97 | I17: 369
A18: 2024 | B18: 7 | C18: 200 tot 499 tewerkgestelde studenten | D18: 200-499 étudiants jobistes | E18: 33760 | F18: 52594 | G18: 7408238 | H18: 119275.33 | I18: 177
A19: 2024 | B19: 8 | C19: 500 tot 999 tewerkgestelde studenten | D19: 500-999 étudiants jobistes | E19: 24180 | F19: 38856 | G19: 5250190 | H19: 83836.934 | I19: 55
A20: 2024 | B20: 9 | C20: 1.000 of meer tewerkgestelde studenten | D20: 1.000 étudiants jobistes ou plus | E20: 256092 | F20: 441780 | G20: 55156317 | H20: 825301.47 | I20: 74
A21: Totaal 2024 | E21: =SUBTOTAL(9,E12:E20) -> 640608 | F21: =SUBTOTAL(9,F12:F20) -> 1039047 | G21: =SUBTOTAL(9,G12:G20) -> 141114978 | H21: =SUBTOTAL(9,H12:H20) -> 2095561.8 | I21: =SUBTOTAL(9,I12:I20) -> 72505
A22: 2023 | B22: 1 | C22: minder dan 5 tewerkgestelde studenten | D22: Moins de 5 étudiants jobistes | E22: 58954 | F22: 87460 | G22: 13063090 | H22: 186297.03 | I22: 49370
A23: 2023 | B23: 2 | C23: 5 tot 9 tewerkgestelde studenten | D23: 5-9 étudiants jobistes | E23: 43993 | F23: 69911 | G23: 9373635 | H23: 130434.95 | I23: 10596
A24: 2023 | B24: 3 | C24: 10 tot 19 tewerkgestelde studenten | D24: 10-19 étudiants jobistes | E24: 58165 | F24: 91792 | G24: 12557491 | H24: 175274.77 | I24: 6790
A25: 2023 | B25: 4 | C25: 20 tot 49 tewerkgestelde studenten | D25: 20-49 étudiants jobistes | E25: 79974 | F25: 124432 | G25: 17645444 | H25: 251994.12 | I25: 4191
A26: 2023 | B26: 5 | C26: 50 tot 99 tewerkgestelde studenten | D26: 50-99 étudiants jobistes | E26: 45783 | F26: 69407 | G26: 10399178 | H26: 155239.74 | I26: 1029
A27: 2023 | B27: 6 | C27: 100 tot 199 tewerkgestelde studenten | D27: 100-199 étudiants jobistes | E27: 31689 | F27: 48485 | G27: 6945164 | H27: 107735.01 | I27: 351
A28: 2023 | B28: 7 | C28: 200 tot 499 tewerkgestelde studenten | D28: 200-499 étudiants jobistes | E28: 28504 | F28: 45696 | G28: 6183349 | H28: 96280.702 | I28: 156
A29: 2023 | B29: 8 | C29: 500 tot 999 tewerkgestelde studenten | D29: 500-999 étudiants jobistes | E29: 23707 | F29: 37662 | G29: 5008746 | H29: 79008.254 | I29: 55
A30: 2023 | B30: 9 | C30: 1000 of meer tewerkgestelde studenten | D30: 1000 étudiants jobistes ou plus | E30: 261903 | F30: 454601 | G30: 55612067 | H30: 820630.91 | I30: 79
A31: Totaal 2023 | E31: =SUBTOTAL(9,E22:E30) -> 632672 | F31: =SUBTOTAL(9,F22:F30) -> 1029446 | G31: =SUBTOTAL(9,G22:G30) -> 136788164 | H31: =SUBTOTAL(9,H22:H30) -> 2002895.5 | I31: =SUBTOTAL(9,I22:I30) -> 72617
A32: 2022 | B32: 1 | C32: minder dan 5 tewerkgestelde studenten | D32: Moins de 5 étudiants jobistes | E32: 58340 | F32: 86370 | G32: 12219932 | H32: 158378.43 | I32: 48850
A33: 2022 | B33: 2 | C33: 5 tot 9 tewerkgestelde studenten | D33: 5-9 étudiants jobistes | E33: 43753 | F33: 69706 | G33: 8869362 | H33: 112647.62 | I33: 10590
A34: 2022 | B34: 3 | C34: 10 tot 19 tewerkgestelde studenten | D34: 10-19 étudiants jobistes | E34: 56803 | F34: 90309 | G34: 11778094 | H34: 150629.88 | I34: 6697
A35: 2022 | B35: 4 | C35: 20 tot 49 tewerkgestelde studenten | D35: 20-49 étudiants jobistes | E35: 75335 | F35: 116711 | G35: 15858857 | H35: 208225.3 | I35: 3964
A36: 2022 | B36: 5 | C36: 50 tot 99 tewerkgestelde studenten | D36: 50-99 étudiants jobistes | E36: 44325 | F36: 68110 | G36: 9431740 | H36: 128125.74 | I36: 1020
A37: 2022 | B37: 6 | C37: 100 tot 199 tewerkgestelde studenten | D37: 100-199 étudiants jobistes | E37: 30615 | F37: 46495 | G37: 6497415 | H37: 93019.996 | I37: 336
A38: 2022 | B38: 7 | C38: 200 tot 499 tewerkgestelde studenten | D38: 200-499 étudiants jobistes | E38: 29045 | F38: 46600 | G38: 5925744 | H38: 85873.684 | I38: 160
A39: 2022 | B39: 8 | C39: 500 tot 999 tewerkgestelde studenten | D39: 500-999 étudiants jobistes | E39: 23991 | F39: 38596 | G39: 5015864 | H39: 72156.351 | I39: 55
A40: 2022 | B40: 9 | C40: 1000 of meer tewerkgestelde studenten | D40: 1000 étudiants jobistes ou plus | E40: 264526 | F40: 456402 | G40: 53672176 | H40: 728182.12 | I40: 79
A41: Totaal 2022 | E41: =SUBTOTAL(9,E32:E40) -> 626733 | F41: =SUBTOTAL(9,F32:F40) -> 1019299 | G41: =SUBTOTAL(9,G32:G40) -> 129269184 | H41: =SUBTOTAL(9,H32:H40) -> 1737239.1 | I41: =SUBTOTAL(9,I32:I40) -> 71751
A42: 2021 | B42: 1 | C42: minder dan 5 tewerkgestelde studenten | D42: Moins de 5 étudiants jobistes | E42: 59378 | F42: 84758 | G42: 12652067 | H42: 155330.39 | I42: 48021
A43: 2021 | B43: 2 | C43: 5 tot 9 tewerkgestelde studenten | D43: 5-9 étudiants jobistes | E43: 42306 | F43: 65086 | G43: 8555950 | H43: 103910.79 | I43: 9935
A44: 2021 | B44: 3 | C44: 10 tot 19 tewerkgestelde studenten | D44: 10-19 étudiants jobistes | E44: 53277 | F44: 81746 | G44: 10864439 | H44: 133545.63 | I44: 6108
A45: 2021 | B45: 4 | C45: 20 tot 49 tewerkgestelde studenten | D45: 20-49 étudiants jobistes | E45: 64329 | F45: 96084 | G45: 13404170 | H45: 170368.78 | I45: 3269
A46: 2021 | B46: 5 | C46: 50 tot 99 tewerkgestelde studenten | D46: 50-99 étudiants jobistes | E46: 33233 | F46: 49101 | G46: 6868699 | H46: 91174.301 | I46: 725
A47: 2021 | B47: 6 | C47: 100 tot 199 tewerkgestelde studenten | D47: 100-199 étudiants jobistes | E47: 23559 | F47: 35954 | G47: 4860097 | H47: 67505.824 | I47: 262
A48: 2021 | B48: 7 | C48: 200 tot 499 tewerkgestelde studenten | D48: 200-499 étudiants jobistes | E48: 27137 | F48: 40481 | G48: 5406186 | H48: 76540.866 | I48: 134
A49: 2021 | B49: 8 | C49: 500 tot 999 tewerkgestelde studenten | D49: 500-999 étudiants jobistes | E49: 21908 | F49: 33296 | G49: 4635550 | H49: 62116.345 | I49: 47
A50: 2021 | B50: 9 | C50: 1000 of meer tewerkgestelde studenten | D50: 1000 étudiants jobistes ou plus | E50: 240120 | F50: 397011 | G50: 50125810 | H50: 639638.08 | I50: 71
A51: Totaal 2021 | E51: =SUBTOTAL(9,E42:E50) -> 565247 | F51: =SUBTOTAL(9,F42:F50) -> 883517 | G51: =SUBTOTAL(9,G42:G50) -> 117372968 | H51: =SUBTOTAL(9,H42:H50) -> 1500131 | I51: =SUBTOTAL(9,I42:I50) -> 68572
A52: 2020 | B52: 1 | C52: minder dan 5 tewerkgestelde studenten | D52: Moins de 5 étudiants jobistes | E52: 57098 | F52: 80201 | G52: 11120954 | H52: 134260.65 | I52: 45724
A53: 2020 | B53: 2 | C53: 5 tot 9 tewerkgestelde studenten | D53: 5-9 étudiants jobistes | E53: 39427 | F53: 59109 | G53: 7178364 | H53: 84901.905 | I53: 9022
A54: 2020 | B54: 3 | C54: 10 tot 19 tewerkgestelde studenten | D54: 10-19 étudiants jobistes | E54: 46969 | F54: 69366 | G54: 8669744 | H54: 103416.69 | I54: 5249
A55: 2020 | B55: 4 | C55: 20 tot 49 tewerkgestelde studenten | D55: 20-49 étudiants jobistes | E55: 54129 | F55: 77487 | G55: 10429633 | H55: 127657.23 | I55: 2667
A56: 2020 | B56: 5 | C56: 50 tot 99 tewerkgestelde studenten | D56: 50-99 étudiants jobistes | E56: 27278 | F56: 38923 | G56: 5364783 | H56: 68686.158 | I56: 586
A57: 2020 | B57: 6 | C57: 100 tot 199 tewerkgestelde studenten | D57: 100-199 étudiants jobistes | E57: 19666 | F57: 28629 | G57: 3587572 | H57: 47519.678 | I57: 213
A58: 2020 | B58: 7 | C58: 200 tot 499 tewerkgestelde studenten | D58: 200-499 étudiants jobistes | E58: 22429 | F58: 31265 | G58: 4247326 | H58: 56705.469 | I58: 105
A59: 2020 | B59: 8 | C59: 500 tot 999 tewerkgestelde studenten | D59: 500-999 étudiants jobistes | E59: 22688 | F59: 34498 | G59: 4356212 | H59: 57361.629 | I59: 49
A60: 2020 | B60: 9 | C60: 1000 of meer tewerkgestelde studenten | D60: 1000 étudiants jobistes ou plus | E60: 209675 | F60: 324339 | G60: 41172207 | H60: 513238.15 | I60: 60
A61: Totaal 2020 | E61: =SUBTOTAL(9,E52:E60) -> 499359 | F61: =SUBTOTAL(9,F52:F60) -> 743817 | G61: =SUBTOTAL(9,G52:G60) -> 96126795 | H61: =SUBTOTAL(9,H52:H60) -> 1193747.6 | I61: =SUBTOTAL(9,I52:I60) -> 63675
A62: 2019 | B62: 1 | C62: minder dan 5 tewerkgestelde studenten | D62: Moins de 5 étudiants jobistes | E62: 56086 | F62: 80038 | G62: 10716978 | H62: 126502.68 | I62: 45167
A63: 2019 | B63: 2 | C63: 5 tot 9 tewerkgestelde studenten | D63: 5-9 étudiants jobistes | E63: 41043 | F63: 62673 | G63: 7546369 | H63: 87725.264 | I63: 9531
A64: 2019 | B64: 3 | C64: 10 tot 19 tewerkgestelde studenten | D64: 10-19 étudiants jobistes | E64: 51843 | F64: 78342 | G64: 9668215 | H64: 113418.51 | I64: 5853
A65: 2019 | B65: 4 | C65: 20 tot 49 tewerkgestelde studenten | D65: 20-49 étudiants jobistes | E65: 64849 | F65: 95410 | G65: 12414804 | H65: 147983.43 | I65: 3230
A66: 2019 | B66: 5 | C66: 50 tot 99 tewerkgestelde studenten | D66: 50-99 étudiants jobistes | E66: 32015 | F66: 47150 | G66: 6086929 | H66: 74226.765 | I66: 707
A67: 2019 | B67: 6 | C67: 100 tot 199 tewerkgestelde studenten | D67: 100-199 étudiants jobistes | E67: 24310 | F67: 36128 | G67: 4560640 | H67: 57162.87 | I67: 266
A68: 2019 | B68: 7 | C68: 200 tot 499 tewerkgestelde studenten | D68: 200-499 étudiants jobistes | E68: 26329 | F68: 39935 | G68: 4854344 | H68: 60955.137 | I68: 132
A69: 2019 | B69: 8 | C69: 500 tot 999 tewerkgestelde studenten | D69: 500-999 étudiants jobistes | E69: 23114 | F69: 40885 | G69: 4199194 | H69: 52939.204 | I69: 57
A70: 2019 | B70: 9 | C70: 1000 of meer tewerkgestelde studenten | D70: 1000 étudiants jobistes ou plus | E70: 241407 | F70: 391239 | G70: 43949998 | H70: 540457.7 | I70: 64
A71: Totaal 2019 | E71: =SUBTOTAL(9,E62:E70) -> 560996 | F71: =SUBTOTAL(9,F62:F70) -> 871800 | G71: =SUBTOTAL(9,G62:G70) -> 103997471 | H71: =SUBTOTAL(9,H62:H70) -> 1261371.6 | I71: =SUBTOTAL(9,I62:I70) -> 65007
A72: 2018 | B72: 1 | C72: minder dan 5 tewerkgestelde studenten | D72: Moins de 5 étudiants jobistes | E72: 55108 | F72: 77337 | G72: 10206154 | H72: 117651.15 | I72: 44000
A73: 2018 | B73: 2 | C73: 5 tot 9 tewerkgestelde studenten | D73: 5-9 étudiants jobistes | E73: 39532 | F73: 59552 | G73: 7092296 | H73: 80731.755 | I73: 9084
A74: 2018 | B74: 3 | C74: 10 tot 19 tewerkgestelde studenten | D74: 10-19 étudiants jobistes | E74: 49107 | F74: 73283 | G74: 8941386 | H74: 102788.42 | I74: 5446
A75: 2018 | B75: 4 | C75: 20 tot 49 tewerkgestelde studenten | D75: 20-49 étudiants jobistes | E75: 60958 | F75: 87793 | G75: 11289121 | H75: 131672.88 | I75: 2996
A76: 2018 | B76: 5 | C76: 50 tot 99 tewerkgestelde studenten | D76: 50-99 étudiants jobistes | E76: 34272 | F76: 49143 | G76: 6465021 | H76: 77108.652 | I76: 724
A77: 2018 | B77: 6 | C77: 100 tot 199 tewerkgestelde studenten | D77: 100-199 étudiants jobistes | E77: 21917 | F77: 32276 | G77: 4105141 | H77: 50566.114 | I77: 235
A78: 2018 | B78: 7 | C78: 200 tot 499 tewerkgestelde studenten | D78: 200-499 étudiants jobistes | E78: 24485 | F78: 37833 | G78: 4246004 | H78: 51582.865 | I78: 124
A79: 2018 | B79: 8 | C79: 500 tot 999 tewerkgestelde studenten | D79: 500-999 étudiants jobistes | E79: 21609 | F79: 34242 | G79: 3859981 | H79: 48180.963 | I79: 49
A80: 2018 | B80: 9 | C80: 1000 of meer tewerkgestelde studenten | D80: 1000 étudiants jobistes ou plus | E80: 237761 | F80: 379983 | G80: 41899725 | H80: 504898.48 | I80: 64
A81: Totaal 2018 | E81: =SUBTOTAL(9,E72:E80) -> 544749 | F81: =SUBTOTAL(9,F72:F80) -> 831442 | G81: =SUBTOTAL(9,G72:G80) -> 98104829 | H81: =SUBTOTAL(9,H72:H80) -> 1165181.3 | I81: =SUBTOTAL(9,I72:I80) -> 62722
A82: 2017 | B82: 1 | C82: minder dan 5 tewerkgestelde studenten | D82: Moins de 5 étudiants jobistes | E82: 53694 | F82: 73801 | G82: 9568227 | H82: 108580.98 | I82: 42306
A83: 2017 | B83: 2 | C83: 5 tot 9 tewerkgestelde studenten | D83: 5-9 étudiants jobistes | E83: 38619 | F83: 56545 | G83: 6552742 | H83: 73200.636 | I83: 8641
A84: 2017 | B84: 3 | C84: 10 tot 19 tewerkgestelde studenten | D84: 10-19 étudiants jobistes | E84: 46189 | F84: 67460 | G84: 8064863 | H84: 90997.909 | I84: 5037
A85: 2017 | B85: 4 | C85: 20 tot 49 tewerkgestelde studenten | D85: 20-49 étudiants jobistes | E85: 57185 | F85: 80465 | G85: 10166530 | H85: 116508.96 | I85: 2732
A86: 2017 | B86: 5 | C86: 50 tot 99 tewerkgestelde studenten | D86: 50-99 étudiants jobistes | E86: 30092 | F86: 42722 | G86: 5297043 | H86: 62653.123 | I86: 643
A87: 2017 | B87: 6 | C87: 100 tot 199 tewerkgestelde studenten | D87: 100-199 étudiants jobistes | E87: 21498 | F87: 30269 | G87: 3881577 | H87: 46346.272 | I87: 224
A88: 2017 | B88: 7 | C88: 200 tot 499 tewerkgestelde studenten | D88: 200-499 étudiants jobistes | E88: 24706 | F88: 37749 | G88: 4104003 | H88: 49444.546 | I88: 122
A89: 2017 | B89: 8 | C89: 500 tot 999 tewerkgestelde studenten | D89: 500-999 étudiants jobistes | E89: 17925 | F89: 26930 | G89: 3019782 | H89: 37223.775 | I89: 40
A90: 2017 | B90: 9 | C90: 1000 of meer tewerkgestelde studenten | D90: 1000 étudiants jobistes ou plus | E90: 232857 | F90: 362340 | G90: 38940236 | H90: 459008.11 | I90: 62
A91: Totaal 2017 | E91: =SUBTOTAL(9,E82:E90) -> 522765 | F91: =SUBTOTAL(9,F82:F90) -> 778281 | G91: =SUBTOTAL(9,G82:G90) -> 89595003 | H91: =SUBTOTAL(9,H82:H90) -> 1043964.3 | I91: =SUBTOTAL(9,I82:I90) -> 59807
A92: inhoudstafel - Table des matières

Sheet Kwrtl-trim_sexe
A1: Jaar Année | B1: Kwartalen Trimestres | F1: Code | G1: Geslacht|Sexe | H1: Aantal jobstudenten Nombre d'étudiants jobistes
A2: 2025 | B2: 0 | C2: 0 | D2: 0 | E2: 1 | F2: 0001 | G2: Man-Homme | H2: 19255
A3: 2025 | B3: 0 | C3: 0 | D3: 0 | E3: 1 | F3: 0001 | G3: Vrouw-Femme | H3: 20722
A4: 2025 | B4: 0 | C4: 0 | D4: 1 | E4: 0 | F4: 0010 | G4: Man-Homme | H4: 46517
A5: 2025 | B5: 0 | C5: 0 | D5: 1 | E5: 0 | F5: 0010 | G5: Vrouw-Femme | H5: 39973
A6: 2025 | B6: 0 | C6: 0 | D6: 1 | E6: 1 | F6: 0011 | G6: Man-Homme | H6: 24486
A7: 2025 | B7: 0 | C7: 0 | D7: 1 | E7: 1 | F7: 0011 | G7: Vrouw-Femme | H7: 27973
A8: 2025 | B8: 0 | C8: 1 | D8: 0 | E8: 0 | F8: 0100 | G8: Man-Homme | H8: 7657
A9: 2025 | B9: 0 | C9: 1 | D9: 0 | E9: 0 | F9: 0100 | G9: Vrouw-Femme | H9: 6792
A10: 2025 | B10: 0 | C10: 1 | D10: 0 | E10: 1 | F10: 0101 | G10: Man-Homme | H10: 1750
A11: 2025 | B11: 0 | C11: 1 | D11: 0 | E11: 1 | F11: 0101 | G11: Vrouw-Femme | H11: 1665
A12: 2025 | B12: 0 | C12: 1 | D12: 1 | E12: 0 | F12: 0110 | G12: Man-Homme | H12: 22452
A13: 2025 | B13: 0 | C13: 1 | D13: 1 | E13: 0 | F13: 0110 | G13: Vrouw-Femme | H13: 19073
... A31: 2025 | B31: 1 | C31: 1 | D31: 1 | E31: 1 | F31: 1111 | G31: Vrouw-Femme | H31: 127044
A32: Totaal 2025 | H32: =SUBTOTAL(9,H2:H31) -> 649055
A33: 2024 | B33: 1 | C33: 0 | D33: 0 | E33: 0 | F33: 1000 | G33: Man-Homme | H33: 10537
A34: 2024 | B34: 1 | C34: 0 | D34: 0 | E34: 0 | F34: 1000 | G34: Vrouw-Femme | H34: 11288
A35: 2024 | B35: 1 | C35: 0 | D35: 0 | E35: 1 | F35: 1001 | G35: Man-Homme | H35: 1743
A36: 2024 | B36: 1 | C36: 0 | D36: 0 | E36: 1 | F36: 1001 | G36: Vrouw-Femme | H36: 1966
A37: 2024 | B37: 1 | C37: 0 | D37: 1 | E37: 0 | F37: 1010 | G37: Man-Homme | H37: 5315
A38: 2024 | B38: 1 | C38: 0 | D38: 1 | E38: 0 | F38: 1010 | G38: Vrouw-Femme | H38: 5512
A39: 2024 | B39: 1 | C39: 0 | D39: 1 | E39: 1 | F39: 1011 | G39: Man-Homme | H39: 5303
A40: 2024 | B40: 1 | C40: 0 | D40: 1 | E40: 1 | F40: 1011 | G40: Vrouw-Femme | H40: 6411
A41: 2024 | B41: 1 | C41: 1 | D41: 0 | E41: 0 | F41: 1100 | G41: Man-Homme | H41: 11098
A42: 2024 | B42: 1 | C42: 1 | D42: 0 | E42: 0 | F42: 1100 | G42: Vrouw-Femme | H42: 11691
A43: 2024 | B43: 1 | C43: 1 | D43: 0 | E43: 1 | F43: 1101 | G43: Man-Homme | H43: 3160
A44: 2024 | B44: 1 | C44: 1 | D44: 0 | E44: 1 | F44: 1101 | G44: Vrouw-Femme | H44: 3550
... A48: 2024 | B48: 1 | C48: 1 | D48: 1 | E48: 1 | F48: 1111 | G48: Vrouw-Femme | H48: 119974
A49: 2024 | B49: 0 | C49: 0 | D49: 0 | E49: 1 | F49: 0001 | G49: Man-Homme | H49: 19950
A50: 2024 | B50: 0 | C50: 0 | D50: 0 | E50: 1 | F50: 0001 | G50: Vrouw-Femme | H50: 21137
A51: 2024 | B51: 0 | C51: 0 | D51: 1 | E51: 0 | F51: 0010 | G51: Man-Homme | H51: 51167
A52: 2024 | B52: 0 | C52: 0 | D52: 1 | E52: 0 | F52: 0010 | G52: Vrouw-Femme | H52: 44155
A53: 2024 | B53: 0 | C53: 0 | D53: 1 | E53: 1 | F53: 0011 | G53: Man-Homme | H53: 26359
A54: 2024 | B54: 0 | C54: 0 | D54: 1 | E54: 1 | F54: 0011 | G54: Vrouw-Femme | H54: 29737
A55: 2024 | B55: 0 | C55: 1 | D55: 0 | E55: 0 | F55: 0100 | G55: Man-Homme | H55: 7275
A56: 2024 | B56: 0 | C56: 1 | D56: 0 | E56: 0 | F56: 0100 | G56: Vrouw-Femme | H56: 6621
A57: 2024 | B57: 0 | C57: 1 | D57: 0 | E57: 1 | F57: 0101 | G57: Man-Homme | H57: 1690
A58: 2024 | B58: 0 | C58: 1 | D58: 0 | E58: 1 | F58: 0101 | G58: Vrouw-Femme | H58: 1746
A59: 2024 | B59: 0 | C59: 1 | D59: 1 | E59: 0 | F59: 0110 | G59: Man-Homme | H59: 19056
A60: 2024 | B60: 0 | C60: 1 | D60: 1 | E60: 0 | F60: 0110 | G60: Vrouw-Femme | H60: 17076
... A62: 2024 | B62: 0 | C62: 1 | D62: 1 | E62: 1 | F62: 0111 | G62: Vrouw-Femme | H62: 24057
A63: Totaal 2024 | H63: =SUBTOTAL(9,H33:H62) -> 640608
A64: 2023 | B64: 1 | C64: 0 | D64: 0 | E64: 0 | F64: 1000 | G64: Man-Homme | H64: 10115
A65: 2023 | B65: 1 | C65: 0 | D65: 0 | E65: 0 | F65: 1000 | G65: Vrouw-Femme | H65: 10745
A66: 2023 | B66: 1 | C66: 0 | D66: 0 | E66: 1 | F66: 1001 | G66: Man-Homme | H66: 1501
A67: 2023 | B67: 1 | C67: 0 | D67: 0 | E67: 1 | F67: 1001 | G67: Vrouw-Femme | H67: 1862
A68: 2023 | B68: 1 | C68: 0 | D68: 1 | E68: 0 | F68: 1010 | G68: Man-Homme | H68: 5365
A69: 2023 | B69: 1 | C69: 0 | D69: 1 | E69: 0 | F69: 1010 | G69: Vrouw-Femme | H69: 5383
A70: 2023 | B70: 1 | C70: 0 | D70: 1 | E70: 1 | F70: 1011 | G70: Man-Homme | H70: 5053
A71: 2023 | B71: 1 | C71: 0 | D71: 1 | E71: 1 | F71: 1011 | G71: Vrouw-Femme | H71: 6321
A72: 2023 | B72: 1 | C72: 1 | D72: 0 | E72: 0 | F72: 1100 | G72: Man-Homme | H72: 10470
A73: 2023 | B73: 1 | C73: 1 | D73: 0 | E73: 0 | F73: 1100 | G73: Vrouw-Femme | H73: 11064
A74: 2023 | B74: 1 | C74: 1 | D74: 0 | E74: 1 | F74: 1101 | G74: Man-Homme | H74: 2865
A75: 2023 | B75: 1 | C75: 1 | D75: 0 | E75: 1 | F75: 1101 | G75: Vrouw-Femme | H75: 3210
... A79: 2023 | B79: 1 | C79: 1 | D79: 1 | E79: 1 | F79: 1111 | G79: Vrouw-Femme | H79: 112723
A80: 2023 | B80: 0 | C80: 0 | D80: 0 | E80: 1 | F80: 0001 | G80: Man-Homme | H80: 18673
A81: 2023 | B81: 0 | C81: 0 | D81: 0 | E81: 1 | F81: 0001 | G81: Vrouw-Femme | H81: 20164
A82: 2023 | B82: 0 | C82: 0 | D82: 1 | E82: 0 | F82: 0010 | G82: Man-Homme | H82: 53786
A83: 2023 | B83: 0 | C83: 0 | D83: 1 | E83: 0 | F83: 0010 | G83: Vrouw-Femme | H83: 46883
A84: 2023 | B84: 0 | C84: 0 | D84: 1 | E84: 1 | F84: 0011 | G84: Man-Homme | H84: 27009
A85: 2023 | B85: 0 | C85: 0 | D85: 1 | E85: 1 | F85: 0011 | G85: Vrouw-Femme | H85: 30471
A86: 2023 | B86: 0 | C86: 1 | D86: 0 | E86: 0 | F86: 0100 | G86: Man-Homme | H86: 7474
A87: 2023 | B87: 0 | C87: 1 | D87: 0 | E87: 0 | F87: 0100 | G87: Vrouw-Femme | H87: 6696
A88: 2023 | B88: 0 | C88: 1 | D88: 0 | E88: 1 | F88: 0101 | G88: Man-Homme | H88: 1596
A89: 2023 | B89: 0 | C89: 1 | D89: 0 | E89: 1 | F89: 0101 | G89: Vrouw-Femme | H89: 1733
A90: 2023 | B90: 0 | C90: 1 | D90: 1 | E90: 0 | F90: 0110 | G90: Man-Homme | H90: 21306
A91: 2023 | B91: 0 | C91: 1 | D91: 1 | E91: 0 | F91: 0110 | G91: Vrouw-Femme | H91: 18819
... A93: 2023 | B93: 0 | C93: 1 | D93: 1 | E93: 1 | F93: 0111 | G93: Vrouw-Femme | H93: 25683
A94: Totaal 2023 | H94: =SUBTOTAL(9,H64:H93) -> 632672
A95: 2022 | B95: 1 | C95: 0 | D95: 0 | E95: 0 | F95: 1000 | G95: Man-Homme | H95: 9371
A96: 2022 | B96: 1 | C96: 0 | D96: 0 | E96: 0 | F96: 1000 | G96: Vrouw-Femme | H96: 10226
A97: 2022 | B97: 1 | C97: 0 | D97: 0 | E97: 1 | F97: 1001 | G97: Man-Homme | H97: 1346
A98: 2022 | B98: 1 | C98: 0 | D98: 0 | E98: 1 | F98: 1001 | G98: Vrouw-Femme | H98: 1558
A99: 2022 | B99: 1 | C99: 0 | D99: 1 | E99: 0 | F99: 1010 | G99: Man-Homme | H99: 5065
A100: 2022 | B100: 1 | C100: 0 | D100: 1 | E100: 0 | F100: 1010 | G100: Vrouw-Femme | H100: 5428
A101: 2022 | B101: 1 | C101: 0 | D101: 1 | E101: 1 | F101: 1011 | G101: Man-Homme | H101: 4619
A102: 2022 | B102: 1 | C102: 0 | D102: 1 | E102: 1 | F102: 1011 | G102: Vrouw-Femme | H102: 5878
A103: 2022 | B103: 1 | C103: 1 | D103: 0 | E103: 0 | F103: 1100 | G103: Man-Homme | H103: 10648
A104: 2022 | B104: 1 | C104: 1 | D104: 0 | E104: 0 | F104: 1100 | G104: Vrouw-Femme | H104: 11811
A105: 2022 | B105: 1 | C105: 1 | D105: 0 | E105: 1 | F105: 1101 | G105: Man-Homme | H105: 2696
A106: 2022 | B106: 1 | C106: 1 | D106: 0 | E106: 1 | F106: 1101 | G106: Vrouw-Femme | H106: 3175
... A110: 2022 | B110: 1 | C110: 1 | D110: 1 | E110: 1 | F110: 1111 | G110: Vrouw-Femme | H110: 101965
A111: 2022 | B111: 0 | C111: 0 | D111: 0 | E111: 1 | F111: 0001 | G111: Man-Homme | H111: 17942
A112: 2022 | B112: 0 | C112: 0 | D112: 0 | E112: 1 | F112: 0001 | G112: Vrouw-Femme | H112: 19553
A113: 2022 | B113: 0 | C113: 0 | D113: 1 | E113: 0 | F113: 0010 | G113: Man-Homme | H113: 58589
A114: 2022 | B114: 0 | C114: 0 | D114: 1 | E114: 0 | F114: 0010 | G114: Vrouw-Femme | H114: 50872
A115: 2022 | B115: 0 | C115: 0 | D115: 1 | E115: 1 | F115: 0011 | G115: Man-Homme | H115: 28143
A116: 2022 | B116: 0 | C116: 0 | D116: 1 | E116: 1 | F116: 0011 | G116: Vrouw-Femme | H116: 31796
A117: 2022 | B117: 0 | C117: 1 | D117: 0 | E117: 0 | F117: 0100 | G117: Man-Homme | H117: 7580
A118: 2022 | B118: 0 | C118: 1 | D118: 0 | E118: 0 | F118: 0100 | G118: Vrouw-Femme | H118: 6960
A119: 2022 | B119: 0 | C119: 1 | D119: 0 | E119: 1 | F119: 0101 | G119: Man-Homme | H119: 1615
A120: 2022 | B120: 0 | C120: 1 | D120: 0 | E120: 1 | F120: 0101 | G120: Vrouw-Femme | H120: 1687
A121: 2022 | B121: 0 | C121: 1 | D121: 1 | E121: 0 | F121: 0110 | G121: Man-Homme | H121: 23764
A122: 2022 | B122: 0 | C122: 1 | D122: 1 | E122: 0 | F122: 0110 | G122: Vrouw-Femme | H122: 20786
... A124: 2022 | B124: 0 | C124: 1 | D124: 1 | E124: 1 | F124: 0111 | G124: Vrouw-Femme | H124: 26958
A125: Totaal 2022 | H125: =SUBTOTAL(9,H95:H124) -> 626733
A126: 2021 | B126: 1 | C126: 0 | D126: 0 | E126: 0 | F126: =B126&C126&D126&E126 -> 1000 | G126: Man-Homme | H126: 5668
A127: 2021 | B127: 1 | C127: 0 | D127: 0 | E127: 0 | F127: =B127&C127&D127&E127 -> 1000 | G127: Vrouw-Femme | H127: 6159
A128: 2021 | B128: 1 | C128: 0 | D128: 0 | E128: 1 | F128: =B128&C128&D128&E128 -> 1001 | G128: Man-Homme | H128: 819
A129: 2021 | B129: 1 | C129: 0 | D129: 0 | E129: 1 | F129: =B129&C129&D129&E129 -> 1001 | G129: Vrouw-Femme | H129: 915
...

Sheet werkg_leeftijd|empl_sexe
A1: Jaar Année | B1: Aantal werkgevers Nombre d'employeurs | C1: Leeftijdsklasse Classes d'âge | D1: Tewerkgestelde Studenten Étudiants occupés | E1: Studentenjobs Jobs d'étudiants
A2: 2025 | B2: 1 | C2: 15-17 | D2: 106698 | E2: 106698
A3: 2025 | B3: 1 | C3: 18-20 | D3: 141272 | E3: 141272
A4: 2025 | B4: 1 | C4: 21-23 | D4: 92123 | E4: 92123
A5: 2025 | B5: 1 | C5: 24-26 | D5: 33239 | E5: 33239
A6: 2025 | B6: 1 | C6: 27-29 | D6: 6317 | E6: 6317
A7: 2025 | B7: 1 | C7: 30-39 | D7: 3741 | E7: 3741
A8: 2025 | B8: 1 | C8: 40-49 | D8: 610 | E8: 610
A9: 2025 | B9: 1 | C9: 50-64 | D9: 136 | E9: 136
A10: 2025 | B10: 1 | C10: 65+ | D10: 7 | E10: 7
A11: 2025 | B11: 1 | C11: onbekend-inconnu | D11: 19 | E11: 19
A12: 2025 | B12: 2 | C12: 15-17 | D12: 32028 | E12: 64056
A13: 2025 | B13: 2 | C13: 18-20 | D13: 66800 | E13: 133601
... A35: 2025 | B35: 4 | C35: 50-64 | D35: 1 | E35: 4
A36: 2025 | B36: >4 | C36: 15-17 | D36: 770 | E36: 4166
A37: 2025 | B37: >4 | C37: 18-20 | D37: 4308 | E37: 23846
A38: 2025 | B38: >4 | C38: 21-23 | D38: 4509 | E38: 25180
A39: 2025 | B39: >4 | C39: 24-26 | D39: 1491 | E39: 8400
A40: 2025 | B40: >4 | C40: 27-29 | D40: 331 | E40: 1894
A41: 2025 | B41: >4 | C41: 30-39 | D41: 250 | E41: 1405
A42: 2025 | B42: >4 | C42: 40-49 | D42: 13 | E42: 74
A43: Totaal 2025 | D43: =SUBTOTAL(9,D2:D42) -> 649055 | E43: =SUBTOTAL(9,E2:E42) -> 1063167
A44: 2024 | B44: 1 | C44: 15-17 | D44: 108013 | E44: 108013
A45: 2024 | B45: 1 | C45: 18-20 | D45: 140710 | E45: 140710
A46: 2024 | B46: 1 | C46: 21-23 | D46: 92567 | E46: 92567
A47: 2024 | B47: 1 | C47: 24-26 | D47: 32358 | E47: 32358
A48: 2024 | B48: 1 | C48: 27-29 | D48: 6039 | E48: 6039
A49: 2024 | B49: 1 | C49: 30-39 | D49: 3625 | E49: 3625
A50: 2024 | B50: 1 | C50: 40-49 | D50: 551 | E50: 551
A51: 2024 | B51: 1 | C51: 50-64 | D51: 134 | E51: 134
A52: 2024 | B52: 1 | C52: 65+ | D52: 11 | E52: 11
A53: 2024 | B53: 1 | C53: onbekend-inconnu | D53: 24 | E53: 24
A54: 2024 | B54: 2 | C54: 15-17 | D54: 32053 | E54: 64106
A55: 2024 | B55: 2 | C55: 18-20 | D55: 66001 | E55: 132002
... A77: 2024 | B77: 4 | C77: 40-49 | D77: 14 | E77: 56
A78: 2024 | B78: >4 | C78: 15-17 | D78: 724 | E78: 3867
A79: 2024 | B79: >4 | C79: 18-20 | D79: 4515 | E79: 25011
A80: 2024 | B80: >4 | C80: 21-23 | D80: 4003 | E80: 22343
A81: 2024 | B81: >4 | C81: 24-26 | D81: 1274 | E81: 7134
A82: 2024 | B82: >4 | C82: 27-29 | D82: 273 | E82: 1573
A83: 2024 | B83: >4 | C83: 30-39 | D83: 208 | E83: 1160
A84: 2024 | B84: >4 | C84: 40-49 | D84: 10 | E84: 58
A85: 2024 | B85: >4 | C85: 50-64 | D85: 1 | E85: 5
A86: Totaal 2024 | D86: =SUBTOTAL(9,D44:D85) -> 640608 | E86: =SUBTOTAL(9,E44:E85) -> 1039047
A87: 2023 | B87: 1 | C87: 15-17 | D87: 106604 | E87: 106604
A88: 2023 | B88: 1 | C88: 18-20 | D88: 136757 | E88: 136757
A89: 2023 | B89: 1 | C89: 21-23 | D89: 91921 | E89: 91921
A90: 2023 | B90: 1 | C90: 24-26 | D90: 31108 | E90: 31108
A91: 2023 | B91: 1 | C91: 27-29 | D91: 5794 | E91: 5794
A92: 2023 | B92: 1 | C92: 30-39 | D92: 3518 | E92: 3518
A93: 2023 | B93: 1 | C93: 40-49 | D93: 494 | E93: 494
A94: 2023 | B94: 1 | C94: 50-64 | D94: 125 | E94: 125
A95: 2023 | B95: 1 | C95: 65+ | D95: 12 | E95: 12
A96: 2023 | B96: 1 | C96: onbekend-inconnu | D96: 36 | E96: 36
A97: 2023 | B97: 2 | C97: 15-17 | D97: 33359 | E97: 66718
A98: 2023 | B98: 2 | C98: 18-20 | D98: 65788 | E98: 131576
... A120: 2023 | B120: 4 | C120: 40-49 | D120: 22 | E120: 88
A121: 2023 | B121: >4 | C121: 15-17 | D121: 837 | E121: 4524
A122: 2023 | B122: >4 | C122: 18-20 | D122: 4337 | E122: 24083
A123: 2023 | B123: >4 | C123: 21-23 | D123: 4043 | E123: 22555
A124: 2023 | B124: >4 | C124: 24-26 | D124: 1327 | E124: 7484
A125: 2023 | B125: >4 | C125: 27-29 | D125: 327 | E125: 1881
A126: 2023 | B126: >4 | C126: 30-39 | D126: 219 | E126: 1251
A127: 2023 | B127: >4 | C127: 40-49 | D127: 6 | E127: 33
A128: 2023 | B128: >4 | C128: 50-64 | D128: 2 | E128: 11
A129: Totaal 2023 | D129: =SUBTOTAL(9,D87:D128) -> 632672 | E129: =SUBTOTAL(9,E87:E128) -> 1029446
A130: 2022 | B130: 1 | C130: 15-17 | D130: 106062 | E130: 106062
A131: 2022 | B131: 1 | C131: 18-20 | D131: 135499 | E131: 135499
A132: 2022 | B132: 1 | C132: 21-23 | D132: 92756 | E132: 92756
A133: 2022 | B133: 1 | C133: 24-26 | D133: 30500 | E133: 30500
A134: 2022 | B134: 1 | C134: 27-29 | D134: 5569 | E134: 5569
A135: 2022 | B135: 1 | C135: 30-39 | D135: 3476 | E135: 3476
A136: 2022 | B136: 1 | C136: 40-49 | D136: 542 | E136: 542
A137: 2022 | B137: 1 | C137: 50-64 | D137: 102 | E137: 102
A138: 2022 | B138: 1 | C138: 65+ | D138: 11 | E138: 11
A139: 2022 | B139: 1 | C139: onbekend-inconnu | D139: 42 | E139: 42
A140: 2022 | B140: 2 | C140: 15-17 | D140: 32345 | E140: 64689
A141: 2022 | B141: 2 | C141: 18-20 | D141: 64364 | E141: 128728
... A162: 2022 | B162: 4 | C162: 40-49 | D162: 19 | E162: 76
A163: 2022 | B163: >4 | C163: 15-17 | D163: 900 | E163: 4910
A164: 2022 | B164: >4 | C164: 18-20 | D164: 4518 | E164: 25147
A165: 2022 | B165: >4 | C165: 21-23 | D165: 4133 | E165: 23118
A166: 2022 | B166: >4 | C166: 24-26 | D166: 1188 | E166: 6647
A167: 2022 | B167: >4 | C167: 27-29 | D167: 319 | E167: 1820
A168: 2022 | B168: >4 | C168: 30-39 | D168: 192 | E168: 1103
A169: 2022 | B169: >4 | C169: 40-49 | D169: 9 | E169: 50
A170: 2022 | B170: >4 | C170: 50-64 | D170: 1 | E170: 5
A171: Totaal 2022 | D171: =SUBTOTAL(9,D130:D170) -> 626733 | E171: =SUBTOTAL(9,E130:E170) -> 1019299
A172: 2021 | B172: 1 | C172: 15-17 | D172: 94893 | E172: 94893
A173: 2021 | B173: 1 | C173: 18-20 | D173: 132935 | E173: 132935
A174: 2021 | B174: 1 | C174: 21-23 | D174: 90953 | E174: 90953
A175: 2021 | B175: 1 | C175: 24-26 | D175: 28620 | E175: 28620
A176: 2021 | B176: 1 | C176: 27-29 | D176: 4957 | E176: 4957
A177: 2021 | B177: 1 | C177: 30-39 | D177: 3162 | E177: 3162
A178: 2021 | B178: 1 | C178: 40-49 | D178: 431 | E178: 431
A179: 2021 | B179: 1 | C179: 50-64 | D179: 101 | E179: 101
A180: 2021 | B180: 1 | C180: 65+ | D180: 5 | E180: 5
A181: 2021 | B181: 1 | C181: onbekend-inconnu | D181: 22 | E181: 22
A182: 2021 | B182: 2 | C182: 15-17 | D182: 25773 | E182: 51546
A183: 2021 | B183: 2 | C183: 18-20 | D183: 55994 | E183: 111988
...

Sheet uren_lftd_sexe|hr_age_sexe
A1: Jaar Année | B1: Gewerkte uren Heures prestées | C1: Geslacht|Sexe | D1: Leeftijdsklasse Classe d'âge | E1: Tewerkgestelde studenten Étudiants occupés
A2: 2025 | B2: 0-50 | C2: Man-Homme | D2: 15 - 17 | E2: 21188
A3: 2025 | B3: 0-50 | C3: Man-Homme | D3: 18 - 20 | E3: 18592
A4: 2025 | B4: 0-50 | C4: Man-Homme | D4: 21 - 23 | E4: 9865
A5: 2025 | B5: 0-50 | C5: Man-Homme | D5: 24 - 26 | E5: 3496
A6: 2025 | B6: 0-50 | C6: Man-Homme | D6: 27 - 29 | E6: 783
A7: 2025 | B7: 0-50 | C7: Man-Homme | D7: 30 - 39 | E7: 510
A8: 2025 | B8: 0-50 | C8: Man-Homme | D8: 40-49 | E8: 89
A9: 2025 | B9: 0-50 | C9: Man-Homme | D9: 50-64 | E9: 28
A10: 2025 | B10: 0-50 | C10: Man-Homme | D10: 65+ | E10: 4
A11: 2025 | B11: 0-50 | C11: Man-Homme | D11: Onbekend | E11: 7
A12: 2025 | B12: 0-50 | C12: Vrouw-Femme | D12: 15 - 17 | E12: 21454
A13: 2025 | B13: 0-50 | C13: Vrouw-Femme | D13: 18 - 20 | E13: 18746
... A217: 2025 | B217: >650 | C217: Vrouw-Femme | D217: 50-64 | E217: 1
A218: Totaal 2025 | E218: =SUBTOTAL(9,E2:E217) -> 649055
A219: 2024 | B219: 0-50 | C219: Man-Homme | D219: 15-17 | E219: 20385
A220: 2024 | B220: 0-50 | C220: Man-Homme | D220: 18-20 | E220: 17810
A221: 2024 | B221: 0-50 | C221: Man-Homme | D221: 21-23 | E221: 9688
A222: 2024 | B222: 0-50 | C222: Man-Homme | D222: 24-26 | E222: 3465
A223: 2024 | B223: 0-50 | C223: Man-Homme | D223: 27-29 | E223: 731
A224: 2024 | B224: 0-50 | C224: Man-Homme | D224: 30-39 | E224: 553
A225: 2024 | B225: 0-50 | C225: Man-Homme | D225: 40-49 | E225: 86
A226: 2024 | B226: 0-50 | C226: Man-Homme | D226: 50-64 | E226: 26
A227: 2024 | B227: 0-50 | C227: Man-Homme | D227: 65+ | E227: 5
A228: 2024 | B228: 0-50 | C228: Man-Homme | D228: onbekend-inconnu | E228: 8
A229: 2024 | B229: 0-50 | C229: Vrouw-Femme | D229: 15-17 | E229: 21024
A230: 2024 | B230: 0-50 | C230: Vrouw-Femme | D230: 18-20 | E230: 18000
... A436: 2024 | B436: >650 | C436: Vrouw-Femme | D436: 50-64 | E436: 2
A437: Totaal 2024 | E437: =SUBTOTAL(9,E219:E436) -> 640608
A438: 2023 | B438: 0-50 | C438: Man-Homme | D438: 15-17 | E438: 20248
A439: 2023 | B439: 0-50 | C439: Man-Homme | D439: 18-20 | E439: 17434
A440: 2023 | B440: 0-50 | C440: Man-Homme | D440: 21-23 | E440: 9764
A441: 2023 | B441: 0-50 | C441: Man-Homme | D441: 24-26 | E441: 3436
A442: 2023 | B442: 0-50 | C442: Man-Homme | D442: 27-29 | E442: 777
A443: 2023 | B443: 0-50 | C443: Man-Homme | D443: 30-39 | E443: 503
A444: 2023 | B444: 0-50 | C444: Man-Homme | D444: 40-49 | E444: 70
A445: 2023 | B445: 0-50 | C445: Man-Homme | D445: 50-64 | E445: 26
A446: 2023 | B446: 0-50 | C446: Man-Homme | D446: 65+ | E446: 1
A447: 2023 | B447: 0-50 | C447: Man-Homme | D447: onbekend-inconnu | E447: 14
A448: 2023 | B448: 0-50 | C448: Vrouw-Femme | D448: 15-17 | E448: 21097
A449: 2023 | B449: 0-50 | C449: Vrouw-Femme | D449: 18-20 | E449: 17598
... A641: 2023 | B641: >600 | C641: Vrouw-Femme | D641: 50-64 | E641: 8
A642: Totaal 2023 | E642: =SUBTOTAL(9,E438:E641) -> 632672
A643: 2022 | B643: 0-50 | C643: Man-Homme | D643: 15-17 | E643: 19612
A644: 2022 | B644: 0-50 | C644: Man-Homme | D644: 18-20 | E644: 16971
A645: 2022 | B645: 0-50 | C645: Man-Homme | D645: 21-23 | E645: 10061
A646: 2022 | B646: 0-50 | C646: Man-Homme | D646: 24-26 | E646: 3395
A647: 2022 | B647: 0-50 | C647: Man-Homme | D647: 27-29 | E647: 742
A648: 2022 | B648: 0-50 | C648: Man-Homme | D648: 30-39 | E648: 520
A649: 2022 | B649: 0-50 | C649: Man-Homme | D649: 40-49 | E649: 79
A650: 2022 | B650: 0-50 | C650: Man-Homme | D650: 50-64 | E650: 24
A651: 2022 | B651: 0-50 | C651: Man-Homme | D651: 65+ | E651: 3
A652: 2022 | B652: 0-50 | C652: Man-Homme | D652: onbekend-inconnu | E652: 12
A653: 2022 | B653: 0-50 | C653: Vrouw-Femme | D653: 15-17 | E653: 20190
A654: 2022 | B654: 0-50 | C654: Vrouw-Femme | D654: 18-20 | E654: 17557
... A844: 2022 | B844: >600 | C844: Vrouw-Femme | D844: 50-64 | E844: 6
A845: Totaal 2022 | E845: =SUBTOTAL(9,E643:E844) -> 626733
A846: 2021 | B846: 0-50 | C846: Man-Homme | D846: 15-17 | E846: 17938
A847: 2021 | B847: 0-50 | C847: Man-Homme | D847: 18-20 | E847: 17157
A848: 2021 | B848: 0-50 | C848: Man-Homme | D848: 21-23 | E848: 10028
A849: 2021 | B849: 0-50 | C849: Man-Homme | D849: 24-26 | E849: 3211
A850: 2021 | B850: 0-50 | C850: Man-Homme | D850: 27-29 | E850: 733
A851: 2021 | B851: 0-50 | C851: Man-Homme | D851: 30-39 | E851: 438
A852: 2021 | B852: 0-50 | C852: Man-Homme | D852: 40-49 | E852: 51
A853: 2021 | B853: 0-50 | C853: Man-Homme | D853: 50-64 | E853: 22
A854: 2021 | B854: 0-50 | C854: Man-Homme | D854: 65+ | E854: 3
A855: 2021 | B855: 0-50 | C855: Man-Homme | D855: onbekend-inconnu | E855: 8
A856: 2021 | B856: 0-50 | C856: Vrouw-Femme | D856: 15-17 | E856: 18848
A857: 2021 | B857: 0-50 | C857: Vrouw-Femme | D857: 18-20 | E857: 18097
... A1042: 2021 | B1042: >600 | C1042: Vrouw-Femme | D1042: 50-64 | E1042: 8
A1043: Totaal 2021 | E1043: =SUBTOTAL(9,E846:E1042) -> 565247
A1044: 2020 | B1044: 0-50 | C1044: Man-Homme | D1044: 15-17 | E1044: 14902
A1045: 2020 | B1045: 0-50 | C1045: Man-Homme | D1045: 18-20 | E1045: 16758
A1046: 2020 | B1046: 0-50 | C1046: Man-Homme | D1046: 21-23 | E1046: 10139
A1047: 2020 | B1047: 0-50 | C1047: Man-Homme | D1047: 24-26 | E1047: 3288
A1048: 2020 | B1048: 0-50 | C1048: Man-Homme | D1048: 27-29 | E1048: 638
A1049: 2020 | B1049: 0-50 | C1049: Man-Homme | D1049: 30-39 | E1049: 422
A1050: 2020 | B1050: 0-50 | C1050: Man-Homme | D1050: 40-49 | E1050: 60
A1051: 2020 | B1051: 0-50 | C1051: Man-Homme | D1051: 50-64 | E1051: 14
A1052: 2020 | B1052: 0-50 | C1052: Man-Homme | D1052: 65+ | E1052: 5
A1053: 2020 | B1053: 0-50 | C1053: Man-Homme | D1053: onbekend-inconnu | E1053: 7
A1054: 2020 | B1054: 0-50 | C1054: Vrouw-Femme | D1054: 15-17 | E1054: 16104
A1055: 2020 | B1055: 0-50 | C1055: Vrouw-Femme | D1055: 18-20 | E1055: 18245
... A1238: 2020 | B1238: >600 | C1238: Vrouw-Femme | D1238: 50-64 | E1238: 6
A1239: Totaal 2020 | E1239: =SUBTOTAL(9,E1044:E1238) -> 499359
A1240: 2019 | B1240: 0-50 | C1240: Man-Homme | D1240: 15-17 | E1240: 17149
A1241: 2019 | B1241: 0-50 | C1241: Man-Homme | D1241: 18-20 | E1241: 16999
A1242: 2019 | B1242: 0-50 | C1242: Man-Homme | D1242: 21-23 | E1242: 9741
A1243: 2019 | B1243: 0-50 | C1243: Man-Homme | D1243: 24-26 | E1243: 3308
A1244: 2019 | B1244: 0-50 | C1244: Man-Homme | D1244: 27-29 | E1244: 698
A1245: 2019 | B1245: 0-50 | C1245: Man-Homme | D1245: 30-39 | E1245: 444
A1246: 2019 | B1246: 0-50 | C1246: Man-Homme | D1246: 40-49 | E1246: 67
A1247: 2019 | B1247: 0-50 | C1247: Man-Homme | D1247: 50-64 | E1247: 22
A1248: 2019 | B1248: 0-50 | C1248: Man-Homme | D1248: 65+ | E1248: 3
A1249: 2019 | B1249: 0-50 | C1249: Man-Homme | D1249: onbekend-inconnu | E1249: 9
A1250: 2019 | B1250: 0-50 | C1250: Vrouw-Femme | D1250: 15-17 | E1250: 18549
A1251: 2019 | B1251: 0-50 | C1251: Vrouw-Femme | D1251: 18-20 | E1251: 17700
... A1438: 2019 | B1438: >600 | C1438: Vrouw-Femme | D1438: 30-39 | E1438: 11
A1439: Totaal 2019 | E1439: =SUBTOTAL(9,E1240:E1438) -> 560996
A1440: 2018 | B1440: 0-50 | C1440: Man-Homme | D1440: 15-17 | E1440: 16367
...

Sheet gesl lftd-sexe age
H1: Gemiddelden | Moyennes
A2: Jaar Année | B2: Geslacht Sexe | C2: Tranche d'âge Leeftijdsklasse | D2: Nombre d'étudiants jobistes Aantal jobstudenten | E2: Aantal studentenjobs Nombre de jobs d'étudiants | F2: Bezoldigde uren Heures rémunérées | G2: Lonen in 1.000 Eur Salaires en 1.000 Eur | H2: Aantal jobs per student Nombre de jobs par étudiant | I2: Aantal uren per student Nombre d'heures par étudiant | J2: Loon per student (Eur) Salaire par étudiant (Eur) | K2: Uurloon (Eur) Salaire horaire (Eur)
A3: 2025 | B3: Man-Homme | C3: 15 - 17 | D3: 76698 | E3: 105393 | F3: 10918790 | G3: 146056.39 | H3: =E3/D3 -> 1.3741297 | I3: 142.36082 | J3: 1904.305 | K3: 13.376609
A4: 2025 | B4: Man-Homme | C4: 18 - 20 | D4: 119050 | E4: 195879 | F4: 26503067 | G4: 411039 | H4: =E4/D4 -> 1.6453507 | I4: 222.62131 | J4: 3452.6585 | K4: 15.509111
A5: 2025 | B5: Man-Homme | C5: 21 - 23 | D5: 73076 | E5: 126352 | F5: 19248427 | G5: 311941.28 | H5: =E5/D5 -> 1.7290492 | I5: 263.40285 | J5: 4268.7241 | K5: 16.206066
A6: 2025 | B6: Man-Homme | C6: 24 - 26 | D6: 25012 | E6: 42328 | F6: 7357478 | G6: 120957.28 | H6: =E6/D6 -> 1.6923077 | I6: 294.15792 | J6: 4835.9699 | K6: 16.440046
A7: 2025 | B7: Man-Homme | C7: 27 - 29 | D7: 5069 | E7: 8879 | F7: 1679411 | G7: 28251.158 | H7: =E7/D7 -> 1.7516275 | I7: 331.31012 | J7: 5573.3198 | K7: 16.822063
A8: 2025 | B8: Man-Homme | C8: 30 - 39 | D8: 3539 | E8: 6563 | F8: 1308430 | G8: 22541.193 | H8: =E8/D8 -> 1.8544787 | I8: 369.71743 | J8: 6369.3678 | K8: 17.227664
A9: 2025 | B9: Man-Homme | C9: 40 - 49 | D9: 406 | E9: 649 | F9: 128770 | G9: 2183.4156 | H9: =E9/D9 -> 1.5985222 | I9: 317.16749 | J9: 5377.8709 | K9: 16.955934
A10: 2025 | B10: Man-Homme | C10: 50 - 64 | D10: 69 | E10: 90 | F10: 14463 | G10: 261.04882 | H10: =E10/D10 -> 1.3043478 | I10: 209.6087 | J10: 3783.3162 | K10: 18.049424
A11: 2025 | B11: Man-Homme | C11: 65+ | D11: 4 | E11: 4 | F11: 24 | G11: 0.39905 | H11: =E11/D11 -> 1 | I11: 6 | J11: 99.7625 | K11: 16.627083
A12: 2025 | B12: Man-Homme | C12: Onbekend - Inconnu | D12: 9 | E12: 9 | F12: 322 | G12: 4.475 | H12: =E12/D12 -> 1 | I12: 35.777778 | J12: 497.22222 | K12: 13.897516
A13: 2025 | B13: Vrouw-Femme | C13: 15 - 17 | D13: 73647 | E13: 104166 | F13: 10161757 | G13: 131844.59 | H13: =E13/D13 -> 1.4143957 | I13: 137.97924 | J13: 1790.2235 | K13: 12.974586
A14: 2025 | B14: Vrouw-Femme | C14: 18 - 20 | D14: 128077 | E14: 216028 | F14: 28393938 | G14: 431633.15 | H14: =E14/D14 -> 1.6867041 | I14: 221.69428 | J14: 3370.1067 | K14: 15.201595
... A22: 2025 | B22: Vrouw-Femme | C22: Onbekend - Inconnu | D22: 10 | E22: 10 | F22: 275 | G22: 4.24078 | H22: =E22/D22 -> 1 | I22: 27.5 | J22: 424.078 | K22: 15.421018
A23: Totaal 2025 | D23: =SUBTOTAL(9,D3:D22) -> 649055 | E23: =SUBTOTAL(9,E3:E22) -> 1063167 | F23: =SUBTOTAL(9,F3:F22) -> 146015932 | G23: =SUBTOTAL(9,G3:G22) -> 2259515.4 | H23: =E23/D23 -> 1.638023 | I23: =F23/D23 -> 224.96696 | J23: =G23*1000/D23 -> 3481.2387 | K23: =G23*1000/F23 -> 15.474444
A24: 2024 | B24: Man - Homme | C24: 15-17 | D24: 76840 | E24: 105189 | F24: 10981696 | G24: 141985.45 | H24: =E24/D24 -> 1.3689355 | I24: =F24/D24 -> 142.9164 | J24: =G24*1000/D24 -> 1847.8065 | K24: =G24*1000/F24 -> 12.929283
A25: 2024 | B25: Man - Homme | C25: 18-20 | D25: 117211 | E25: 191929 | F25: 25635255 | G25: 379130.63 | H25: =E25/D25 -> 1.6374658 | I25: =F25/D25 -> 218.71032 | J25: =G25*1000/D25 -> 3234.5994 | K25: =G25*1000/F25 -> 14.789423
A26: 2024 | B26: Man - Homme | C26: 21-23 | D26: 71387 | E26: 120890 | F26: 18141358 | G26: 282882.29 | H26: =E26/D26 -> 1.6934456 | I26: =F26/D26 -> 254.12691 | J26: =G26*1000/D26 -> 3962.6583 | K26: =G26*1000/F26 -> 15.593226
A27: 2024 | B27: Man - Homme | C27: 24-26 | D27: 24006 | E27: 39827 | F27: 6747925 | G27: 107365.28 | H27: =E27/D27 -> 1.6590436 | I27: =F27/D27 -> 281.09327 | J27: =G27*1000/D27 -> 4472.435 | K27: =G27*1000/F27 -> 15.910858
A28: 2024 | B28: Man - Homme | C28: 27-29 | D28: 4917 | E28: 8381 | F28: 1554670 | G28: 25248.059 | H28: =E28/D28 -> 1.7044946 | I28: =F28/D28 -> 316.18263 | J28: =G28*1000/D28 -> 5134.8504 | K28: =G28*1000/F28 -> 16.240141
A29: 2024 | B29: Man - Homme | C29: 30-39 | D29: 3296 | E29: 5890 | F29: 1137420 | G29: 18834.108 | H29: =E29/D29 -> 1.7870146 | I29: =F29/D29 -> 345.09102 | J29: =G29*1000/D29 -> 5714.2317 | K29: =G29*1000/F29 -> 16.558622
A30: 2024 | B30: Man - Homme | C30: 40-49 | D30: 355 | E30: 569 | F30: 105215 | G30: 1752.3598 | H30: =E30/D30 -> 1.6028169 | I30: =F30/D30 -> 296.38028 | J30: =G30*1000/D30 -> 4936.2248 | K30: =G30*1000/F30 -> 16.655038
A31: 2024 | B31: Man - Homme | C31: 50-64 | D31: 70 | E31: 88 | F31: 15260 | G31: 256.13247 | H31: =E31/D31 -> 1.2571429 | I31: =F31/D31 -> 218 | J31: =G31*1000/D31 -> 3659.0353 | K31: =G31*1000/F31 -> 16.784566
A32: 2024 | B32: Man - Homme | C32: 65+ | D32: 6 | E32: 6 | F32: 275 | G32: 4.77414 | H32: =E32/D32 -> 1 | I32: =F32/D32 -> 45.833333 | J32: =G32*1000/D32 -> 795.69 | K32: =G32*1000/F32 -> 17.360509
A33: 2024 | B33: Man - Homme | C33: onbekend-inconnu | D33: 14 | E33: 14 | F33: 684 | G33: 7.89711 | H33: =E33/D33 -> 1 | I33: =F33/D33 -> 48.857143 | J33: =G33*1000/D33 -> 564.07929 | K33: =G33*1000/F33 -> 11.545482
A34: 2024 | B34: Vrouw - Femme | C34: 15-17 | D34: 74804 | E34: 105615 | F34: 10468833 | G34: 131984.19 | H34: =E34/D34 -> 1.4118897 | I34: =F34/D34 -> 139.95018 | J34: =G34*1000/D34 -> 1764.4002 | K34: =G34*1000/F34 -> 12.607345
A35: 2024 | B35: Vrouw - Femme | C35: 18-20 | D35: 127587 | E35: 215219 | F35: 28259515 | G35: 409667.86 | H35: =E35/D35 -> 1.6868411 | I35: =F35/D35 -> 221.49212 | J35: =G35*1000/D35 -> 3210.8903 | K35: =G35*1000/F35 -> 14.496634
... A43: 2024 | B43: Vrouw - Femme | C43: onbekend-inconnu | D43: 11 | E43: 12 | F43: 280 | G43: 4.07903 | H43: =E43/D43 -> 1.0909091 | I43: =F43/D43 -> 25.454545 | J43: =G43*1000/D43 -> 370.82091 | K43: =G43*1000/F43 -> 14.567964
A44: Totaal 2024 | D44: =SUBTOTAL(9,D24:D43) -> 640608 | E44: =SUBTOTAL(9,E24:E43) -> 1039047 | F44: =SUBTOTAL(9,F24:F43) -> 141114978 | G44: =SUBTOTAL(9,G24:G43) -> 2095561.8 | H44: =E44/D44 -> 1.6219701 | I44: =F44/D44 -> 220.28288 | J44: =G44*1000/D44 -> 3271.2077 | K44: =G44*1000/F44 -> 14.850031
A45: 2023 | B45: Man - Homme | C45: 15-17 | D45: 76742 | E45: 106512 | F45: 10842389 | G45: 137486.36 | H45: =E45/D45 -> 1.3879232 | I45: =F45/D45 -> 141.28364 | J45: =G45*1000/D45 -> 1791.54 | K45: =G45*1000/F45 -> 12.680449
A46: 2023 | B46: Man - Homme | C46: 18-20 | D46: 114764 | E46: 187853 | F46: 24521589 | G46: 359940.22 | H46: =E46/D46 -> 1.6368635 | I46: =F46/D46 -> 213.6697 | J46: =G46*1000/D46 -> 3136.3513 | K46: =G46*1000/F46 -> 14.678503
A47: 2023 | B47: Man - Homme | C47: 21-23 | D47: 71219 | E47: 120461 | F47: 17691538 | G47: 270703.02 | H47: =E47/D47 -> 1.6914166 | I47: =F47/D47 -> 248.41037 | J47: =G47*1000/D47 -> 3800.9945 | K47: =G47*1000/F47 -> 15.301271
A48: 2023 | B48: Man - Homme | C48: 24-26 | D48: 23485 | E48: 38910 | F48: 6393985 | G48: 99583.227 | H48: =E48/D48 -> 1.6568022 | I48: =F48/D48 -> 272.25825 | J48: =G48*1000/D48 -> 4240.2907 | K48: =G48*1000/F48 -> 15.574517
A49: 2023 | B49: Man - Homme | C49: 27-29 | D49: 4736 | E49: 8168 | F49: 1482065 | G49: 23586.225 | H49: =E49/D49 -> 1.7246622 | I49: =F49/D49 -> 312.93602 | J49: =G49*1000/D49 -> 4980.1995 | K49: =G49*1000/F49 -> 15.914433
A50: 2023 | B50: Man - Homme | C50: 30-39 | D50: 3171 | E50: 5839 | F50: 1086488 | G50: 17836.473 | H50: =E50/D50 -> 1.841375 | I50: =F50/D50 -> 342.63261 | J50: =G50*1000/D50 -> 5624.8733 | K50: =G50*1000/F50 -> 16.416632
A51: 2023 | B51: Man - Homme | C51: 40-49 | D51: 324 | E51: 521 | F51: 101049 | G51: 1683.7654 | H51: =E51/D51 -> 1.6080247 | I51: =F51/D51 -> 311.87963 | J51: =G51*1000/D51 -> 5196.8067 | K51: =G51*1000/F51 -> 16.66286
A52: 2023 | B52: Man - Homme | C52: 50-64 | D52: 60 | E52: 84 | F52: 10780 | G52: 173.04657 | H52: =E52/D52 -> 1.4 | I52: =F52/D52 -> 179.66667 | J52: =G52*1000/D52 -> 2884.1095 | K52: =G52*1000/F52 -> 16.052558
A53: 2023 | B53: Man - Homme | C53: 65+ | D53: 3 | E53: 3 | F53: 180 | G53: 2.85445 | H53: =E53/D53 -> 1 | I53: =F53/D53 -> 60 | J53: =G53*1000/D53 -> 951.48333 | K53: =G53*1000/F53 -> 15.858056
A54: 2023 | B54: Man - Homme | C54: onbekend-inconnu | D54: 22 | E54: 22 | F54: 1031 | G54: 13.84868 | H54: =E54/D54 -> 1 | I54: =F54/D54 -> 46.863636 | J54: =G54*1000/D54 -> 629.48545 | K54: =G54*1000/F54 -> 13.432279
A55: 2023 | B55: Vrouw - Femme | C55: 15-17 | D55: 75322 | E55: 107397 | F55: 10428762 | G55: 128894 | H55: =E55/D55 -> 1.4258384 | I55: =F55/D55 -> 138.45572 | J55: =G55*1000/D55 -> 1711.2397 | K55: =G55*1000/F55 -> 12.359472
A56: 2023 | B56: Vrouw - Femme | C56: 18-20 | D56: 125112 | E56: 211997 | F56: 27397350 | G56: 395174.52 | H56: =E56/D56 -> 1.6944578 | I56: =F56/D56 -> 218.98259 | J56: =G56*1000/D56 -> 3158.5661 | K56: =G56*1000/F56 -> 14.423823
... A64: 2023 | B64: Vrouw - Femme | C64: onbekend-inconnu | D64: 14 | E64: 14 | F64: 1275 | G64: 16.99922 | H64: =E64/D64 -> 1 | I64: =F64/D64 -> 91.071429 | J64: =G64*1000/D64 -> 1214.23 | K64: =G64*1000/F64 -> 13.332722
A65: Totaal 2023 | D65: =SUBTOTAL(9,D45:D64) -> 632672 | E65: =SUBTOTAL(9,E45:E64) -> 1029446 | F65: =SUBTOTAL(9,F45:F64) -> 136788164 | G65: =SUBTOTAL(9,G45:G64) -> 2002895.5 | H65: =E65/D65 -> 1.6271401 | I65: =F65/D65 -> 216.20708 | J65: =G65*1000/D65 -> 3165.7723 | K65: =G65*1000/F65 -> 14.642316
A66: 2022 | B66: Man - Homme | C66: 15-17 | D66: 75739 | E66: 105153 | F66: 10442537 | G66: 120859.89 | H66: =E66/D66 -> 1.38836 | I66: =F66/D66 -> 137.8753 | J66: =G66*1000/D66 -> 1595.7418 | K66: =G66*1000/F66 -> 11.573805
A67: 2022 | B67: Man - Homme | C67: 18-20 | D67: 112787 | E67: 184148 | F67: 22903126 | G67: 307741.37 | H67: =E67/D67 -> 1.6327059 | I67: =F67/D67 -> 203.0653 | J67: =G67*1000/D67 -> 2728.5181 | K67: =G67*1000/F67 -> 13.436654
A68: 2022 | B68: Man - Homme | C68: 21-23 | D68: 71741 | E68: 120462 | F68: 16629456 | G68: 234161.6 | H68: =E68/D68 -> 1.6791235 | I68: =F68/D68 -> 231.7985 | J68: =G68*1000/D68 -> 3263.9858 | K68: =G68*1000/F68 -> 14.081134
A69: 2022 | B69: Man - Homme | C69: 24-26 | D69: 22940 | E69: 37614 | F69: 5836867 | G69: 83565.276 | H69: =E69/D69 -> 1.6396687 | I69: =F69/D69 -> 254.44058 | J69: =G69*1000/D69 -> 3642.7758 | K69: =G69*1000/F69 -> 14.316803
A70: 2022 | B70: Man - Homme | C70: 27-29 | D70: 4554 | E70: 7912 | F70: 1318276 | G70: 19516.62 | H70: =E70/D70 -> 1.7373737 | I70: =F70/D70 -> 289.4765 | J70: =G70*1000/D70 -> 4285.5995 | K70: =G70*1000/F70 -> 14.804654
A71: 2022 | B71: Man - Homme | C71: 30-39 | D71: 3104 | E71: 5701 | F71: 997382 | G71: 15128.471 | H71: =E71/D71 -> 1.8366624 | I71: =F71/D71 -> 321.32152 | J71: =G71*1000/D71 -> 4873.863 | K71: =G71*1000/F71 -> 15.168181
A72: 2022 | B72: Man - Homme | C72: 40-49 | D72: 309 | E72: 492 | F72: 91338 | G72: 1406.2768 | H72: =E72/D72 -> 1.592233 | I72: =F72/D72 -> 295.59223 | J72: =G72*1000/D72 -> 4551.0574 | K72: =G72*1000/F72 -> 15.396404
A73: 2022 | B73: Man - Homme | C73: 50-64 | D73: 52 | E73: 70 | F73: 10252 | G73: 154.94357 | H73: =E73/D73 -> 1.3461538 | I73: =F73/D73 -> 197.15385 | J73: =G73*1000/D73 -> 2979.684 | K73: =G73*1000/F73 -> 15.113497
A74: 2022 | B74: Man - Homme | C74: 65+ | D74: 4 | E74: 4 | F74: 109 | G74: 1.41196 | H74: =E74/D74 -> 1 | I74: =F74/D74 -> 27.25 | J74: =G74*1000/D74 -> 352.99 | K74: =G74*1000/F74 -> 12.953761
A75: 2022 | B75: Man - Homme | C75: onbekend-inconnu | D75: 18 | E75: 18 | F75: 1235 | G75: 14.09821 | H75: =E75/D75 -> 1 | I75: =F75/D75 -> 68.611111 | J75: =G75*1000/D75 -> 783.23389 | K75: =G75*1000/F75 -> 11.415555
A76: 2022 | B76: Vrouw - Femme | C76: 15-17 | D76: 75003 | E76: 107227 | F76: 10336930 | G76: 117893.01 | H76: =E76/D76 -> 1.4296361 | I76: =F76/D76 -> 137.82022 | J76: =G76*1000/D76 -> 1571.8439 | K76: =G76*1000/F76 -> 11.405031
A77: 2022 | B77: Vrouw - Femme | C77: 18-20 | D77: 124080 | E77: 211084 | F77: 26085554 | G77: 345619.46 | H77: =E77/D77 -> 1.7011928 | I77: =F77/D77 -> 210.23174 | J77: =G77*1000/D77 -> 2785.4567 | K77: =G77*1000/F77 -> 13.249458
... A85: 2022 | B85: Vrouw - Femme | C85: onbekend-inconnu | D85: 24 | E85: 24 | F85: 1558 | G85: 18.82696 | H85: =E85/D85 -> 1 | I85: =F85/D85 -> 64.916667 | J85: =G85*1000/D85 -> 784.45667 | K85: =G85*1000/F85 -> 12.084056
A86: Totaal 2022 | D86: =SUBTOTAL(9,D66:D85) -> 626733 | E86: =SUBTOTAL(9,E66:E85) -> 1019299 | F86: =SUBTOTAL(9,F66:F85) -> 129269184 | G86: =SUBTOTAL(9,G66:G85) -> 1737239.1 | H86: =E86/D86 -> 1.6263688 | I86: =F86/D86 -> 206.25878 | J86: =G86*1000/D86 -> 2771.8967 | K86: =G86*1000/F86 -> 13.438927
A87: 2021 | B87: Man - Homme | C87: 15-17 | D87: 64487 | E87: 86096 | F87: 8581356 | G87: 94727.423 | H87: =E87/D87 -> 1.3350908 | I87: =F87/D87 -> 133.0711 | J87: =G87*1000/D87 -> 1468.9383 | K87: =G87*1000/F87 -> 11.038748
A88: 2021 | B88: Man - Homme | C88: 18-20 | D88: 102946 | E88: 159897 | F88: 20918321 | G88: 267824.33 | H88: =E88/D88 -> 1.5532124 | I88: =F88/D88 -> 203.19703 | J88: =G88*1000/D88 -> 2601.6001 | K88: =G88*1000/F88 -> 12.803338
A89: 2021 | B89: Man - Homme | C89: 21-23 | D89: 65749 | E89: 105837 | F89: 15572913 | G89: 208775.42 | H89: =E89/D89 -> 1.6097127 | I89: =F89/D89 -> 236.85399 | J89: =G89*1000/D89 -> 3175.3399 | K89: =G89*1000/F89 -> 13.406318
A90: 2021 | B90: Man - Homme | C90: 24-26 | D90: 20501 | E90: 32620 | F90: 5502344 | G90: 74885.966 | H90: =E90/D90 -> 1.5911419 | I90: =F90/D90 -> 268.39393 | J90: =G90*1000/D90 -> 3652.7958 | K90: =G90*1000/F90 -> 13.60983
A91: 2021 | B91: Man - Homme | C91: 27-29 | D91: 3965 | E91: 6776 | F91: 1249650 | G91: 17623.712 | H91: =E91/D91 -> 1.7089533 | I91: =F91/D91 -> 315.17024 | J91: =G91*1000/D91 -> 4444.8203 | K91: =G91*1000/F91 -> 14.102919
A92: 2021 | B92: Man - Homme | C92: 30-39 | D92: 2737 | E92: 4830 | F92: 1030553 | G92: 14963.602 | H92: =E92/D92 -> 1.7647059 | I92: =F92/D92 -> 376.52649 | J92: =G92*1000/D92 -> 5467.1545 | K92: =G92*1000/F92 -> 14.519973
A93: 2021 | B93: Man - Homme | C93: 40-49 | D93: 246 | E93: 398 | F93: 88745 | G93: 1316.7921 | H93: =E93/D93 -> 1.6178862 | I93: =F93/D93 -> 360.75203 | J93: =G93*1000/D93 -> 5352.8134 | K93: =G93*1000/F93 -> 14.83793
A94: 2021 | B94: Man - Homme | C94: 50-64 | D94: 51 | E94: 64 | F94: 10950 | G94: 149.87777 | H94: =E94/D94 -> 1.254902 | I94: =F94/D94 -> 214.70588 | J94: =G94*1000/D94 -> 2938.7798 | K94: =G94*1000/F94 -> 13.687468
A95: 2021 | B95: Man - Homme | C95: 65+ | D95: 4 | E95: 4 | F95: 99 | G95: 1.04891 | H95: =E95/D95 -> 1 | I95: =F95/D95 -> 24.75 | J95: =G95*1000/D95 -> 262.2275 | K95: =G95*1000/F95 -> 10.595051
A96: 2021 | B96: Man - Homme | C96: onbekend-inconnu | D96: 10 | E96: 10 | F96: 328 | G96: 3.63173 | H96: =E96/D96 -> 1 | I96: =F96/D96 -> 32.8 | J96: =G96*1000/D96 -> 363.173 | K96: =G96*1000/F96 -> 11.072348
A97: 2021 | B97: Vrouw - Femme | C97: 15-17 | D97: 64945 | E97: 89731 | F97: 8495253 | G97: 91482.045 | H97: =E97/D97 -> 1.381646 | I97: =F97/D97 -> 130.80688 | J97: =G97*1000/D97 -> 1408.608 | K97: =G97*1000/F97 -> 10.768607
A98: 2021 | B98: Vrouw - Femme | C98: 18-20 | D98: 115093 | E98: 187308 | F98: 23862863 | G98: 299148.31 | H98: =E98/D98 -> 1.6274491 | I98: =F98/D98 -> 207.33549 | J98: =G98*1000/D98 -> 2599.1877 | K98: =G98*1000/F98 -> 12.536145
... A106: 2021 | B106: Vrouw - Femme | C106: onbekend-inconnu | D106: 12 | E106: 12 | F106: 745 | G106: 8.70261 | H106: =E106/D106 -> 1 | I106: =F106/D106 -> 62.083333 | J106: =G106*1000/D106 -> 725.2175 | K106: =G106*1000/F106 -> 11.681356
A107: Totaal 2021 | D107: =SUBTOTAL(9,D87:D106) -> 565247 | E107: =SUBTOTAL(9,E87:E106) -> 883517 | F107: =SUBTOTAL(9,F87:F106) -> 117372968 | G107: =SUBTOTAL(9,G87:G106) -> 1500131 | H107: =E107/D107 -> 1.5630636 | I107: =F107/D107 -> 207.64899 | J107: =G107*1000/D107 -> 2653.9389 | K107: =G107*1000/F107 -> 12.78089
A108: 2020 | B108: Man - Homme | C108: 15-17 | D108: 53507 | E108: 67967 | F108: 7269160 | G108: 77919.996 | H108: =E108/D108 -> 1.270245 | I108: =F108/D108 -> 135.85437 | J108: =G108*1000/D108 -> 1456.258 | K108: =G108*1000/F108 -> 10.719257
A109: 2020 | B109: Man - Homme | C109: 18-20 | D109: 92601 | E109: 136418 | F109: 18048197 | G109: 224811.29 | H109: =E109/D109 -> 1.4731806 | I109: =F109/D109 -> 194.90283 | J109: =G109*1000/D109 -> 2427.7415 | K109: =G109*1000/F109 -> 12.456163
A110: 2020 | B110: Man - Homme | C110: 21-23 | D110: 58399 | E110: 88701 | F110: 12276783 | G110: 161305.03 | H110: =E110/D110 -> 1.5188787 | I110: =F110/D110 -> 210.22249 | J110: =G110*1000/D110 -> 2762.1197 | K110: =G110*1000/F110 -> 13.13903
A111: 2020 | B111: Man - Homme | C111: 24-26 | D111: 18157 | E111: 27940 | F111: 4199687 | G111: 56152.972 | H111: =E111/D111 -> 1.5388005 | I111: =F111/D111 -> 231.29851 | J111: =G111*1000/D111 -> 3092.6349 | K111: =G111*1000/F111 -> 13.370752
A112: 2020 | B112: Man - Homme | C112: 27-29 | D112: 3407 | E112: 5426 | F112: 915429 | G112: 12727.423 | H112: =E112/D112 -> 1.5926035 | I112: =F112/D112 -> 268.69064 | J112: =G112*1000/D112 -> 3735.6687 | K112: =G112*1000/F112 -> 13.903234
A113: 2020 | B113: Man - Homme | C113: 30-39 | D113: 2291 | E113: 3771 | F113: 732162 | G113: 10454.703 | H113: =E113/D113 -> 1.6460061 | I113: =F113/D113 -> 319.58184 | J113: =G113*1000/D113 -> 4563.3796 | K113: =G113*1000/F113 -> 14.279221
A114: 2020 | B114: Man - Homme | C114: 40-49 | D114: 227 | E114: 343 | F114: 63339 | G114: 883.21979 | H114: =E114/D114 -> 1.5110132 | I114: =F114/D114 -> 279.02643 | J114: =G114*1000/D114 -> 3890.8361 | K114: =G114*1000/F114 -> 13.944328
A115: 2020 | B115: Man - Homme | C115: 50-64 | D115: 37 | E115: 41 | F115: 6257 | G115: 87.86696 | H115: =E115/D115 -> 1.1081081 | I115: =F115/D115 -> 169.10811 | J115: =G115*1000/D115 -> 2374.7827 | K115: =G115*1000/F115 -> 14.042985
A116: 2020 | B116: Man - Homme | C116: 65+ | D116: 6 | E116: 6 | F116: 118 | G116: 1.82546 | H116: =E116/D116 -> 1 | I116: =F116/D116 -> 19.666667 | J116: =G116*1000/D116 -> 304.24333 | K116: =G116*1000/F116 -> 15.47
A117: 2020 | B117: Man - Homme | C117: onbekend-inconnu | D117: 10 | E117: 10 | F117: 327 | G117: 2.62135 | H117: =E117/D117 -> 1 | I117: =F117/D117 -> 32.7 | J117: =G117*1000/D117 -> 262.135 | K117: =G117*1000/F117 -> 8.0163609
A118: 2020 | B118: Vrouw - Femme | C118: 15-17 | D118: 54416 | E118: 71707 | F118: 7189736 | G118: 75011.172 | H118: =E118/D118 -> 1.3177558 | I118: =F118/D118 -> 132.1254 | J118: =G118*1000/D118 -> 1378.4764 | K118: =G118*1000/F118 -> 10.433091
A119: 2020 | B119: Vrouw - Femme | C119: 18-20 | D119: 104567 | E119: 160729 | F119: 20202682 | G119: 244965.28 | H119: =E119/D119 -> 1.5370911 | I119: =F119/D119 -> 193.20323 | J119: =G119*1000/D119 -> 2342.6633 | K119: =G119*1000/F119 -> 12.125384
... A127: 2020 | B127: Vrouw - Femme | C127: onbekend-inconnu | D127: 6 | E127: 6 | F127: 406 | G127: 5.05642 | H127: =E127/D127 -> 1 | I127: =F127/D127 -> 67.666667 | J127: =G127*1000/D127 -> 842.73667 | K127: =G127*1000/F127 -> 12.454236
A128: Totaal 2020 | D128: =SUBTOTAL(9,D108:D127) -> 499359 | E128: =SUBTOTAL(9,E108:E127) -> 743817 | F128: =SUBTOTAL(9,F108:F127) -> 96126795 | G128: =SUBTOTAL(9,G108:G127) -> 1193747.6 | H128: =E128/D128 -> 1.4895436 | I128: =F128/D128 -> 192.50038 | J128: =G128*1000/D128 -> 2390.5598 | K128: =G128*1000/F128 -> 12.418468
A129: 2019 | B129: Man - Homme | C129: 15-17 | D129: 63820 | E129: 85271 | F129: 8251863 | G129: 87288.585 | H129: =E129/D129 -> 1.3361172 | I129: =F129/D129 -> 129.29901 | J129: =G129*1000/D129 -> 1367.7309 | K129: =G129*1000/F129 -> 10.578046
A130: 2019 | B130: Man - Homme | C130: 18-20 | D130: 105348 | E130: 162338 | F130: 19511224 | G130: 239664.57 | H130: =E130/D130 -> 1.540969 | I130: =F130/D130 -> 185.20735 | J130: =G130*1000/D130 -> 2274.9798 | K130: =G130*1000/F130 -> 12.28342
A131: 2019 | B131: Man - Homme | C131: 21-23 | D131: 64724 | E131: 102393 | F131: 13386725 | G131: 171971.94 | H131: =E131/D131 -> 1.5819943 | I131: =F131/D131 -> 206.82784 | J131: =G131*1000/D131 -> 2657.0043 | K131: =G131*1000/F131 -> 12.846454
A132: 2019 | B132: Man - Homme | C132: 24-26 | D132: 19900 | E132: 31526 | F132: 4422037 | G132: 57737.745 | H132: =E132/D132 -> 1.5842211 | I132: =F132/D132 -> 222.21291 | J132: =G132*1000/D132 -> 2901.3942 | K132: =G132*1000/F132 -> 13.056821
A133: 2019 | B133: Man - Homme | C133: 27-29 | D133: 3739 | E133: 5933 | F133: 916275 | G133: 12315.139 | H133: =E133/D133 -> 1.5867879 | I133: =F133/D133 -> 245.05884 | J133: =G133*1000/D133 -> 3293.6985 | K133: =G133*1000/F133 -> 13.44044
A134: 2019 | B134: Man - Homme | C134: 30-39 | D134: 2306 | E134: 3836 | F134: 622960 | G134: 8571.6124 | H134: =E134/D134 -> 1.6634866 | I134: =F134/D134 -> 270.14744 | J134: =G134*1000/D134 -> 3717.0912 | K134: =G134*1000/F134 -> 13.759491
A135: 2019 | B135: Man - Homme | C135: 40-49 | D135: 258 | E135: 384 | F135: 58722 | G135: 807.42015 | H135: =E135/D135 -> 1.4883721 | I135: =F135/D135 -> 227.60465 | J135: =G135*1000/D135 -> 3129.5355 | K135: =G135*1000/F135 -> 13.749875
A136: 2019 | B136: Man - Homme | C136: 50-64 | D136: 49 | E136: 64 | F136: 7988 | G136: 110.10648 | H136: =E136/D136 -> 1.3061224 | I136: =F136/D136 -> 163.02041 | J136: =G136*1000/D136 -> 2247.071 | K136: =G136*1000/F136 -> 13.783986
A137: 2019 | B137: Man - Homme | C137: 65+ | D137: 5 | E137: 5 | F137: 358 | G137: 4.1368 | H137: =E137/D137 -> 1 | I137: =F137/D137 -> 71.6 | J137: =G137*1000/D137 -> 827.36 | K137: =G137*1000/F137 -> 11.555307
A138: 2019 | B138: Man - Homme | C138: onbekend-inconnu | D138: 14 | E138: 14 | F138: 851 | G138: 12.02566 | H138: =E138/D138 -> 1 | I138: =F138/D138 -> 60.785714 | J138: =G138*1000/D138 -> 858.97571 | K138: =G138*1000/F138 -> 14.13121
A139: 2019 | B139: Vrouw - Femme | C139: 15-17 | D139: 64502 | E139: 89728 | F139: 8146391 | G139: 83901.9 | H139: =E139/D139 -> 1.3910886 | I139: =F139/D139 -> 126.29672 | J139: =G139*1000/D139 -> 1300.7643 | K139: =G139*1000/F139 -> 10.299272
A140: 2019 | B140: Vrouw - Femme | C140: 18-20 | D140: 117657 | E140: 191058 | F140: 22348104 | G140: 266252.97 | H140: =E140/D140 -> 1.6238558 | I140: =F140/D140 -> 189.94283 | J140: =G140*1000/D140 -> 2262.959 | K140: =G140*1000/F140 -> 11.913895
... A148: 2019 | B148: Vrouw - Femme | C148: onbekend-inconnu | D148: 9 | E148: 9 | F148: 682 | G148: 9.33839 | H148: =E148/D148 -> 1 | I148: =F148/D148 -> 75.777778 | J148: =G148*1000/D148 -> 1037.5989 | K148: =G148*1000/F148 -> 13.692654
A149: Totaal 2019 | D149: =SUBTOTAL(9,D129:D148) -> 560996 | E149: =SUBTOTAL(9,E129:E148) -> 871800 | F149: =SUBTOTAL(9,F129:F148) -> 103997471 | G149: =SUBTOTAL(9,G129:G148) -> 1261371.6 | H149: =E149/D149 -> 1.5540218 | I149: =F149/D149 -> 185.38006 | J149: =G149*1000/D149 -> 2248.4502 | K149: =G149*1000/F149 -> 12.128868
...

Sheet NACE 08-sexe
A1: Opmerking: In 2025 werd de NACE-nomenclatuur 2008 ingeruild voor de NACE-nomenclatuur 2025. Een heel aantal NACE-codes bleven overanderd, maar dat geldt zeker niet voor alle codes. In dit tabblad - en ook in de volgende tabbladen met een vermelding van NACE 2025 - brengen we dan ook de verdeling van de gegevens naar NACE- sectie volgens de NACE 25 nomenclatuur. Voor 2025 is dat vanzelfsprekend, maar ook voor de gegevens uit 2024 geven we hier de verdeling volgens NACE 25. We creëren als het ware een fictieve situatie waarin de nieuwe NACE-nomenclatuur 2025 al van kracht was in 2024. Dat is noodzakelijk om de gegevens uit 2025 te vergelijken met hun tegenhanger uit 2024. Deze retropolatie beperkt zich tot 2024. Voor de voorgaande jaren voorzien we enkel een verdeling naar de destijds van toepassing zijnde NACE-nomenclatuur 2008. Die gegevens vindt u onder de tabbladen met vermelding NACE 08. Remarque: En 2025, la nomenclature NACE 2008 a été remplacée par la nomenclature NACE 2025. Un certain nombre de codes NACE sont demeurés inchangés, mais cette stabilité ne s’applique pas à l’ensemble des codes. Dès lors, le présent onglet - et aussi les onglets suivants avec une mention du NACE 2025 - présente la répartition des données par section NACE selon la nomenclature NACE 2025. Pour l’année 2025, cette approche s’impose naturellement ; toutefois, pour les données relatives à l’année 2024, la répartition est également fournie sur la base de la nomenclature NACE 2025. Il s’agit ainsi de créer une situation fictive dans laquelle la nouvelle nomenclature NACE 2025 aurait déjà été d’application en 2024. Cette démarche est indispensable afin de permettre une comparaison cohérente entre les données de 2025 et celles de 2024. Pour les années précédentes, nous ne prévoyons qu’une répartition selon la nomenclature NACE 2008 alors en vigueur. Vous trouverez ces données sous les onglets portant la mention NACE 08.
A3: Jaar Années | B3: Section NACE NACE Sectie | C3: Label NACE Sectie | D3: Libellé section NACE | E3: Geslacht Sexe | F3: Aantal jobstudenten Nombre d' étudiants jobistes | G3: Aantal studentenjobs Nombre de jobs d'étudiants | H3: Bezoldigde uren Heures rémunérées | I3: Lonen in 1.000 Eur Salaires en 1.000 Eur
A4: 2024 | B4: A | C4: Landbouw, bosbouw en visserij | D4: =VLOOKUP(C4,NACE08!$C$4:$D$25,2,FALSE) -> Agriculture, sylviculture et pêche | E4: Man - Homme | F4: 1979 | G4: 2830 | H4: 432199 | I4: 5507.0441
A5: 2024 | B5: A | C5: Landbouw, bosbouw en visserij | D5: =VLOOKUP(C5,NACE08!$C$4:$D$25,2,FALSE) -> Agriculture, sylviculture et pêche | E5: Vrouw - Femme | F5: 1062 | G5: 1591 | H5: 198822 | I5: 2507.8868
A6: 2024 | B6: B | C6: Winning van delfstoffen | D6: =VLOOKUP(C6,NACE08!$C$4:$D$25,2,FALSE) -> Industries extractives | E6: Man - Homme | F6: 17 | G6: 21 | H6: 3341 | I6: 49.55245
A7: 2024 | B7: B | C7: Winning van delfstoffen | D7: =VLOOKUP(C7,NACE08!$C$4:$D$25,2,FALSE) -> Industries extractives | E7: Vrouw - Femme | F7: 4 | G7: 5 | H7: 662 | I7: 8.84338
A8: 2024 | B8: C | C8: Industrie | D8: =VLOOKUP(C8,NACE08!$C$4:$D$25,2,FALSE) -> Industries manufacturières | E8: Man - Homme | F8: 7897 | G8: 11115 | H8: 1617555 | I8: 23925.376
A9: 2024 | B9: C | C9: Industrie | D9: =VLOOKUP(C9,NACE08!$C$4:$D$25,2,FALSE) -> Industries manufacturières | E9: Vrouw - Femme | F9: 9235 | G9: 13801 | H9: 1994200 | I9: 25578.305
A10: 2024 | B10: D | C10: Productie en distributie van elektriciteit, gas, stoom en gekoelde lucht | D10: =VLOOKUP(C10,NACE08!$C$4:$D$25,2,FALSE) -> Production et distribution d'électricité, de gaz, de vapeur et d'air conditionné | E10: Man - Homme | F10: 48 | G10: 56 | H10: 8865 | I10: 126.03482
A11: 2024 | B11: D | C11: Productie en distributie van elektriciteit, gas, stoom en gekoelde lucht | D11: =VLOOKUP(C11,NACE08!$C$4:$D$25,2,FALSE) -> Production et distribution d'électricité, de gaz, de vapeur et d'air conditionné | E11: Vrouw - Femme | F11: 25 | G11: 30 | H11: 4434 | I11: 63.26388
A12: 2024 | B12: E | C12: Distributie van water; afval- en afvalwaterbeheer en sanering | D12: =VLOOKUP(C12,NACE08!$C$4:$D$25,2,FALSE) -> Production et distribution d'eau; assainissement, gestion des déchets et dépollution | E12: Man - Homme | F12: 677 | G12: 933 | H12: 141845 | I12: 2110.4877
A13: 2024 | B13: E | C13: Distributie van water; afval- en afvalwaterbeheer en sanering | D13: =VLOOKUP(C13,NACE08!$C$4:$D$25,2,FALSE) -> Production et distribution d'eau; assainissement, gestion des déchets et dépollution | E13: Vrouw - Femme | F13: 226 | G13: 309 | H13: 42885 | I13: 613.82631
A14: 2024 | B14: F | C14: Bouwnijverheid | D14: =VLOOKUP(C14,NACE08!$C$4:$D$25,2,FALSE) -> Construction | E14: Man - Homme | F14: 8136 | G14: 10654 | H14: 1681710 | I14: 28128.553
A15: 2024 | B15: F | C15: Bouwnijverheid | D15: =VLOOKUP(C15,NACE08!$C$4:$D$25,2,FALSE) -> Construction | E15: Vrouw - Femme | F15: 1168 | G15: 1759 | H15: 253378 | I15: 3793.0695
... A47: 2024 | B47: U | C47: Extraterritoriale organisaties en lichamen | D47: =VLOOKUP(C47,NACE08!$C$4:$D$25,2,FALSE) -> Activités des organisations et organismes extraterritoriaux | E47: Vrouw - Femme | F47: 28 | G47: 30 | H47: 6274 | I47: 95.05853
A48: Totaal 2024 | F48: =SUBTOTAL(9,F4:F47) -> 640608 | G48: =SUBTOTAL(9,G4:G47) -> 1039047 | H48: =SUBTOTAL(9,H4:H47) -> 141114978 | I48: =SUBTOTAL(9,I4:I47) -> 2095561.8
A49: 2023 | B49: A | C49: Landbouw, bosbouw en visserij | D49: =VLOOKUP(C49,NACE08!$C$4:$D$25,2,FALSE) -> Agriculture, sylviculture et pêche | E49: Man - Homme | F49: 1825 | G49: 2605 | H49: 372180 | I49: 4653.3746
A50: 2023 | B50: A | C50: Landbouw, bosbouw en visserij | D50: =VLOOKUP(C50,NACE08!$C$4:$D$25,2,FALSE) -> Agriculture, sylviculture et pêche | E50: Vrouw - Femme | F50: 997 | G50: 1514 | H50: 178217 | I50: 2198.6197
A51: 2023 | B51: B | C51: Winning van delfstoffen | D51: =VLOOKUP(C51,NACE08!$C$4:$D$25,2,FALSE) -> Industries extractives | E51: Man - Homme | F51: 15 | G51: 16 | H51: 3644 | I51: 53.46562
A52: 2023 | B52: B | C52: Winning van delfstoffen | D52: =VLOOKUP(C52,NACE08!$C$4:$D$25,2,FALSE) -> Industries extractives | E52: Vrouw - Femme | F52: 3 | G52: 3 | H52: 543 | I52: 6.61603
A53: 2023 | B53: C | C53: Industrie | D53: =VLOOKUP(C53,NACE08!$C$4:$D$25,2,FALSE) -> Industries manufacturières | E53: Man - Homme | F53: 8034 | G53: 11239 | H53: 1602426 | I53: 22856.175
A54: 2023 | B54: C | C54: Industrie | D54: =VLOOKUP(C54,NACE08!$C$4:$D$25,2,FALSE) -> Industries manufacturières | E54: Vrouw - Femme | F54: 9448 | G54: 14268 | H54: 2003550 | I54: 25018.338
A55: 2023 | B55: D | C55: Productie en distributie van elektriciteit, gas, stoom en gekoelde lucht | D55: =VLOOKUP(C55,NACE08!$C$4:$D$25,2,FALSE) -> Production et distribution d'électricité, de gaz, de vapeur et d'air conditionné | E55: Man - Homme | F55: 28 | G55: 44 | H55: 5231 | I55: 73.86771
A56: 2023 | B56: D | C56: Productie en distributie van elektriciteit, gas, stoom en gekoelde lucht | D56: =VLOOKUP(C56,NACE08!$C$4:$D$25,2,FALSE) -> Production et distribution d'électricité, de gaz, de vapeur et d'air conditionné | E56: Vrouw - Femme | F56: 20 | G56: 30 | H56: 3931 | I56: 52.86221
A57: 2023 | B57: E | C57: Distributie van water; afval- en afvalwaterbeheer en sanering | D57: =VLOOKUP(C57,NACE08!$C$4:$D$25,2,FALSE) -> Production et distribution d'eau; assainissement, gestion des déchets et dépollution | E57: Man - Homme | F57: 686 | G57: 934 | H57: 130195 | I57: 1879.3149
A58: 2023 | B58: E | C58: Distributie van water; afval- en afvalwaterbeheer en sanering | D58: =VLOOKUP(C58,NACE08!$C$4:$D$25,2,FALSE) -> Production et distribution d'eau; assainissement, gestion des déchets et dépollution | E58: Vrouw - Femme | F58: 219 | G58: 292 | H58: 39375 | I58: 554.86965
A59: 2023 | B59: F | C59: Bouwnijverheid | D59: =VLOOKUP(C59,NACE08!$C$4:$D$25,2,FALSE) -> Construction | E59: Man - Homme | F59: 8177 | G59: 10942 | H59: 1667935 | I59: 25278.902
A60: 2023 | B60: F | C60: Bouwnijverheid | D60: =VLOOKUP(C60,NACE08!$C$4:$D$25,2,FALSE) -> Construction | E60: Vrouw - Femme | F60: 1141 | G60: 1710 | H60: 252746 | I60: 3553.882
... A92: 2023 | B92: U | C92: Extraterritoriale organisaties en lichamen | D92: =VLOOKUP(C92,NACE08!$C$4:$D$25,2,FALSE) -> Activités des organisations et organismes extraterritoriaux | E92: Vrouw - Femme | F92: 19 | G92: 26 | H92: 4332 | I92: 60.89214
A93: Totaal 2023 | F93: =SUBTOTAL(9,F49:F92) -> 632672 | G93: =SUBTOTAL(9,G49:G92) -> 1029446 | H93: =SUBTOTAL(9,H49:H92) -> 136788164 | I93: =SUBTOTAL(9,I49:I92) -> 2002895.5
A94: 2022 | B94: A | C94: Landbouw, bosbouw en visserij | D94: =VLOOKUP(C94,NACE08!$C$4:$D$25,2,FALSE) -> Agriculture, sylviculture et pêche | E94: Man - Homme | F94: 1774 | G94: 2509 | H94: 336715 | I94: 3808.9199
A95: 2022 | B95: A | C95: Landbouw, bosbouw en visserij | D95: =VLOOKUP(C95,NACE08!$C$4:$D$25,2,FALSE) -> Agriculture, sylviculture et pêche | E95: Vrouw - Femme | F95: 954 | G95: 1441 | H95: 165522 | I95: 1835.4591
A96: 2022 | B96: B | C96: Winning van delfstoffen | D96: =VLOOKUP(C96,NACE08!$C$4:$D$25,2,FALSE) -> Industries extractives | E96: Man - Homme | F96: 20 | G96: 23 | H96: 4309 | I96: 58.68686
A97: 2022 | B97: B | C97: Winning van delfstoffen | D97: =VLOOKUP(C97,NACE08!$C$4:$D$25,2,FALSE) -> Industries extractives | E97: Vrouw - Femme | F97: 7 | G97: 8 | H97: 1518 | I97: 18.73762
A98: 2022 | B98: C | C98: Industrie | D98: =VLOOKUP(C98,NACE08!$C$4:$D$25,2,FALSE) -> Industries manufacturières | E98: Man - Homme | F98: 8099 | G98: 11280 | H98: 1535373 | I98: 20194.087
A99: 2022 | B99: C | C99: Industrie | D99: =VLOOKUP(C99,NACE08!$C$4:$D$25,2,FALSE) -> Industries manufacturières | E99: Vrouw - Femme | F99: 9496 | G99: 14475 | H99: 1946720 | I99: 22504.828
A100: 2022 | B100: D | C100: Productie en distributie van elektriciteit, gas, stoom en gekoelde lucht | D100: =VLOOKUP(C100,NACE08!$C$4:$D$25,2,FALSE) -> Production et distribution d'électricité, de gaz, de vapeur et d'air conditionné | E100: Man - Homme | F100: 31 | G100: 39 | H100: 6359 | I100: 79.916
A101: 2022 | B101: D | C101: Productie en distributie van elektriciteit, gas, stoom en gekoelde lucht | D101: =VLOOKUP(C101,NACE08!$C$4:$D$25,2,FALSE) -> Production et distribution d'électricité, de gaz, de vapeur et d'air conditionné | E101: Vrouw - Femme | F101: 30 | G101: 45 | H101: 5124 | I101: 60.38721
A102: 2022 | B102: E | C102: Distributie van water; afval- en afvalwaterbeheer en sanering | D102: =VLOOKUP(C102,NACE08!$C$4:$D$25,2,FALSE) -> Production et distribution d'eau; assainissement, gestion des déchets et dépollution | E102: Man - Homme | F102: 570 | G102: 749 | H102: 109905 | I102: 1481.1557
A103: 2022 | B103: E | C103: Distributie van water; afval- en afvalwaterbeheer en sanering | D103: =VLOOKUP(C103,NACE08!$C$4:$D$25,2,FALSE) -> Production et distribution d'eau; assainissement, gestion des déchets et dépollution | E103: Vrouw - Femme | F103: 189 | G103: 259 | H103: 33465 | I103: 458.27702
A104: 2022 | B104: F | C104: Bouwnijverheid | D104: =VLOOKUP(C104,NACE08!$C$4:$D$25,2,FALSE) -> Construction | E104: Man - Homme | F104: 8050 | G104: 10792 | H104: 1588908 | I104: 19289.837
A105: 2022 | B105: F | C105: Bouwnijverheid | D105: =VLOOKUP(C105,NACE08!$C$4:$D$25,2,FALSE) -> Construction | E105: Vrouw - Femme | F105: 1137 | G105: 1686 | H105: 229079 | I105: 2830.8442
... A137: 2022 | B137: U | C137: Extraterritoriale organisaties en lichamen | D137: =VLOOKUP(C137,NACE08!$C$4:$D$25,2,FALSE) -> Activités des organisations et organismes extraterritoriaux | E137: Vrouw - Femme | F137: 25 | G137: 30 | H137: 4191 | I137: 57.21429
A138: Totaal 2022 | F138: =SUBTOTAL(9,F94:F137) -> 626733 | G138: =SUBTOTAL(9,G94:G137) -> 1019299 | H138: =SUBTOTAL(9,H94:H137) -> 129269184 | I138: =SUBTOTAL(9,I94:I137) -> 1737239.1
A139: 2021 | B139: A | C139: Landbouw, bosbouw en visserij | D139: =VLOOKUP(C139,NACE08!$C$4:$D$25,2,FALSE) -> Agriculture, sylviculture et pêche | E139: Man - Homme | F139: 1710 | G139: 2381 | H139: 356741 | I139: 3907.6749
A140: 2021 | B140: A | C140: Landbouw, bosbouw en visserij | D140: =VLOOKUP(C140,NACE08!$C$4:$D$25,2,FALSE) -> Agriculture, sylviculture et pêche | E140: Vrouw - Femme | F140: 932 | G140: 1380 | H140: 170339 | I140: 1804.3519
A141: 2021 | B141: B | C141: Winning van delfstoffen | D141: =VLOOKUP(C141,NACE08!$C$4:$D$25,2,FALSE) -> Industries extractives | E141: Man - Homme | F141: 18 | G141: 22 | H141: 4198 | I141: 51.16412
A142: 2021 | B142: B | C142: Winning van delfstoffen | D142: =VLOOKUP(C142,NACE08!$C$4:$D$25,2,FALSE) -> Industries extractives | E142: Vrouw - Femme | F142: 5 | G142: 7 | H142: 1199 | I142: 13.77669
A143: 2021 | B143: C | C143: Industrie | D143: =VLOOKUP(C143,NACE08!$C$4:$D$25,2,FALSE) -> Industries manufacturières | E143: Man - Homme | F143: 7802 | G143: 10488 | H143: 1518736 | I143: 18873.043
A144: 2021 | B144: C | C144: Industrie | D144: =VLOOKUP(C144,NACE08!$C$4:$D$25,2,FALSE) -> Industries manufacturières | E144: Vrouw - Femme | F144: 9740 | G144: 14139 | H144: 2017126 | I144: 21902.834
A145: 2021 | B145: D | C145: Productie en distributie van elektriciteit, gas, stoom en gekoelde lucht | D145: =VLOOKUP(C145,NACE08!$C$4:$D$25,2,FALSE) -> Production et distribution d'électricité, de gaz, de vapeur et d'air conditionné | E145: Man - Homme | F145: 20 | G145: 32 | H145: 6370 | I145: 80.24469
A146: 2021 | B146: D | C146: Productie en distributie van elektriciteit, gas, stoom en gekoelde lucht | D146: =VLOOKUP(C146,NACE08!$C$4:$D$25,2,FALSE) -> Production et distribution d'électricité, de gaz, de vapeur et d'air conditionné | E146: Vrouw - Femme | F146: 8 | G146: 14 | H146: 1458 | I146: 16.30402
A147: 2021 | B147: E | C147: Distributie van water; afval- en afvalwaterbeheer en sanering | D147: =VLOOKUP(C147,NACE08!$C$4:$D$25,2,FALSE) -> Production et distribution d'eau; assainissement, gestion des déchets et dépollution | E147: Man - Homme | F147: 608 | G147: 763 | H147: 117950 | I147: 1491.6382
A148: 2021 | B148: E | C148: Distributie van water; afval- en afvalwaterbeheer en sanering | D148: =VLOOKUP(C148,NACE08!$C$4:$D$25,2,FALSE) -> Production et distribution d'eau; assainissement, gestion des déchets et dépollution | E148: Vrouw - Femme | F148: 147 | G148: 205 | H148: 27259 | I148: 380.4992
A149: 2021 | B149: F | C149: Bouwnijverheid | D149: =VLOOKUP(C149,NACE08!$C$4:$D$25,2,FALSE) -> Construction | E149: Man - Homme | F149: 8387 | G149: 10757 | H149: 1714093 | I149: 19739.623
A150: 2021 | B150: F | C150: Bouwnijverheid | D150: =VLOOKUP(C150,NACE08!$C$4:$D$25,2,FALSE) -> Construction | E150: Vrouw - Femme | F150: 1075 | G150: 1563 | H150: 231903 | I150: 2719.7456
... A182: 2021 | B182: U | C182: Extraterritoriale organisaties en lichamen | D182: =VLOOKUP(C182,NACE08!$C$4:$D$25,2,FALSE) -> Activités des organisations et organismes extraterritoriaux | E182: Vrouw - Femme | F182: 15 | G182: 20 | H182: 2800 | I182: 37.68529
A183: Totaal 2021 | F183: =SUBTOTAL(9,F139:F182) -> 565247 | G183: =SUBTOTAL(9,G139:G182) -> 883517 | H183: =SUBTOTAL(9,H139:H182) -> 117372968 | I183: =SUBTOTAL(9,I139:I182) -> 1500131
A184: 2020 | B184: A | C184: Landbouw, bosbouw en visserij | D184: =VLOOKUP(C184,NACE08!$C$4:$D$25,2,FALSE) -> Agriculture, sylviculture et pêche | E184: Man - Homme | F184: 1585 | G184: 2201 | H184: 340862 | I184: 3687.05
A185: 2020 | B185: A | C185: Landbouw, bosbouw en visserij | D185: =VLOOKUP(C185,NACE08!$C$4:$D$25,2,FALSE) -> Agriculture, sylviculture et pêche | E185: Vrouw - Femme | F185: 862 | G185: 1247 | H185: 149821 | I185: 1564.5348
A186: 2020 | B186: B | C186: Winning van delfstoffen | D186: =VLOOKUP(C186,NACE08!$C$4:$D$25,2,FALSE) -> Industries extractives | E186: Man - Homme | F186: 23 | G186: 24 | H186: 4176 | I186: 57.97111
A187: 2020 | B187: B | C187: Winning van delfstoffen | D187: =VLOOKUP(C187,NACE08!$C$4:$D$25,2,FALSE) -> Industries extractives | E187: Vrouw - Femme | F187: 7 | G187: 7 | H187: 943 | I187: 11.46988
A188: 2020 | B188: C | C188: Industrie | D188: =VLOOKUP(C188,NACE08!$C$4:$D$25,2,FALSE) -> Industries manufacturières | E188: Man - Homme | F188: 6611 | G188: 8652 | H188: 1258541 | I188: 15354.497
A189: 2020 | B189: C | C189: Industrie | D189: =VLOOKUP(C189,NACE08!$C$4:$D$25,2,FALSE) -> Industries manufacturières | E189: Vrouw - Femme | F189: 8712 | G189: 12328 | H189: 1745388 | I189: 18516.91
A190: 2020 | B190: D | C190: Productie en distributie van elektriciteit, gas, stoom en gekoelde lucht | D190: =VLOOKUP(C190,NACE08!$C$4:$D$25,2,FALSE) -> Production et distribution d'électricité, de gaz, de vapeur et d'air conditionné | E190: Man - Homme | F190: 17 | G190: 24 | H190: 3256 | I190: 41.63618
A191: 2020 | B191: D | C191: Productie en distributie van elektriciteit, gas, stoom en gekoelde lucht | D191: =VLOOKUP(C191,NACE08!$C$4:$D$25,2,FALSE) -> Production et distribution d'électricité, de gaz, de vapeur et d'air conditionné | E191: Vrouw - Femme | F191: 10 | G191: 20 | H191: 2163 | I191: 25.68091
A192: 2020 | B192: E | C192: Distributie van water; afval- en afvalwaterbeheer en sanering | D192: =VLOOKUP(C192,NACE08!$C$4:$D$25,2,FALSE) -> Production et distribution d'eau; assainissement, gestion des déchets et dépollution | E192: Man - Homme | F192: 574 | G192: 721 | H192: 99993 | I192: 1309.1872
A193: 2020 | B193: E | C193: Distributie van water; afval- en afvalwaterbeheer en sanering | D193: =VLOOKUP(C193,NACE08!$C$4:$D$25,2,FALSE) -> Production et distribution d'eau; assainissement, gestion des déchets et dépollution | E193: Vrouw - Femme | F193: 169 | G193: 210 | H193: 27500 | I193: 352.81282
A194: 2020 | B194: F | C194: Bouwnijverheid | D194: =VLOOKUP(C194,NACE08!$C$4:$D$25,2,FALSE) -> Construction | E194: Man - Homme | F194: 7494 | G194: 9479 | H194: 1560599 | I194: 17712.55
A195: 2020 | B195: F | C195: Bouwnijverheid | D195: =VLOOKUP(C195,NACE08!$C$4:$D$25,2,FALSE) -> Construction | E195: Vrouw - Femme | F195: 1055 | G195: 1452 | H195: 201815 | I195: 2334.3497
... A227: 2020 | B227: U | C227: Extraterritoriale organisaties en lichamen | D227: =VLOOKUP(C227,NACE08!$C$4:$D$25,2,FALSE) -> Activités des organisations et organismes extraterritoriaux | E227: Vrouw - Femme | F227: 12 | G227: 14 | H227: 1823 | I227: 23.44324
A228: Totaal 2020 | F228: =SUBTOTAL(9,F184:F227) -> 499359 | G228: =SUBTOTAL(9,G184:G227) -> 743817 | H228: =SUBTOTAL(9,H184:H227) -> 96126795 | I228: =SUBTOTAL(9,I184:I227) -> 1193747.6
A229: 2019 | B229: A | C229: Landbouw, bosbouw en visserij | D229: =VLOOKUP(C229,NACE08!$C$4:$D$25,2,FALSE) -> Agriculture, sylviculture et pêche | E229: Man - Homme | F229: 1470 | G229: 2010 | H229: 270173 | I229: 2874.2537
A230: 2019 | B230: A | C230: Landbouw, bosbouw en visserij | D230: =VLOOKUP(C230,NACE08!$C$4:$D$25,2,FALSE) -> Agriculture, sylviculture et pêche | E230: Vrouw - Femme | F230: 756 | G230: 1070 | H230: 116612 | I230: 1208.5277
A231: 2019 | B231: B | C231: Winning van delfstoffen | D231: =VLOOKUP(C231,NACE08!$C$4:$D$25,2,FALSE) -> Industries extractives | E231: Man - Homme | F231: 19 | G231: 22 | H231: 4074 | I231: 56.23008
A232: 2019 | B232: B | C232: Winning van delfstoffen | D232: =VLOOKUP(C232,NACE08!$C$4:$D$25,2,FALSE) -> Industries extractives | E232: Vrouw - Femme | F232: 6 | G232: 8 | H232: 1094 | I232: 13.13842
A233: 2019 | B233: C | C233: Industrie | D233: =VLOOKUP(C233,NACE08!$C$4:$D$25,2,FALSE) -> Industries manufacturières | E233: Man - Homme | F233: 7671 | G233: 10143 | H233: 1346992 | I233: 16301.322
A234: 2019 | B234: C | C234: Industrie | D234: =VLOOKUP(C234,NACE08!$C$4:$D$25,2,FALSE) -> Industries manufacturières | E234: Vrouw - Femme | F234: 9341 | G234: 13421 | H234: 1763961 | I234: 18540.138
A235: 2019 | B235: D | C235: Productie en distributie van elektriciteit, gas, stoom en gekoelde lucht | D235: =VLOOKUP(C235,NACE08!$C$4:$D$25,2,FALSE) -> Production et distribution d'électricité, de gaz, de vapeur et d'air conditionné | E235: Man - Homme | F235: 39 | G235: 46 | H235: 7316 | I235: 82.95298
A236: 2019 | B236: D | C236: Productie en distributie van elektriciteit, gas, stoom en gekoelde lucht | D236: =VLOOKUP(C236,NACE08!$C$4:$D$25,2,FALSE) -> Production et distribution d'électricité, de gaz, de vapeur et d'air conditionné | E236: Vrouw - Femme | F236: 23 | G236: 27 | H236: 4230 | I236: 43.2652
A237: 2019 | B237: E | C237: Distributie van water; afval- en afvalwaterbeheer en sanering | D237: =VLOOKUP(C237,NACE08!$C$4:$D$25,2,FALSE) -> Production et distribution d'eau; assainissement, gestion des déchets et dépollution | E237: Man - Homme | F237: 644 | G237: 825 | H237: 108241 | I237: 1352.8332
A238: 2019 | B238: E | C238: Distributie van water; afval- en afvalwaterbeheer en sanering | D238: =VLOOKUP(C238,NACE08!$C$4:$D$25,2,FALSE) -> Production et distribution d'eau; assainissement, gestion des déchets et dépollution | E238: Vrouw - Femme | F238: 194 | G238: 261 | H238: 30322 | I238: 372.38687
A239: 2019 | B239: F | C239: Bouwnijverheid | D239: =VLOOKUP(C239,NACE08!$C$4:$D$25,2,FALSE) -> Construction | E239: Man - Homme | F239: 7259 | G239: 9365 | H239: 1342669 | I239: 14977.004
A240: 2019 | B240: F | C240: Bouwnijverheid | D240: =VLOOKUP(C240,NACE08!$C$4:$D$25,2,FALSE) -> Construction | E240: Vrouw - Femme | F240: 1042 | G240: 1481 | H240: 190622 | I240: 2165.0677
... A272: 2019 | B272: U | C272: Extraterritoriale organisaties en lichamen | D272: =VLOOKUP(C272,NACE08!$C$4:$D$25,2,FALSE) -> Activités des organisations et organismes extraterritoriaux | E272: Vrouw - Femme | F272: 28 | G272: 34 | H272: 3067 | I272: 38.23849
A273: Totaal 2019 | F273: =SUBTOTAL(9,F229:F272) -> 560996 | G273: =SUBTOTAL(9,G229:G272) -> 871800 | H273: =SUBTOTAL(9,H229:H272) -> 103997471 | I273: =SUBTOTAL(9,I229:I272) -> 1261371.6
A274: 2018 | B274: A | C274: Landbouw, bosbouw en visserij | D274: =VLOOKUP(C274,NACE08!$C$4:$D$25,2,FALSE) -> Agriculture, sylviculture et pêche | E274: Man - Homme | F274: 1405 | G274: 1859 | H274: 264001 | I274: 2752.6581
A275: 2018 | B275: A | C275: Landbouw, bosbouw en visserij | D275: =VLOOKUP(C275,NACE08!$C$4:$D$25,2,FALSE) -> Agriculture, sylviculture et pêche | E275: Vrouw - Femme | F275: 675 | G275: 975 | H275: 104557 | I275: 1047.4535
A276: 2018 | B276: B | C276: Winning van delfstoffen | D276: =VLOOKUP(C276,NACE08!$C$4:$D$25,2,FALSE) -> Industries extractives | E276: Man - Homme | F276: 19 | G276: 19 | H276: 4034 | I276: 52.14036
A277: 2018 | B277: B | C277: Winning van delfstoffen | D277: =VLOOKUP(C277,NACE08!$C$4:$D$25,2,FALSE) -> Industries extractives | E277: Vrouw - Femme | F277: 6 | G277: 8 | H277: 1238 | I277: 14.08743
A278: 2018 | B278: C | C278: Industrie | D278: =VLOOKUP(C278,NACE08!$C$4:$D$25,2,FALSE) -> Industries manufacturières | E278: Man - Homme | F278: 7769 | G278: 10102 | H278: 1348119 | I278: 16083.729
A279: 2018 | B279: C | C279: Industrie | D279: =VLOOKUP(C279,NACE08!$C$4:$D$25,2,FALSE) -> Industries manufacturières | E279: Vrouw - Femme | F279: 9326 | G279: 13149 | H279: 1697483 | I279: 17466.614
A280: 2018 | B280: D | C280: Productie en distributie van elektriciteit, gas, stoom en gekoelde lucht | D280: =VLOOKUP(C280,NACE08!$C$4:$D$25,2,FALSE) -> Production et distribution d'électricité, de gaz, de vapeur et d'air conditionné | E280: Man - Homme | F280: 35 | G280: 36 | H280: 5215 | I280: 56.34231
A281: 2018 | B281: D | C281: Productie en distributie van elektriciteit, gas, stoom en gekoelde lucht | D281: =VLOOKUP(C281,NACE08!$C$4:$D$25,2,FALSE) -> Production et distribution d'électricité, de gaz, de vapeur et d'air conditionné | E281: Vrouw - Femme | F281: 16 | G281: 20 | H281: 2892 | I281: 29.15281
A282: 2018 | B282: E | C282: Distributie van water; afval- en afvalwaterbeheer en sanering | D282: =VLOOKUP(C282,NACE08!$C$4:$D$25,2,FALSE) -> Production et distribution d'eau; assainissement, gestion des déchets et dépollution | E282: Man - Homme | F282: 641 | G282: 818 | H282: 110585 | I282: 1318.3426
A283: 2018 | B283: E | C283: Distributie van water; afval- en afvalwaterbeheer en sanering | D283: =VLOOKUP(C283,NACE08!$C$4:$D$25,2,FALSE) -> Production et distribution d'eau; assainissement, gestion des déchets et dépollution | E283: Vrouw - Femme | F283: 227 | G283: 299 | H283: 35886 | I283: 428.6678
A284: 2018 | B284: F | C284: Bouwnijverheid | D284: =VLOOKUP(C284,NACE08!$C$4:$D$25,2,FALSE) -> Construction | E284: Man - Homme | F284: 6904 | G284: 8846 | H284: 1257046 | I284: 13719.948
A285: 2018 | B285: F | C285: Bouwnijverheid | D285: =VLOOKUP(C285,NACE08!$C$4:$D$25,2,FALSE) -> Construction | E285: Vrouw - Femme | F285: 967 | G285: 1361 | H285: 172680 | I285: 1930.1616
... A317: 2018 | B317: U | C317: Extraterritoriale organisaties en lichamen | D317: =VLOOKUP(C317,NACE08!$C$4:$D$25,2,FALSE) -> Activités des organisations et organismes extraterritoriaux | E317: Vrouw - Femme | F317: 15 | G317: 21 | H317: 2572 | I317: 31.9252
A318: Totaal 2018 | F318: =SUBTOTAL(9,F274:F317) -> 544749 | G318: =SUBTOTAL(9,G274:G317) -> 831442 | H318: =SUBTOTAL(9,H274:H317) -> 98104829 | I318: =SUBTOTAL(9,I274:I317) -> 1165181.3
...

Sheet NACE 2025-sexe
A1: Opmerking: In 2025 werd de NACE-nomenclatuur 2008 ingeruild voor de NACE-nomenclatuur 2025. Een heel aantal NACE-codes bleven overanderd, maar dat geldt zeker niet voor alle codes. In dit tabblad - en ook in de volgende tabbladen met een vermelding van NACE 2025 - brengen we dan ook de verdeling van de gegevens naar NACE- sectie volgens de NACE 25 nomenclatuur. Voor 2025 is dat vanzelfsprekend, maar ook voor de gegevens uit 2024 geven we hier de verdeling volgens NACE 25. We creëren als het ware een fictieve situatie waarin de nieuwe NACE-nomenclatuur 2025 al van kracht was in 2024. Dat is noodzakelijk om de gegevens uit 2025 te vergelijken met hun tegenhanger uit 2024. Deze retropolatie beperkt zich tot 2024. Voor de voorgaande jaren voorzien we enkel een verdeling naar de destijds van toepassing zijnde NACE-nomenclatuur 2008. Die gegevens vindt u onder de tabbladen met vermelding NACE 08. Remarque: En 2025, la nomenclature NACE 2008 a été remplacée par la nomenclature NACE 2025. Un certain nombre de codes NACE sont demeurés inchangés, mais cette stabilité ne s’applique pas à l’ensemble des codes. Dès lors, le présent onglet - et aussi les onglets suivants avec une mention du NACE 2025 - présente la répartition des données par section NACE selon la nomenclature NACE 2025. Pour l’année 2025, cette approche s’impose naturellement ; toutefois, pour les données relatives à l’année 2024, la répartition est également fournie sur la base de la nomenclature NACE 2025. Il s’agit ainsi de créer une situation fictive dans laquelle la nouvelle nomenclature NACE 2025 aurait déjà été d’application en 2024. Cette démarche est indispensable afin de permettre une comparaison cohérente entre les données de 2025 et celles de 2024. Pour les années précédentes, nous ne prévoyons qu’une répartition selon la nomenclature NACE 2008 alors en vigueur. Vous trouverez ces données sous les onglets portant la mention NACE 08.
A3: Jaar Années | B3: Section NACE NACE Sectie | C3: Label NACE Sectie | D3: Libellé section NACE | E3: Geslacht Sexe | F3: Aantal jobstudenten Nombre d' étudiants jobistes | G3: Aantal studentenjobs Nombre de jobs d'étudiants | H3: Bezoldigde uren Heures rémunérées | I3: Lonen in 1.000 Eur Salaires en 1.000 Eur
A4: 2025 | B4: A | C4: Landbouw, bosbouw en visserij | D4: Agriculture, sylviculture et pêche | E4: Man-Homme | F4: 2179 | G4: 3089 | H4: 492654 | I4: 6529.711
A5: 2025 | B5: A | C5: Landbouw, bosbouw en visserij | D5: Agriculture, sylviculture et pêche | E5: Vrouw-Femme | F5: 1072 | G5: 1664 | H5: 215118 | I5: 2803.2747
A6: 2025 | B6: B | C6: Winning van delfstoffen | D6: Industries extractives | E6: Man-Homme | F6: 11 | G6: 13 | H6: 1902 | I6: 32.13229
A7: 2025 | B7: B | C7: Winning van delfstoffen | D7: Industries extractives | E7: Vrouw-Femme | F7: 2 | G7: 4 | H7: 427 | I7: 6.15744
A8: 2025 | B8: C | C8: Industrie | D8: Industrie manufacturière | E8: Man-Homme | F8: 7973 | G8: 11162 | H8: 1676719 | I8: 25795.947
A9: 2025 | B9: C | C9: Industrie | D9: Industrie manufacturière | E9: Vrouw-Femme | F9: 8931 | G9: 13386 | H9: 1957832 | I9: 26131.337
A10: 2025 | B10: D | C10: Productie en distributie van elektriciteit, gas, stoom en gekoelde lucht | D10: Production et distribution d'électricité, de gaz, de vapeur et d'air conditionné | E10: Man-Homme | F10: 58 | G10: 76 | H10: 11254 | I10: 165.01271
A11: 2025 | B11: D | C11: Productie en distributie van elektriciteit, gas, stoom en gekoelde lucht | D11: Production et distribution d'électricité, de gaz, de vapeur et d'air conditionné | E11: Vrouw-Femme | F11: 27 | G11: 34 | H11: 4821 | I11: 80.93586
A12: 2025 | B12: E | C12: Distributie van water; afval- en afvalwaterbeheer en sanering | D12: Production et distribution d'eau, assainissement, gestion des déchets et dépollution | E12: Man-Homme | F12: 721 | G12: 1008 | H12: 150601 | I12: 2309.384
A13: 2025 | B13: E | C13: Distributie van water; afval- en afvalwaterbeheer en sanering | D13: Production et distribution d'eau, assainissement, gestion des déchets et dépollution | E13: Vrouw-Femme | F13: 198 | G13: 281 | H13: 39915 | I13: 590.69062
A14: 2025 | B14: F | C14: Bouwnijverheid | D14: Construction | E14: Man-Homme | F14: 8417 | G14: 11069 | H14: 1825108 | I14: 31603.991
A15: 2025 | B15: F | C15: Bouwnijverheid | D15: Construction | E15: Vrouw-Femme | F15: 1291 | G15: 1876 | H15: 273626 | I15: 4293.5435
... A49: 2025 | B49: V | C49: Activiteiten van extraterritoriale organisaties en instanties | D49: Activités des organisations et organismes extraterritoriaux | E49: Vrouw-Femme | F49: 19 | G49: 21 | H49: 6345 | I49: 93.41566
A50: Totaal 2025 | F50: =SUBTOTAL(9,F4:F49) -> 649055 | G50: =SUBTOTAL(9,G4:G49) -> 1063167 | H50: =SUBTOTAL(9,H4:H49) -> 146015932 | I50: =SUBTOTAL(9,I4:I49) -> 2259515.4
A51: 2024 | B51: A | C51: Landbouw, bosbouw en visserij | D51: Agriculture, sylviculture et pêche | E51: Man-Homme | F51: 1980 | G51: 2829 | H51: 432045 | I51: 5504.2237
A52: 2024 | B52: A | C52: Landbouw, bosbouw en visserij | D52: Agriculture, sylviculture et pêche | E52: Vrouw-Femme | F52: 1065 | G52: 1594 | H52: 199207 | I52: 2512.8332
A53: 2024 | B53: B | C53: Winning van delfstoffen | D53: Industries extractives | E53: Man-Homme | F53: 16 | G53: 19 | H53: 2981 | I53: 46.03868
A54: 2024 | B54: B | C54: Winning van delfstoffen | D54: Industries extractives | E54: Vrouw-Femme | F54: 4 | G54: 5 | H54: 662 | I54: 8.84338
A55: 2024 | B55: C | C55: Industrie | D55: Industrie manufacturière | E55: Man-Homme | F55: 7897 | G55: 11114 | H55: 1617141 | I55: 23916.516
A56: 2024 | B56: C | C56: Industrie | D56: Industrie manufacturière | E56: Vrouw-Femme | F56: 9234 | G56: 13799 | H56: 1995173 | I56: 25590.114
A57: 2024 | B57: D | C57: Productie en distributie van elektriciteit, gas, stoom en gekoelde lucht | D57: Production et distribution d'électricité, de gaz, de vapeur et d'air conditionné | E57: Man-Homme | F57: 48 | G57: 56 | H57: 8865 | I57: 126.03482
A58: 2024 | B58: D | C58: Productie en distributie van elektriciteit, gas, stoom en gekoelde lucht | D58: Production et distribution d'électricité, de gaz, de vapeur et d'air conditionné | E58: Vrouw-Femme | F58: 25 | G58: 30 | H58: 4434 | I58: 63.26388
A59: 2024 | B59: E | C59: Distributie van water; afval- en afvalwaterbeheer en sanering | D59: Production et distribution d'eau, assainissement, gestion des déchets et dépollution | E59: Man-Homme | F59: 681 | G59: 939 | H59: 143345 | I59: 2131.7983
A60: 2024 | B60: E | C60: Distributie van water; afval- en afvalwaterbeheer en sanering | D60: Production et distribution d'eau, assainissement, gestion des déchets et dépollution | E60: Vrouw-Femme | F60: 226 | G60: 311 | H60: 42929 | I60: 614.39539
A61: 2024 | B61: F | C61: Bouwnijverheid | D61: Construction | E61: Man-Homme | F61: 8072 | G61: 10556 | H61: 1664997 | I61: 27861.346
A62: 2024 | B62: F | C62: Bouwnijverheid | D62: Construction | E62: Vrouw-Femme | F62: 1134 | G62: 1695 | H62: 245795 | I62: 3684.9684
... A96: 2024 | B96: V | C96: Activiteiten van extraterritoriale organisaties en instanties | D96: Activités des organisations et organismes extraterritoriaux | E96: Vrouw-Femme | F96: 28 | G96: 30 | H96: 6274 | I96: 95.05853
A97: Totaal 2024 | F97: =SUBTOTAL(9,F51:F96) -> 640608 | G97: =SUBTOTAL(9,G51:G96) -> 1039047 | H97: =SUBTOTAL(9,H51:H96) -> 141114978 | I97: =SUBTOTAL(9,I51:I96) -> 2095561.8

Sheet NACE 08-age | leeftijd
A1: Opmerking: In 2025 werd de NACE-nomenclatuur 2008 ingeruild voor de NACE-nomenclatuur 2025. Een heel aantal NACE-codes bleven overanderd, maar dat geldt zeker niet voor alle codes. In dit tabblad - en ook in de volgende tabbladen met een vermelding van NACE 2025 - brengen we dan ook de verdeling van de gegevens naar NACE- sectie volgens de NACE 25 nomenclatuur. Voor 2025 is dat vanzelfsprekend, maar ook voor de gegevens uit 2024 geven we hier de verdeling volgens NACE 25. We creëren als het ware een fictieve situatie waarin de nieuwe NACE-nomenclatuur 2025 al van kracht was in 2024. Dat is noodzakelijk om de gegevens uit 2025 te vergelijken met hun tegenhanger uit 2024. Deze retropolatie beperkt zich tot 2024. Voor de voorgaande jaren voorzien we enkel een verdeling naar de destijds van toepassing zijnde NACE-nomenclatuur 2008. Die gegevens vindt u onder de tabbladen met vermelding NACE 08. Remarque: En 2025, la nomenclature NACE 2008 a été remplacée par la nomenclature NACE 2025. Un certain nombre de codes NACE sont demeurés inchangés, mais cette stabilité ne s’applique pas à l’ensemble des codes. Dès lors, le présent onglet - et aussi les onglets suivants avec une mention du NACE 2025 - présente la répartition des données par section NACE selon la nomenclature NACE 2025. Pour l’année 2025, cette approche s’impose naturellement ; toutefois, pour les données relatives à l’année 2024, la répartition est également fournie sur la base de la nomenclature NACE 2025. Il s’agit ainsi de créer une situation fictive dans laquelle la nouvelle nomenclature NACE 2025 aurait déjà été d’application en 2024. Cette démarche est indispensable afin de permettre une comparaison cohérente entre les données de 2025 et celles de 2024. Pour les années précédentes, nous ne prévoyons qu’une répartition selon la nomenclature NACE 2008 alors en vigueur. Vous trouverez ces données sous les onglets portant la mention NACE 08.
A3: Jaar Année | B3: Section NACE NACE Sectie | C3: Label NACE Sectie | D3: Libellé section NACE | E3: Tranche d'âge Leeftijdsklasse | F3: Aantal jobstudenten Nombre d' étudiants jobistes | G3: Aantal studentenjobs Nombre de jobs d' étudiants | H3: Bezoldigde uren Heures rémunérées
A4: 2024 | B4: A | C4: Landbouw, bosbouw en visserij | D4: =VLOOKUP(C4,NACE08!$C$4:$D$25,2,FALSE) -> Agriculture, sylviculture et pêche | E4: 15-17 | F4: 1378 | G4: 1792 | H4: 214218
A5: 2024 | B5: A | C5: Landbouw, bosbouw en visserij | D5: =VLOOKUP(C5,NACE08!$C$4:$D$25,2,FALSE) -> Agriculture, sylviculture et pêche | E5: 18-20 | F5: 1119 | G5: 1716 | H5: 283470
A6: 2024 | B6: A | C6: Landbouw, bosbouw en visserij | D6: =VLOOKUP(C6,NACE08!$C$4:$D$25,2,FALSE) -> Agriculture, sylviculture et pêche | E6: 21-23 | F6: 436 | G6: 734 | H6: 106441
A7: 2024 | B7: A | C7: Landbouw, bosbouw en visserij | D7: =VLOOKUP(C7,NACE08!$C$4:$D$25,2,FALSE) -> Agriculture, sylviculture et pêche | E7: 24-26 | F7: 87 | G7: 144 | H7: 21017
A8: 2024 | B8: A | C8: Landbouw, bosbouw en visserij | D8: =VLOOKUP(C8,NACE08!$C$4:$D$25,2,FALSE) -> Agriculture, sylviculture et pêche | E8: 27-29 | F8: 11 | G8: 18 | H8: 2864
A9: 2024 | B9: A | C9: Landbouw, bosbouw en visserij | D9: =VLOOKUP(C9,NACE08!$C$4:$D$25,2,FALSE) -> Agriculture, sylviculture et pêche | E9: 30-39 | F9: 10 | G9: 15 | H9: 2969
A10: 2024 | B10: A | C10: Landbouw, bosbouw en visserij | D10: =VLOOKUP(C10,NACE08!$C$4:$D$25,2,FALSE) -> Agriculture, sylviculture et pêche | E10: 40-49 | F10: 0 | G10: 2 | H10: 42
A11: 2024 | B11: B | C11: Winning van delfstoffen | D11: =VLOOKUP(C11,NACE08!$C$4:$D$25,2,FALSE) -> Industries extractives | E11: 15-17 | F11: 7 | G11: 7 | H11: 1160
A12: 2024 | B12: B | C12: Winning van delfstoffen | D12: =VLOOKUP(C12,NACE08!$C$4:$D$25,2,FALSE) -> Industries extractives | E12: 18-20 | F12: 8 | G12: 11 | H12: 1438
A13: 2024 | B13: B | C13: Winning van delfstoffen | D13: =VLOOKUP(C13,NACE08!$C$4:$D$25,2,FALSE) -> Industries extractives | E13: 21-23 | F13: 6 | G13: 7 | H13: 1401
A14: 2024 | B14: B | C14: Winning van delfstoffen | D14: =VLOOKUP(C14,NACE08!$C$4:$D$25,2,FALSE) -> Industries extractives | E14: 24-26 | F14: 0 | G14: 1 | H14: 4
A15: 2024 | B15: C | C15: Industrie | D15: =VLOOKUP(C15,NACE08!$C$4:$D$25,2,FALSE) -> Industries manufacturières | E15: 15-17 | F15: 5729 | G15: 7497 | H15: 841493
... A170: 2024 | B170: U | C170: Extraterritoriale organisaties en lichamen | D170: =VLOOKUP(C170,NACE08!$C$4:$D$25,2,FALSE) -> Activités des organisations et organismes extraterritoriaux | E170: 30-39 | F170: 1 | G170: 1 | H170: 495
A171: Totaal 2024 | F171: =SUBTOTAL(9,F4:F170) -> 640608 | G171: =SUBTOTAL(9,G4:G170) -> 1039047 | H171: =SUBTOTAL(9,H4:H170) -> 141114978
A172: 2023 | B172: A | C172: Landbouw, bosbouw en visserij | D172: =VLOOKUP(C172,NACE08!$C$4:$D$25,2,FALSE) -> Agriculture, sylviculture et pêche | E172: 15-17 | F172: 1251 | G172: 1646 | H172: 190846
A173: 2023 | B173: A | C173: Landbouw, bosbouw en visserij | D173: =VLOOKUP(C173,NACE08!$C$4:$D$25,2,FALSE) -> Agriculture, sylviculture et pêche | E173: 18-20 | F173: 1040 | G173: 1605 | H173: 236069
A174: 2023 | B174: A | C174: Landbouw, bosbouw en visserij | D174: =VLOOKUP(C174,NACE08!$C$4:$D$25,2,FALSE) -> Agriculture, sylviculture et pêche | E174: 21-23 | F174: 445 | G174: 718 | H174: 103339
A175: 2023 | B175: A | C175: Landbouw, bosbouw en visserij | D175: =VLOOKUP(C175,NACE08!$C$4:$D$25,2,FALSE) -> Agriculture, sylviculture et pêche | E175: 24-26 | F175: 66 | G175: 118 | H175: 15791
A176: 2023 | B176: A | C176: Landbouw, bosbouw en visserij | D176: =VLOOKUP(C176,NACE08!$C$4:$D$25,2,FALSE) -> Agriculture, sylviculture et pêche | E176: 27-29 | F176: 11 | G176: 16 | H176: 2144
A177: 2023 | B177: A | C177: Landbouw, bosbouw en visserij | D177: =VLOOKUP(C177,NACE08!$C$4:$D$25,2,FALSE) -> Agriculture, sylviculture et pêche | E177: 30-39 | F177: 7 | G177: 14 | H177: 1521
A178: 2023 | B178: A | C178: Landbouw, bosbouw en visserij | D178: =VLOOKUP(C178,NACE08!$C$4:$D$25,2,FALSE) -> Agriculture, sylviculture et pêche | E178: 40-49 | F178: 1 | G178: 1 | H178: 544
A179: 2023 | B179: A | C179: Landbouw, bosbouw en visserij | D179: =VLOOKUP(C179,NACE08!$C$4:$D$25,2,FALSE) -> Agriculture, sylviculture et pêche | E179: 50-64 | F179: 1 | G179: 1 | H179: 143
A180: 2023 | B180: B | C180: Winning van delfstoffen | D180: =VLOOKUP(C180,NACE08!$C$4:$D$25,2,FALSE) -> Industries extractives | E180: 15-17 | F180: 5 | G180: 5 | H180: 910
A181: 2023 | B181: B | C181: Winning van delfstoffen | D181: =VLOOKUP(C181,NACE08!$C$4:$D$25,2,FALSE) -> Industries extractives | E181: 18-20 | F181: 8 | G181: 8 | H181: 1982
A182: 2023 | B182: B | C182: Winning van delfstoffen | D182: =VLOOKUP(C182,NACE08!$C$4:$D$25,2,FALSE) -> Industries extractives | E182: 21-23 | F182: 5 | G182: 6 | H182: 1295
A183: 2023 | B183: C | C183: Industrie | D183: =VLOOKUP(C183,NACE08!$C$4:$D$25,2,FALSE) -> Industries manufacturières | E183: 15-17 | F183: 5921 | G183: 7671 | H183: 855605
... A345: 2023 | B345: U | C345: Extraterritoriale organisaties en lichamen | D345: =VLOOKUP(C345,NACE08!$C$4:$D$25,2,FALSE) -> Activités des organisations et organismes extraterritoriaux | E345: 30-39 | F345: 0 | G345: 2 | H345: 250
A346: Totaal 2023 | F346: =SUBTOTAL(9,F172:F345) -> 632672 | G346: =SUBTOTAL(9,G172:G345) -> 1029446 | H346: =SUBTOTAL(9,H172:H345) -> 136788164
A347: 2022 | B347: A | C347: Landbouw, bosbouw en visserij | D347: =VLOOKUP(C347,NACE08!$C$4:$D$25,2,FALSE) -> Agriculture, sylviculture et pêche | E347: 15-17 | F347: 1223 | G347: 1598 | H347: 180615
A348: 2022 | B348: A | C348: Landbouw, bosbouw en visserij | D348: =VLOOKUP(C348,NACE08!$C$4:$D$25,2,FALSE) -> Agriculture, sylviculture et pêche | E348: 18-20 | F348: 1012 | G348: 1555 | H348: 213071
A349: 2022 | B349: A | C349: Landbouw, bosbouw en visserij | D349: =VLOOKUP(C349,NACE08!$C$4:$D$25,2,FALSE) -> Agriculture, sylviculture et pêche | E349: 21-23 | F349: 394 | G349: 633 | H349: 83172
A350: 2022 | B350: A | C350: Landbouw, bosbouw en visserij | D350: =VLOOKUP(C350,NACE08!$C$4:$D$25,2,FALSE) -> Agriculture, sylviculture et pêche | E350: 24-26 | F350: 77 | G350: 123 | H350: 19704
A351: 2022 | B351: A | C351: Landbouw, bosbouw en visserij | D351: =VLOOKUP(C351,NACE08!$C$4:$D$25,2,FALSE) -> Agriculture, sylviculture et pêche | E351: 27-29 | F351: 10 | G351: 19 | H351: 1686
A352: 2022 | B352: A | C352: Landbouw, bosbouw en visserij | D352: =VLOOKUP(C352,NACE08!$C$4:$D$25,2,FALSE) -> Agriculture, sylviculture et pêche | E352: 30-39 | F352: 12 | G352: 19 | H352: 3918
A353: 2022 | B353: A | C353: Landbouw, bosbouw en visserij | D353: =VLOOKUP(C353,NACE08!$C$4:$D$25,2,FALSE) -> Agriculture, sylviculture et pêche | E353: 40-49 | F353: 0 | G353: 2 | H353: 14
A354: 2022 | B354: A | C354: Landbouw, bosbouw en visserij | D354: =VLOOKUP(C354,NACE08!$C$4:$D$25,2,FALSE) -> Agriculture, sylviculture et pêche | E354: 50-64 | F354: 0 | G354: 1 | H354: 57
A355: 2022 | B355: B | C355: Winning van delfstoffen | D355: =VLOOKUP(C355,NACE08!$C$4:$D$25,2,FALSE) -> Industries extractives | E355: 15-17 | F355: 6 | G355: 6 | H355: 790
A356: 2022 | B356: B | C356: Winning van delfstoffen | D356: =VLOOKUP(C356,NACE08!$C$4:$D$25,2,FALSE) -> Industries extractives | E356: 18-20 | F356: 16 | G356: 18 | H356: 3604
A357: 2022 | B357: B | C357: Winning van delfstoffen | D357: =VLOOKUP(C357,NACE08!$C$4:$D$25,2,FALSE) -> Industries extractives | E357: 21-23 | F357: 4 | G357: 6 | H357: 1151
A358: 2022 | B358: B | C358: Winning van delfstoffen | D358: =VLOOKUP(C358,NACE08!$C$4:$D$25,2,FALSE) -> Industries extractives | E358: 24-26 | F358: 1 | G358: 1 | H358: 282
... A514: 2022 | B514: U | C514: Extraterritoriale organisaties en lichamen | D514: =VLOOKUP(C514,NACE08!$C$4:$D$25,2,FALSE) -> Activités des organisations et organismes extraterritoriaux | E514: 40-49 | F514: 0 | G514: 1 | H514: 93
A515: Totaal 2022 | F515: =SUBTOTAL(9,F347:F514) -> 626733 | G515: =SUBTOTAL(9,G347:G514) -> 1019299 | H515: =SUBTOTAL(9,H347:H514) -> 129269184
A516: 2021 | B516: A | C516: Landbouw, bosbouw en visserij | D516: =VLOOKUP(C516,NACE08!$C$4:$D$25,2,FALSE) -> Agriculture, sylviculture et pêche | E516: 15-17 | F516: 1114 | G516: 1476 | H516: 168103
A517: 2021 | B517: A | C517: Landbouw, bosbouw en visserij | D517: =VLOOKUP(C517,NACE08!$C$4:$D$25,2,FALSE) -> Agriculture, sylviculture et pêche | E517: 18-20 | F517: 1009 | G517: 1477 | H517: 234532
A518: 2021 | B518: A | C518: Landbouw, bosbouw en visserij | D518: =VLOOKUP(C518,NACE08!$C$4:$D$25,2,FALSE) -> Agriculture, sylviculture et pêche | E518: 21-23 | F518: 400 | G518: 619 | H518: 95658
A519: 2021 | B519: A | C519: Landbouw, bosbouw en visserij | D519: =VLOOKUP(C519,NACE08!$C$4:$D$25,2,FALSE) -> Agriculture, sylviculture et pêche | E519: 24-26 | F519: 86 | G519: 134 | H519: 21355
A520: 2021 | B520: A | C520: Landbouw, bosbouw en visserij | D520: =VLOOKUP(C520,NACE08!$C$4:$D$25,2,FALSE) -> Agriculture, sylviculture et pêche | E520: 27-29 | F520: 16 | G520: 22 | H520: 3688
A521: 2021 | B521: A | C521: Landbouw, bosbouw en visserij | D521: =VLOOKUP(C521,NACE08!$C$4:$D$25,2,FALSE) -> Agriculture, sylviculture et pêche | E521: 30-39 | F521: 13 | G521: 27 | H521: 2574
A522: 2021 | B522: A | C522: Landbouw, bosbouw en visserij | D522: =VLOOKUP(C522,NACE08!$C$4:$D$25,2,FALSE) -> Agriculture, sylviculture et pêche | E522: 40-49 | F522: 3 | G522: 5 | H522: 390
A523: 2021 | B523: A | C523: Landbouw, bosbouw en visserij | D523: =VLOOKUP(C523,NACE08!$C$4:$D$25,2,FALSE) -> Agriculture, sylviculture et pêche | E523: 50-64 | F523: 1 | G523: 1 | H523: 780
A524: 2021 | B524: B | C524: Winning van delfstoffen | D524: =VLOOKUP(C524,NACE08!$C$4:$D$25,2,FALSE) -> Industries extractives | E524: 15-17 | F524: 6 | G524: 7 | H524: 1076
A525: 2021 | B525: B | C525: Winning van delfstoffen | D525: =VLOOKUP(C525,NACE08!$C$4:$D$25,2,FALSE) -> Industries extractives | E525: 18-20 | F525: 11 | G525: 13 | H525: 3045
A526: 2021 | B526: B | C526: Winning van delfstoffen | D526: =VLOOKUP(C526,NACE08!$C$4:$D$25,2,FALSE) -> Industries extractives | E526: 21-23 | F526: 5 | G526: 8 | H526: 1162
A527: 2021 | B527: B | C527: Winning van delfstoffen | D527: =VLOOKUP(C527,NACE08!$C$4:$D$25,2,FALSE) -> Industries extractives | E527: 27-29 | F527: 1 | G527: 1 | H527: 114
... A685: 2021 | B685: U | C685: Extraterritoriale organisaties en lichamen | D685: =VLOOKUP(C685,NACE08!$C$4:$D$25,2,FALSE) -> Activités des organisations et organismes extraterritoriaux | E685: 40-49 | F685: 2 | G685: 4 | H685: 718
A686: Totaal 2021 | F686: =SUBTOTAL(9,F516:F685) -> 565247 | G686: =SUBTOTAL(9,G516:G685) -> 883517 | H686: =SUBTOTAL(9,H516:H685) -> 117372968
A687: 2020 | B687: A | C687: Landbouw, bosbouw en visserij | D687: =VLOOKUP(C687,NACE08!$C$4:$D$25,2,FALSE) -> Agriculture, sylviculture et pêche | E687: 15-17 | F687: 1019 | G687: 1341 | H687: 151165
A688: 2020 | B688: A | C688: Landbouw, bosbouw en visserij | D688: =VLOOKUP(C688,NACE08!$C$4:$D$25,2,FALSE) -> Agriculture, sylviculture et pêche | E688: 18-20 | F688: 930 | G688: 1360 | H688: 219461
A689: 2020 | B689: A | C689: Landbouw, bosbouw en visserij | D689: =VLOOKUP(C689,NACE08!$C$4:$D$25,2,FALSE) -> Agriculture, sylviculture et pêche | E689: 21-23 | F689: 384 | G689: 572 | H689: 93821
A690: 2020 | B690: A | C690: Landbouw, bosbouw en visserij | D690: =VLOOKUP(C690,NACE08!$C$4:$D$25,2,FALSE) -> Agriculture, sylviculture et pêche | E690: 24-26 | F690: 76 | G690: 115 | H690: 16260
A691: 2020 | B691: A | C691: Landbouw, bosbouw en visserij | D691: =VLOOKUP(C691,NACE08!$C$4:$D$25,2,FALSE) -> Agriculture, sylviculture et pêche | E691: 27-29 | F691: 8 | G691: 13 | H691: 2477
A692: 2020 | B692: A | C692: Landbouw, bosbouw en visserij | D692: =VLOOKUP(C692,NACE08!$C$4:$D$25,2,FALSE) -> Agriculture, sylviculture et pêche | E692: 30-39 | F692: 18 | G692: 33 | H692: 5542
A693: 2020 | B693: A | C693: Landbouw, bosbouw en visserij | D693: =VLOOKUP(C693,NACE08!$C$4:$D$25,2,FALSE) -> Agriculture, sylviculture et pêche | E693: 40-49 | F693: 8 | G693: 10 | H693: 1401
A694: 2020 | B694: A | C694: Landbouw, bosbouw en visserij | D694: =VLOOKUP(C694,NACE08!$C$4:$D$25,2,FALSE) -> Agriculture, sylviculture et pêche | E694: 50-64 | F694: 4 | G694: 4 | H694: 556
A695: 2020 | B695: B | C695: Winning van delfstoffen | D695: =VLOOKUP(C695,NACE08!$C$4:$D$25,2,FALSE) -> Industries extractives | E695: 15-17 | F695: 6 | G695: 6 | H695: 573
A696: 2020 | B696: B | C696: Winning van delfstoffen | D696: =VLOOKUP(C696,NACE08!$C$4:$D$25,2,FALSE) -> Industries extractives | E696: 18-20 | F696: 17 | G696: 18 | H696: 2873
A697: 2020 | B697: B | C697: Winning van delfstoffen | D697: =VLOOKUP(C697,NACE08!$C$4:$D$25,2,FALSE) -> Industries extractives | E697: 21-23 | F697: 6 | G697: 6 | H697: 1633
A698: 2020 | B698: B | C698: Winning van delfstoffen | D698: =VLOOKUP(C698,NACE08!$C$4:$D$25,2,FALSE) -> Industries extractives | E698: 24-26 | F698: 1 | G698: 1 | H698: 40
... A854: 2020 | B854: U | C854: Extraterritoriale organisaties en lichamen | D854: =VLOOKUP(C854,NACE08!$C$4:$D$25,2,FALSE) -> Activités des organisations et organismes extraterritoriaux | E854: 40-49 | F854: 1 | G854: 1 | H854: 214
A855: Totaal 2020 | F855: =SUBTOTAL(9,F687:F854) -> 499359 | G855: =SUBTOTAL(9,G687:G854) -> 743817 | H855: =SUBTOTAL(9,H687:H854) -> 96126795
A856: 2019 | B856: A | C856: Landbouw, bosbouw en visserij | D856: =VLOOKUP(C856,NACE08!$C$4:$D$25,2,FALSE) -> Agriculture, sylviculture et pêche | E856: 15-17 | F856: 952 | G856: 1246 | H856: 129568
A857: 2019 | B857: A | C857: Landbouw, bosbouw en visserij | D857: =VLOOKUP(C857,NACE08!$C$4:$D$25,2,FALSE) -> Agriculture, sylviculture et pêche | E857: 18-20 | F857: 850 | G857: 1195 | H857: 166239
A858: 2019 | B858: A | C858: Landbouw, bosbouw en visserij | D858: =VLOOKUP(C858,NACE08!$C$4:$D$25,2,FALSE) -> Agriculture, sylviculture et pêche | E858: 21-23 | F858: 344 | G858: 513 | H858: 73705
A859: 2019 | B859: A | C859: Landbouw, bosbouw en visserij | D859: =VLOOKUP(C859,NACE08!$C$4:$D$25,2,FALSE) -> Agriculture, sylviculture et pêche | E859: 24-26 | F859: 59 | G859: 86 | H859: 12855
A860: 2019 | B860: A | C860: Landbouw, bosbouw en visserij | D860: =VLOOKUP(C860,NACE08!$C$4:$D$25,2,FALSE) -> Agriculture, sylviculture et pêche | E860: 27-29 | F860: 7 | G860: 11 | H860: 1730
A861: 2019 | B861: A | C861: Landbouw, bosbouw en visserij | D861: =VLOOKUP(C861,NACE08!$C$4:$D$25,2,FALSE) -> Agriculture, sylviculture et pêche | E861: 30-39 | F861: 6 | G861: 19 | H861: 1446
A862: 2019 | B862: A | C862: Landbouw, bosbouw en visserij | D862: =VLOOKUP(C862,NACE08!$C$4:$D$25,2,FALSE) -> Agriculture, sylviculture et pêche | E862: 40-49 | F862: 6 | G862: 8 | H862: 1080
A863: 2019 | B863: A | C863: Landbouw, bosbouw en visserij | D863: =VLOOKUP(C863,NACE08!$C$4:$D$25,2,FALSE) -> Agriculture, sylviculture et pêche | E863: 50-64 | F863: 2 | G863: 2 | H863: 162
A864: 2019 | B864: B | C864: Winning van delfstoffen | D864: =VLOOKUP(C864,NACE08!$C$4:$D$25,2,FALSE) -> Industries extractives | E864: 15-17 | F864: 6 | G864: 7 | H864: 1091
A865: 2019 | B865: B | C865: Winning van delfstoffen | D865: =VLOOKUP(C865,NACE08!$C$4:$D$25,2,FALSE) -> Industries extractives | E865: 18-20 | F865: 15 | G865: 17 | H865: 2863
A866: 2019 | B866: B | C866: Winning van delfstoffen | D866: =VLOOKUP(C866,NACE08!$C$4:$D$25,2,FALSE) -> Industries extractives | E866: 21-23 | F866: 4 | G866: 6 | H866: 1214
A867: 2019 | B867: C | C867: Industrie | D867: =VLOOKUP(C867,NACE08!$C$4:$D$25,2,FALSE) -> Industries manufacturières | E867: 15-17 | F867: 5466 | G867: 6931 | H867: 752365
... A1028: 2019 | B1028: U | C1028: Extraterritoriale organisaties en lichamen | D1028: =VLOOKUP(C1028,NACE08!$C$4:$D$25,2,FALSE) -> Activités des organisations et organismes extraterritoriaux | E1028: 40-49 | F1028: 1 | G1028: 1 | H1028: 389
A1029: Totaal 2019 | F1029: =SUBTOTAL(9,F856:F1028) -> 560996 | G1029: =SUBTOTAL(9,G856:G1028) -> 871800 | H1029: =SUBTOTAL(9,H856:H1028) -> 103997471
A1030: 2018 | B1030: A | C1030: Landbouw, bosbouw en visserij | D1030: =VLOOKUP(C1030,NACE08!$C$4:$D$25,2,FALSE) -> Agriculture, sylviculture et pêche | E1030: 15-17 | F1030: 860 | G1030: 1105 | H1030: 118457
A1031: 2018 | B1031: A | C1031: Landbouw, bosbouw en visserij | D1031: =VLOOKUP(C1031,NACE08!$C$4:$D$25,2,FALSE) -> Agriculture, sylviculture et pêche | E1031: 18-20 | F1031: 823 | G1031: 1135 | H1031: 167786
A1032: 2018 | B1032: A | C1032: Landbouw, bosbouw en visserij | D1032: =VLOOKUP(C1032,NACE08!$C$4:$D$25,2,FALSE) -> Agriculture, sylviculture et pêche | E1032: 21-23 | F1032: 323 | G1032: 478 | H1032: 65690
A1033: 2018 | B1033: A | C1033: Landbouw, bosbouw en visserij | D1033: =VLOOKUP(C1033,NACE08!$C$4:$D$25,2,FALSE) -> Agriculture, sylviculture et pêche | E1033: 24-26 | F1033: 57 | G1033: 75 | H1033: 12269
A1034: 2018 | B1034: A | C1034: Landbouw, bosbouw en visserij | D1034: =VLOOKUP(C1034,NACE08!$C$4:$D$25,2,FALSE) -> Agriculture, sylviculture et pêche | E1034: 27-29 | F1034: 8 | G1034: 15 | H1034: 2008
A1035: 2018 | B1035: A | C1035: Landbouw, bosbouw en visserij | D1035: =VLOOKUP(C1035,NACE08!$C$4:$D$25,2,FALSE) -> Agriculture, sylviculture et pêche | E1035: 30-39 | F1035: 7 | G1035: 21 | H1035: 1969
A1036: 2018 | B1036: A | C1036: Landbouw, bosbouw en visserij | D1036: =VLOOKUP(C1036,NACE08!$C$4:$D$25,2,FALSE) -> Agriculture, sylviculture et pêche | E1036: 40-49 | F1036: 2 | G1036: 5 | H1036: 379
A1037: 2018 | B1037: B | C1037: Winning van delfstoffen | D1037: =VLOOKUP(C1037,NACE08!$C$4:$D$25,2,FALSE) -> Industries extractives | E1037: 15-17 | F1037: 5 | G1037: 5 | H1037: 553
A1038: 2018 | B1038: B | C1038: Winning van delfstoffen | D1038: =VLOOKUP(C1038,NACE08!$C$4:$D$25,2,FALSE) -> Industries extractives | E1038: 18-20 | F1038: 11 | G1038: 11 | H1038: 2064
A1039: 2018 | B1039: B | C1039: Winning van delfstoffen | D1039: =VLOOKUP(C1039,NACE08!$C$4:$D$25,2,FALSE) -> Industries extractives | E1039: 21-23 | F1039: 5 | G1039: 6 | H1039: 1400
A1040: 2018 | B1040: B | C1040: Winning van delfstoffen | D1040: =VLOOKUP(C1040,NACE08!$C$4:$D$25,2,FALSE) -> Industries extractives | E1040: 24-26 | F1040: 2 | G1040: 3 | H1040: 403
A1041: 2018 | B1041: B | C1041: Winning van delfstoffen | D1041: =VLOOKUP(C1041,NACE08!$C$4:$D$25,2,FALSE) -> Industries extractives | E1041: 27-29 | F1041: 1 | G1041: 1 | H1041: 451
... A1197: 2018 | B1197: U | C1197: Extraterritoriale organisaties en lichamen | D1197: =VLOOKUP(C1197,NACE08!$C$4:$D$25,2,FALSE) -> Activités des organisations et organismes extraterritoriaux | E1197: 40-49 | F1197: 1 | G1197: 1 | H1197: 170
A1198: Totaal 2018 | F1198: =SUBTOTAL(9,F1030:F1197) -> 544749 | G1198: =SUBTOTAL(9,G1030:G1197) -> 831442 | H1198: =SUBTOTAL(9,H1030:H1197) -> 98104829
...

Sheet NACE 2025-age | leeftijd
A1: Opmerking: In 2025 werd de NACE-nomenclatuur 2008 ingeruild voor de NACE-nomenclatuur 2025. Een heel aantal NACE-codes bleven overanderd, maar dat geldt zeker niet voor alle codes. In dit tabblad - en ook in de volgende tabbladen met een vermelding van NACE 2025 - brengen we dan ook de verdeling van de gegevens naar NACE- sectie volgens de NACE 25 nomenclatuur. Voor 2025 is dat vanzelfsprekend, maar ook voor de gegevens uit 2024 geven we hier de verdeling volgens NACE 25. We creëren als het ware een fictieve situatie waarin de nieuwe NACE-nomenclatuur 2025 al van kracht was in 2024. Dat is noodzakelijk om de gegevens uit 2025 te vergelijken met hun tegenhanger uit 2024. Deze retropolatie beperkt zich tot 2024. Voor de voorgaande jaren voorzien we enkel een verdeling naar de destijds van toepassing zijnde NACE-nomenclatuur 2008. Die gegevens vindt u onder de tabbladen met vermelding NACE 08. Remarque: En 2025, la nomenclature NACE 2008 a été remplacée par la nomenclature NACE 2025. Un certain nombre de codes NACE sont demeurés inchangés, mais cette stabilité ne s’applique pas à l’ensemble des codes. Dès lors, le présent onglet - et aussi les onglets suivants avec une mention du NACE 2025 - présente la répartition des données par section NACE selon la nomenclature NACE 2025. Pour l’année 2025, cette approche s’impose naturellement ; toutefois, pour les données relatives à l’année 2024, la répartition est également fournie sur la base de la nomenclature NACE 2025. Il s’agit ainsi de créer une situation fictive dans laquelle la nouvelle nomenclature NACE 2025 aurait déjà été d’application en 2024. Cette démarche est indispensable afin de permettre une comparaison cohérente entre les données de 2025 et celles de 2024. Pour les années précédentes, nous ne prévoyons qu’une répartition selon la nomenclature NACE 2008 alors en vigueur. Vous trouverez ces données sous les onglets portant la mention NACE 08.
A3: Jaar Année | B3: Section NACE NACE Sectie | C3: Label NACE Sectie | D3: Libellé section NACE | E3: Tranche d'âge Leeftijdsklasse | F3: Aantal jobstudenten Nombre d' étudiants jobistes | G3: Aantal studentenjobs Nombre de jobs d' étudiants | H3: Bezoldigde uren Heures rémunérées
A4: 2025 | B4: A | C4: Landbouw, bosbouw en visserij | D4: Agriculture, sylviculture et pêche | E4: 15 - 17 | F4: 1426 | G4: 1878 | H4: 230095
A5: 2025 | B5: A | C5: Landbouw, bosbouw en visserij | D5: Agriculture, sylviculture et pêche | E5: 18 - 20 | F5: 1252 | G5: 1924 | H5: 321547
A6: 2025 | B6: A | C6: Landbouw, bosbouw en visserij | D6: Agriculture, sylviculture et pêche | E6: 21 - 23 | F6: 457 | G6: 766 | H6: 124573
A7: 2025 | B7: A | C7: Landbouw, bosbouw en visserij | D7: Agriculture, sylviculture et pêche | E7: 24 - 26 | F7: 92 | G7: 149 | H7: 23736
A8: 2025 | B8: A | C8: Landbouw, bosbouw en visserij | D8: Agriculture, sylviculture et pêche | E8: 27 - 29 | F8: 11 | G8: 17 | H8: 3512
A9: 2025 | B9: A | C9: Landbouw, bosbouw en visserij | D9: Agriculture, sylviculture et pêche | E9: 30 - 39 | F9: 10 | G9: 15 | H9: 3519
A10: 2025 | B10: A | C10: Landbouw, bosbouw en visserij | D10: Agriculture, sylviculture et pêche | E10: 40 - 49 | F10: 3 | G10: 4 | H10: 790
A11: 2025 | B11: B | C11: Winning van delfstoffen | D11: Industries extractives | E11: 15 - 17 | F11: 5 | G11: 5 | H11: 545
A12: 2025 | B12: B | C12: Winning van delfstoffen | D12: Industries extractives | E12: 18 - 20 | F12: 4 | G12: 7 | H12: 901
A13: 2025 | B13: B | C13: Winning van delfstoffen | D13: Industries extractives | E13: 21 - 23 | F13: 4 | G13: 4 | H13: 870
A14: 2025 | B14: B | C14: Winning van delfstoffen | D14: Industries extractives | E14: 24 - 26 | F14: 0 | G14: 1 | H14: 13
A15: 2025 | B15: C | C15: Industrie | D15: Industrie manufacturière | E15: 15 - 17 | F15: 5588 | G15: 7208 | H15: 831278
A16: 2025 | B16: C | C16: Industrie | D16: Industrie manufacturière | E16: 18 - 20 | F16: 6526 | G16: 9820 | H16: 1480180
... A176: 2025 | B176: V | C176: Activiteiten van extraterritoriale organisaties en instanties | D176: Activités des organisations et organismes extraterritoriaux | E176: 30 - 39 | F176: 2 | G176: 2 | H176: 1029
A177: Totaal 2025 | F177: =SUBTOTAL(9,F4:F176) -> 649055 | G177: =SUBTOTAL(9,G4:G176) -> 1063167 | H177: =SUBTOTAL(9,H4:H176) -> 146015932
A178: 2024 | B178: A | C178: Landbouw, bosbouw en visserij | D178: Agriculture, sylviculture et pêche | E178: 15 - 17 | F178: 1381 | G178: 1794 | H178: 214429
A179: 2024 | B179: A | C179: Landbouw, bosbouw en visserij | D179: Agriculture, sylviculture et pêche | E179: 18 - 20 | F179: 1118 | G179: 1714 | H179: 283187
A180: 2024 | B180: A | C180: Landbouw, bosbouw en visserij | D180: Agriculture, sylviculture et pêche | E180: 21 - 23 | F180: 437 | G180: 735 | H180: 106624
A181: 2024 | B181: A | C181: Landbouw, bosbouw en visserij | D181: Agriculture, sylviculture et pêche | E181: 24 - 26 | F181: 88 | G181: 145 | H181: 21137
A182: 2024 | B182: A | C182: Landbouw, bosbouw en visserij | D182: Agriculture, sylviculture et pêche | E182: 27 - 29 | F182: 11 | G182: 18 | H182: 2864
A183: 2024 | B183: A | C183: Landbouw, bosbouw en visserij | D183: Agriculture, sylviculture et pêche | E183: 30 - 39 | F183: 10 | G183: 15 | H183: 2969
A184: 2024 | B184: A | C184: Landbouw, bosbouw en visserij | D184: Agriculture, sylviculture et pêche | E184: 40 - 49 | F184: 0 | G184: 2 | H184: 42
A185: 2024 | B185: B | C185: Winning van delfstoffen | D185: Industries extractives | E185: 15 - 17 | F185: 6 | G185: 6 | H185: 862
A186: 2024 | B186: B | C186: Winning van delfstoffen | D186: Industries extractives | E186: 18 - 20 | F186: 8 | G186: 10 | H186: 1376
A187: 2024 | B187: B | C187: Winning van delfstoffen | D187: Industries extractives | E187: 21 - 23 | F187: 6 | G187: 7 | H187: 1401
A188: 2024 | B188: B | C188: Winning van delfstoffen | D188: Industries extractives | E188: 24 - 26 | F188: 0 | G188: 1 | H188: 4
A189: 2024 | B189: C | C189: Industrie | D189: Industrie manufacturière | E189: 15 - 17 | F189: 5726 | G189: 7493 | H189: 841552
... A350: 2024 | B350: V | C350: Activiteiten van extraterritoriale organisaties en instanties | D350: Activités des organisations et organismes extraterritoriaux | E350: 30 - 39 | F350: 1 | G350: 1 | H350: 495
A351: Totaal 2024 | F351: =SUBTOTAL(9,F178:F350) -> 640608 | G351: =SUBTOTAL(9,G178:G350) -> 1039047 | H351: =SUBTOTAL(9,H178:H350) -> 141114978

Sheet Lieu de trav|werkpl_NACE 08
A1: Opmerking: In 2025 werd de NACE-nomenclatuur 2008 ingeruild voor de NACE-nomenclatuur 2025. Een heel aantal NACE-codes bleven overanderd, maar dat geldt zeker niet voor alle codes. In dit tabblad - en ook in de volgende tabbladen met een vermelding van NACE 2025 - brengen we dan ook de verdeling van de gegevens naar NACE- sectie volgens de NACE 25 nomenclatuur. Voor 2025 is dat vanzelfsprekend, maar ook voor de gegevens uit 2024 geven we hier de verdeling volgens NACE 25. We creëren als het ware een fictieve situatie waarin de nieuwe NACE-nomenclatuur 2025 al van kracht was in 2024. Dat is noodzakelijk om de gegevens uit 2025 te vergelijken met hun tegenhanger uit 2024. Deze retropolatie beperkt zich tot 2024. Voor de voorgaande jaren voorzien we enkel een verdeling naar de destijds van toepassing zijnde NACE-nomenclatuur 2008. Die gegevens vindt u onder de tabbladen met vermelding NACE 08. Remarque: En 2025, la nomenclature NACE 2008 a été remplacée par la nomenclature NACE 2025. Un certain nombre de codes NACE sont demeurés inchangés, mais cette stabilité ne s’applique pas à l’ensemble des codes. Dès lors, le présent onglet - et aussi les onglets suivants avec une mention du NACE 2025 - présente la répartition des données par section NACE selon la nomenclature NACE 2025. Pour l’année 2025, cette approche s’impose naturellement ; toutefois, pour les données relatives à l’année 2024, la répartition est également fournie sur la base de la nomenclature NACE 2025. Il s’agit ainsi de créer une situation fictive dans laquelle la nouvelle nomenclature NACE 2025 aurait déjà été d’application en 2024. Cette démarche est indispensable afin de permettre une comparaison cohérente entre les données de 2025 et celles de 2024. Pour les années précédentes, nous ne prévoyons qu’une répartition selon la nomenclature NACE 2008 alors en vigueur. Vous trouverez ces données sous les onglets portant la mention NACE 08.
A3: Jaar Année | B3: NIS-code Code INS | C3: Gewest werkgever | D3: Région employeur | E3: Section NACE NACE Sectie | F3: Label NACE Sectie | G3: Libellé section NACE | H3: Nombre d'étudiants jobistes Aantal jobstudenten | I3: Aantal studentenjobs Nombre de jobs d'étudiants | J3: Bezoldigde uren Heures rémunérées
A4: 2024 | B4: \ | C4: onbekend | D4: Inconnue | E4: A | F4: Landbouw, bosbouw en visserij | G4: Agriculture, sylviculture et pêche | H4: 133 | I4: 140 | J4: 29674
A5: 2024 | B5: \ | C5: onbekend | D5: Inconnue | E5: B | F5: Winning van delfstoffen | G5: Industries extractives | H5: 1 | I5: 1 | J5: 24
A6: 2024 | B6: \ | C6: onbekend | D6: Inconnue | E6: C | F6: Industrie | G6: Industries manufacturières | H6: 588 | I6: 672 | J6: 112924
A7: 2024 | B7: \ | C7: onbekend | D7: Inconnue | E7: D | F7: Productie en distributie van elektriciteit, gas, stoom en gekoelde lucht | G7: Production et distribution d'électricité, de gaz, de vapeur et d'air conditionné | H7: 1 | I7: 1 | J7: 76
A8: 2024 | B8: \ | C8: onbekend | D8: Inconnue | E8: E | F8: Distributie van water; afval- en afvalwaterbeheer en sanering | G8: Production et distribution d'eau; assainissement, gestion des déchets et dépollution | H8: 7 | I8: 9 | J8: 1111
A9: 2024 | B9: \ | C9: onbekend | D9: Inconnue | E9: F | F9: Bouwnijverheid | G9: Construction | H9: 109 | I9: 116 | J9: 20409
A10: 2024 | B10: \ | C10: onbekend | D10: Inconnue | E10: G | F10: Groot- en detailhandel; reparatie van auto's en motorfietsen | G10: Commerce; réparation d'automobiles et de motocycles | H10: 1655 | I10: 2018 | J10: 372247
A11: 2024 | B11: \ | C11: onbekend | D11: Inconnue | E11: H | F11: Vervoer en opslag | G11: Transports et entreposage | H11: 150 | I11: 172 | J11: 35007
A12: 2024 | B12: \ | C12: onbekend | D12: Inconnue | E12: I | F12: Verschaffen van accommodatie en maaltijden | G12: Hébergement et restauration | H12: 5151 | I12: 6398 | J12: 1030871
A13: 2024 | B13: \ | C13: onbekend | D13: Inconnue | E13: J | F13: Informatie et communicatie | G13: Information et communication | H13: 124 | I13: 146 | J13: 30644
A14: 2024 | B14: \ | C14: onbekend | D14: Inconnue | E14: K | F14: Financiële activiteiten en verzekeringen | G14: Activités financières et 'assurance | H14: 61 | I14: 70 | J14: 16642
A15: 2024 | B15: \ | C15: onbekend | D15: Inconnue | E15: L | F15: Exploitatie van en handel in onroerend goed | G15: Activités immobilières | H15: 54 | I15: 62 | J15: 10586
... A86: 2024 | B86: 04000 | C86: BRUSSELS HOOFDSTEDELIJK GEWEST | D86: Région de Bruxelles-Capitale | E86: U | F86: Extraterritoriale organisaties en lichamen | G86: Activités des organisations et organismes extraterritoriaux | H86: 9 | I86: 12 | J86: 1944
A87: Totaal 2024 | H87: =SUBTOTAL(9,H4:H86) -> 640608 | I87: =SUBTOTAL(9,I4:I86) -> 1039047 | J87: =SUBTOTAL(9,J4:J86) -> 141114978
A88: 2023 | B88: \ | C88: onbekend | D88: Inconnue | E88: A | F88: Landbouw, bosbouw en visserij | G88: Agriculture, sylviculture et pêche | H88: 148 | I88: 154 | J88: 32179
A89: 2023 | B89: \ | C89: onbekend | D89: Inconnue | E89: B | F89: Winning van delfstoffen | G89: Industries extractives | H89: 1 | I89: 1 | J89: 71
A90: 2023 | B90: \ | C90: onbekend | D90: Inconnue | E90: C | F90: Industrie | G90: Industries manufacturières | H90: 570 | I90: 644 | J90: 104262
A91: 2023 | B91: \ | C91: onbekend | D91: Inconnue | E91: D | F91: Productie en distributie van elektriciteit, gas, stoom en gekoelde lucht | G91: Production et distribution d'électricité, de gaz, de vapeur et d'air conditionné | H91: 0 | I91: 1 | J91: 31
A92: 2023 | B92: \ | C92: onbekend | D92: Inconnue | E92: E | F92: Distributie van water; afval- en afvalwaterbeheer en sanering | G92: Production et distribution d'eau; assainissement, gestion des déchets et dépollution | H92: 6 | I92: 6 | J92: 989
A93: 2023 | B93: \ | C93: onbekend | D93: Inconnue | E93: F | F93: Bouwnijverheid | G93: Construction | H93: 124 | I93: 131 | J93: 24645
A94: 2023 | B94: \ | C94: onbekend | D94: Inconnue | E94: G | F94: Groot- en detailhandel; reparatie van auto's en motorfietsen | G94: Commerce; réparation d'automobiles et de motocycles | H94: 1752 | I94: 2088 | J94: 365116
A95: 2023 | B95: \ | C95: onbekend | D95: Inconnue | E95: H | F95: Vervoer en opslag | G95: Transports et entreposage | H95: 144 | I95: 161 | J95: 30382
A96: 2023 | B96: \ | C96: onbekend | D96: Inconnue | E96: I | F96: Verschaffen van accommodatie en maaltijden | G96: Hébergement et restauration | H96: 5351 | I96: 6485 | J96: 1002403
A97: 2023 | B97: \ | C97: onbekend | D97: Inconnue | E97: J | F97: Informatie et communicatie | G97: Information et communication | H97: 129 | I97: 148 | J97: 32680
A98: 2023 | B98: \ | C98: onbekend | D98: Inconnue | E98: K | F98: Financiële activiteiten en verzekeringen | G98: Activités financières et 'assurance | H98: 40 | I98: 45 | J98: 9546
A99: 2023 | B99: \ | C99: onbekend | D99: Inconnue | E99: L | F99: Exploitatie van en handel in onroerend goed | G99: Activités immobilières | H99: 43 | I99: 49 | J99: 9239
... A170: 2023 | B170: 04000 | C170: BRUSSELS HOOFDSTEDELIJK GEWEST | D170: Région de Bruxelles-Capitale | E170: U | F170: Extraterritoriale organisaties en lichamen | G170: Activités des organisations et organismes extraterritoriaux | H170: 0 | I170: 1 | J170: 7
A171: Totaal 2023 | H171: =SUBTOTAL(9,H88:H170) -> 632672 | I171: =SUBTOTAL(9,I88:I170) -> 1029446 | J171: =SUBTOTAL(9,J88:J170) -> 136788164
A172: 2022 | B172: \ | C172: onbekend | D172: Inconnue | E172: A | F172: Landbouw, bosbouw en visserij | G172: Agriculture, sylviculture et pêche | H172: 146 | I172: 162 | J172: 28682
A173: 2022 | B173: \ | C173: onbekend | D173: Inconnue | E173: B | F173: Winning van delfstoffen | G173: Industries extractives | H173: 1 | I173: 1 | J173: 140
A174: 2022 | B174: \ | C174: onbekend | D174: Inconnue | E174: C | F174: Industrie | G174: Industries manufacturières | H174: 547 | I174: 622 | J174: 94786
A175: 2022 | B175: \ | C175: onbekend | D175: Inconnue | E175: D | F175: Productie en distributie van elektriciteit, gas, stoom en gekoelde lucht | G175: Production et distribution d'électricité, de gaz, de vapeur et d'air conditionné | H175: 1 | I175: 1 | J175: 76
A176: 2022 | B176: \ | C176: onbekend | D176: Inconnue | E176: E | F176: Distributie van water; afval- en afvalwaterbeheer en sanering | G176: Production et distribution d'eau; assainissement, gestion des déchets et dépollution | H176: 6 | I176: 6 | J176: 612
A177: 2022 | B177: \ | C177: onbekend | D177: Inconnue | E177: F | F177: Bouwnijverheid | G177: Construction | H177: 115 | I177: 131 | J177: 21294
A178: 2022 | B178: \ | C178: onbekend | D178: Inconnue | E178: G | F178: Groot- en detailhandel; reparatie van auto's en motorfietsen | G178: Commerce; réparation d'automobiles et de motocycles | H178: 1704 | I178: 2031 | J178: 344927
A179: 2022 | B179: \ | C179: onbekend | D179: Inconnue | E179: H | F179: Vervoer en opslag | G179: Transports et entreposage | H179: 132 | I179: 151 | J179: 30012
A180: 2022 | B180: \ | C180: onbekend | D180: Inconnue | E180: I | F180: Verschaffen van accommodatie en maaltijden | G180: Hébergement et restauration | H180: 5174 | I180: 6215 | J180: 926613
A181: 2022 | B181: \ | C181: onbekend | D181: Inconnue | E181: J | F181: Informatie et communicatie | G181: Information et communication | H181: 142 | I181: 170 | J181: 31074
A182: 2022 | B182: \ | C182: onbekend | D182: Inconnue | E182: K | F182: Financiële activiteiten en verzekeringen | G182: Activités financières et 'assurance | H182: 38 | I182: 45 | J182: 9662
A183: 2022 | B183: \ | C183: onbekend | D183: Inconnue | E183: L | F183: Exploitatie van en handel in onroerend goed | G183: Activités immobilières | H183: 44 | I183: 49 | J183: 7015
... A254: 2022 | B254: 04000 | C254: BRUSSELS HOOFDSTEDELIJK GEWEST | D254: Région de Bruxelles-Capitale | E254: U | F254: Extraterritoriale organisaties en lichamen | G254: Activités des organisations et organismes extraterritoriaux | H254: 13 | I254: 21 | J254: 2434
A255: Totaal 2022 | H255: =SUBTOTAL(9,H172:H254) -> 626733 | I255: =SUBTOTAL(9,I172:I254) -> 1019299 | J255: =SUBTOTAL(9,J172:J254) -> 129269184
A256: 2021 | B256: \ | C256: onbekend | D256: Inconnue | E256: A | F256: Landbouw, bosbouw en visserij | G256: Agriculture, sylviculture et pêche | H256: 164 | I256: 176 | J256: 30414
A257: 2021 | B257: \ | C257: onbekend | D257: Inconnue | E257: C | F257: Industrie | G257: Industries manufacturières | H257: 496 | I257: 545 | J257: 83324
A258: 2021 | B258: \ | C258: onbekend | D258: Inconnue | E258: E | F258: Distributie van water; afval- en afvalwaterbeheer en sanering | G258: Production et distribution d'eau; assainissement, gestion des déchets et dépollution | H258: 3 | I258: 3 | J258: 409
A259: 2021 | B259: \ | C259: onbekend | D259: Inconnue | E259: F | F259: Bouwnijverheid | G259: Construction | H259: 122 | I259: 128 | J259: 22507
A260: 2021 | B260: \ | C260: onbekend | D260: Inconnue | E260: G | F260: Groot- en detailhandel; reparatie van auto's en motorfietsen | G260: Commerce; réparation d'automobiles et de motocycles | H260: 1457 | I260: 1667 | J260: 297676
A261: 2021 | B261: \ | C261: onbekend | D261: Inconnue | E261: H | F261: Vervoer en opslag | G261: Transports et entreposage | H261: 111 | I261: 129 | J261: 30842
A262: 2021 | B262: \ | C262: onbekend | D262: Inconnue | E262: I | F262: Verschaffen van accommodatie en maaltijden | G262: Hébergement et restauration | H262: 3692 | I262: 4277 | J262: 662363
A263: 2021 | B263: \ | C263: onbekend | D263: Inconnue | E263: J | F263: Informatie et communicatie | G263: Information et communication | H263: 115 | I263: 126 | J263: 28232
A264: 2021 | B264: \ | C264: onbekend | D264: Inconnue | E264: K | F264: Financiële activiteiten en verzekeringen | G264: Activités financières et 'assurance | H264: 29 | I264: 31 | J264: 5138
A265: 2021 | B265: \ | C265: onbekend | D265: Inconnue | E265: L | F265: Exploitatie van en handel in onroerend goed | G265: Activités immobilières | H265: 38 | I265: 42 | J265: 6254
A266: 2021 | B266: \ | C266: onbekend | D266: Inconnue | E266: M | F266: Vrije beroepen en wetenschappelijke en technische activiteiten | G266: Activités spécialisées, scientifiques et techniques | H266: 224 | I266: 246 | J266: 43022
A267: 2021 | B267: \ | C267: onbekend | D267: Inconnue | E267: N | F267: Administratieve en ondersteunende diensten | G267: Activités de services administratifs et de soutien* | H267: 7460 | I267: 9063 | J267: 1240502
... A336: 2021 | B336: 04000 | C336: BRUSSELS HOOFDSTEDELIJK GEWEST | D336: Région de Bruxelles-Capitale | E336: U | F336: Extraterritoriale organisaties en lichamen | G336: Activités des organisations et organismes extraterritoriaux | H336: 10 | I336: 11 | J336: 1597
A337: Totaal 2021 | H337: =SUBTOTAL(9,H256:H336) -> 565247 | I337: =SUBTOTAL(9,I256:I336) -> 883517 | J337: =SUBTOTAL(9,J256:J336) -> 117372968
A338: 2020 | B338: \ | C338: onbekend | D338: Inconnue | E338: A | F338: Landbouw, bosbouw en visserij | G338: Agriculture, sylviculture et pêche | H338: 96 | I338: 103 | J338: 21692
A339: 2020 | B339: \ | C339: onbekend | D339: Inconnue | E339: B | F339: Winning van delfstoffen | G339: Industries extractives | H339: 1 | I339: 1 | J339: 105
A340: 2020 | B340: \ | C340: onbekend | D340: Inconnue | E340: C | F340: Industrie | G340: Industries manufacturières | H340: 448 | I340: 488 | J340: 71628
A341: 2020 | B341: \ | C341: onbekend | D341: Inconnue | E341: D | F341: Productie en distributie van elektriciteit, gas, stoom en gekoelde lucht | G341: Production et distribution d'électricité, de gaz, de vapeur et d'air conditionné | H341: 1 | I341: 1 | J341: 152
A342: 2020 | B342: \ | C342: onbekend | D342: Inconnue | E342: E | F342: Distributie van water; afval- en afvalwaterbeheer en sanering | G342: Production et distribution d'eau; assainissement, gestion des déchets et dépollution | H342: 6 | I342: 6 | J342: 833
A343: 2020 | B343: \ | C343: onbekend | D343: Inconnue | E343: F | F343: Bouwnijverheid | G343: Construction | H343: 82 | I343: 87 | J343: 15874
A344: 2020 | B344: \ | C344: onbekend | D344: Inconnue | E344: G | F344: Groot- en detailhandel; reparatie van auto's en motorfietsen | G344: Commerce; réparation d'automobiles et de motocycles | H344: 1247 | I344: 1435 | J344: 249792
A345: 2020 | B345: \ | C345: onbekend | D345: Inconnue | E345: H | F345: Vervoer en opslag | G345: Transports et entreposage | H345: 109 | I345: 129 | J345: 28237
A346: 2020 | B346: \ | C346: onbekend | D346: Inconnue | E346: I | F346: Verschaffen van accommodatie en maaltijden | G346: Hébergement et restauration | H346: 2998 | I346: 3417 | J346: 444096
A347: 2020 | B347: \ | C347: onbekend | D347: Inconnue | E347: J | F347: Informatie et communicatie | G347: Information et communication | H347: 80 | I347: 92 | J347: 14798
A348: 2020 | B348: \ | C348: onbekend | D348: Inconnue | E348: K | F348: Financiële activiteiten en verzekeringen | G348: Activités financières et 'assurance | H348: 25 | I348: 26 | J348: 5760
A349: 2020 | B349: \ | C349: onbekend | D349: Inconnue | E349: L | F349: Exploitatie van en handel in onroerend goed | G349: Activités immobilières | H349: 21 | I349: 23 | J349: 2395
... A419: 2020 | B419: 04000 | C419: BRUSSELS HOOFDSTEDELIJK GEWEST | D419: Région de Bruxelles-Capitale | E419: U | F419: Extraterritoriale organisaties en lichamen | G419: Activités des organisations et organismes extraterritoriaux | H419: 9 | I419: 10 | J419: 1038
A420: Totaal 2020 | H420: =SUBTOTAL(9,H338:H419) -> 499359 | I420: =SUBTOTAL(9,I338:I419) -> 743817 | J420: =SUBTOTAL(9,J338:J419) -> 96126795
A421: 2019 | B421: \ | C421: onbekend | D421: Inconnue | E421: A | F421: Landbouw, bosbouw en visserij | G421: Agriculture, sylviculture et pêche | H421: 143 | I421: 147 | J421: 24811
A422: 2019 | B422: \ | C422: onbekend | D422: Inconnue | E422: B | F422: Winning van delfstoffen | G422: Industries extractives | H422: 1 | I422: 1 | J422: 136
A423: 2019 | B423: \ | C423: onbekend | D423: Inconnue | E423: C | F423: Industrie | G423: Industries manufacturières | H423: 660 | I423: 701 | J423: 114229
A424: 2019 | B424: \ | C424: onbekend | D424: Inconnue | E424: D | F424: Productie en distributie van elektriciteit, gas, stoom en gekoelde lucht | G424: Production et distribution d'électricité, de gaz, de vapeur et d'air conditionné | H424: 1 | I424: 1 | J424: 192
A425: 2019 | B425: \ | C425: onbekend | D425: Inconnue | E425: E | F425: Distributie van water; afval- en afvalwaterbeheer en sanering | G425: Production et distribution d'eau; assainissement, gestion des déchets et dépollution | H425: 7 | I425: 7 | J425: 1181
A426: 2019 | B426: \ | C426: onbekend | D426: Inconnue | E426: F | F426: Bouwnijverheid | G426: Construction | H426: 123 | I426: 133 | J426: 23802
A427: 2019 | B427: \ | C427: onbekend | D427: Inconnue | E427: G | F427: Groot- en detailhandel; reparatie van auto's en motorfietsen | G427: Commerce; réparation d'automobiles et de motocycles | H427: 1433 | I427: 1715 | J427: 291615
A428: 2019 | B428: \ | C428: onbekend | D428: Inconnue | E428: H | F428: Vervoer en opslag | G428: Transports et entreposage | H428: 148 | I428: 168 | J428: 30188
A429: 2019 | B429: \ | C429: onbekend | D429: Inconnue | E429: I | F429: Verschaffen van accommodatie en maaltijden | G429: Hébergement et restauration | H429: 4028 | I429: 4643 | J429: 686556
A430: 2019 | B430: \ | C430: onbekend | D430: Inconnue | E430: J | F430: Informatie et communicatie | G430: Information et communication | H430: 80 | I430: 91 | J430: 15700
A431: 2019 | B431: \ | C431: onbekend | D431: Inconnue | E431: K | F431: Financiële activiteiten en verzekeringen | G431: Activités financières et 'assurance | H431: 40 | I431: 44 | J431: 7450
A432: 2019 | B432: \ | C432: onbekend | D432: Inconnue | E432: L | F432: Exploitatie van en handel in onroerend goed | G432: Activités immobilières | H432: 32 | I432: 38 | J432: 4841
... A503: 2019 | B503: 04000 | C503: BRUSSELS HOOFDSTEDELIJK GEWEST | D503: Région de Bruxelles-Capitale | E503: U | F503: Extraterritoriale organisaties en lichamen | G503: Activités des organisations et organismes extraterritoriaux | H503: 14 | I503: 19 | J503: 1731
A504: Totaal 2019 | H504: =SUBTOTAL(9,H421:H503) -> 560996 | I504: =SUBTOTAL(9,I421:I503) -> 871800 | J504: =SUBTOTAL(9,J421:J503) -> 103997471
A505: 2018 | B505: \ | C505: onbekend | D505: Inconnue | E505: A | F505: Landbouw, bosbouw en visserij | G505: Agriculture, sylviculture et pêche | H505: 94 | I505: 100 | J505: 20892
A506: 2018 | B506: \ | C506: onbekend | D506: Inconnue | E506: B | F506: Winning van delfstoffen | G506: Industries extractives | H506: 1 | I506: 1 | J506: 388
A507: 2018 | B507: \ | C507: onbekend | D507: Inconnue | E507: C | F507: Industrie | G507: Industries manufacturières | H507: 578 | I507: 621 | J507: 99211
A508: 2018 | B508: \ | C508: onbekend | D508: Inconnue | E508: D | F508: Productie en distributie van elektriciteit, gas, stoom en gekoelde lucht | G508: Production et distribution d'électricité, de gaz, de vapeur et d'air conditionné | H508: 0 | I508: 1 | J508: 33
A509: 2018 | B509: \ | C509: onbekend | D509: Inconnue | E509: E | F509: Distributie van water; afval- en afvalwaterbeheer en sanering | G509: Production et distribution d'eau; assainissement, gestion des déchets et dépollution | H509: 8 | I509: 8 | J509: 1079
A510: 2018 | B510: \ | C510: onbekend | D510: Inconnue | E510: F | F510: Bouwnijverheid | G510: Construction | H510: 117 | I510: 128 | J510: 20836
A511: 2018 | B511: \ | C511: onbekend | D511: Inconnue | E511: G | F511: Groot- en detailhandel; reparatie van auto's en motorfietsen | G511: Commerce; réparation d'automobiles et de motocycles | H511: 1435 | I511: 1648 | J511: 280532
A512: 2018 | B512: \ | C512: onbekend | D512: Inconnue | E512: H | F512: Vervoer en opslag | G512: Transports et entreposage | H512: 100 | I512: 115 | J512: 22388
A513: 2018 | B513: \ | C513: onbekend | D513: Inconnue | E513: I | F513: Verschaffen van accommodatie en maaltijden | G513: Hébergement et restauration | H513: 3674 | I513: 4217 | J513: 596588
A514: 2018 | B514: \ | C514: onbekend | D514: Inconnue | E514: J | F514: Informatie et communicatie | G514: Information et communication | H514: 85 | I514: 96 | J514: 17891
A515: 2018 | B515: \ | C515: onbekend | D515: Inconnue | E515: K | F515: Financiële activiteiten en verzekeringen | G515: Activités financières et 'assurance | H515: 36 | I515: 41 | J515: 7108
A516: 2018 | B516: \ | C516: onbekend | D516: Inconnue | E516: L | F516: Exploitatie van en handel in onroerend goed | G516: Activités immobilières | H516: 28 | I516: 33 | J516: 4004
... A587: 2018 | B587: 04000 | C587: BRUSSELS HOOFDSTEDELIJK GEWEST | D587: Région de Bruxelles-Capitale | E587: U | F587: Extraterritoriale organisaties en lichamen | G587: Activités des organisations et organismes extraterritoriaux | H587: 6 | I587: 8 | J587: 607
A588: Totaal 2018 | H588: =SUBTOTAL(9,H505:H587) -> 544749 | I588: =SUBTOTAL(9,I505:I587) -> 831442 | J588: =SUBTOTAL(9,J505:J587) -> 98104829
...

Sheet Lieu de trav|werkpl_NACE 2025
