Workbook

Sheet Handleiding-Manuel
A2: Handleiding
A4: Opmerking: In 2025 werd de NACE-nomenclatuur 2008 ingeruild voor de NACE-nomenclatuur 2025. Een heel aantal NACE-codes bleven overanderd, maar dat geldt zeker niet voor alle codes. In dit tabblad - en ook in de volgende tabbladen met een vermelding van NACE 2025 - brengen we dan ook de verdeling van de gegevens naar NACE- sectie volgens de NACE 25 nomenclatuur. Voor 2025 is dat vanzelfsprekend, maar ook voor de gegevens uit 2024 geven we hier de verdeling volgens NACE 25. We creëren als het ware een fictieve situatie waarin de nieuwe NACE-nomenclatuur 2025 al van kracht was in 2024. Dat is noodzakelijk om de gegevens uit 2025 te vergelijken met hun tegenhanger uit 2024. Deze retropolatie beperkt zich tot 2024. Voor de voorgaande jaren voorzien we enkel een verdeling naar de destijds van toepassing zijnde NACE-nomenclatuur 2008. Die gegevens vindt u onder de tabbladen met vermelding NACE 08. Remarque: En 2025, la nomenclature NACE 2008 a été remplacée par la nomenclature NACE 2025. Un certain nombre de codes NACE sont demeurés inchangés, mais cette stabilité ne s’applique pas à l’ensemble des codes. Dès lors, le présent onglet - et aussi les onglets suivants avec une mention du NACE 2025 - présente la répartition des données par section NACE selon la nomenclature NACE 2025. Pour l’année 2025, cette approche s’impose naturellement ; toutefois, pour les données relatives à l’année 2024, la répartition est également fournie sur la base de la nomenclature NACE 2025. Il s’agit ainsi de créer une situation fictive dans laquelle la nouvelle nomenclature NACE 2025 aurait déjà été d’application en 2024. Cette démarche est indispensable afin de permettre une comparaison cohérente entre les données de 2025 et celles de 2024. Pour les années précédentes, nous ne prévoyons qu’une répartition selon la nomenclature NACE 2008 alors en vigueur. Vous trouverez ces données sous les onglets portant la mention NACE 08.
A6: In dit excelbestand worden gegevens weergegeven met door Excel gegenereerde subtotalen
A7: Dit heeft als extra voordeel dat u voor elk kwartaal de detailrijen kunt weergeven en verbergen.
A8: Met behulp van het overzicht aan de linkerkant van elk tabblad kunt u de data verbergen met de – knopjes en weergeven met de + knopjes.
A10: Wilt u de subtotalen verwijderen? Volg dan onderstaande stappen:
A11: 1.Selecteer een cel in het bereik dat subtotalen bevat.
A12: 2.Klik in het lint op het tabblad 'Gegevens' in de groep 'Overzicht' op 'Subtotaal'.
A13: 3.Klik in het dialoogvenster Subtotaal op 'Alles verwijderen'.
A15: We voorzien de gegevens die als basis dienen voor de grafieken en tabellen in een afzonderlijk tabblad per grafiek/tabel. Zoals u zal merken bevatten die tabbladen meer gegevens dan weergegeven in de desbetreffende tabel en dit om de continuïteit van onze statistieken te verzekeren. We leveren bovendien eveneens uitgebreide data op niveau van de werkgever (tabblad 'werkgevers').
A17: Manuel
A19: Les données dans ce fichier Excel sont affichées avec des sous-totaux générés par Excel.
... A29: Nous fournissons les données qui servent de base aux graphiques et tableaux dans un onglet séparé par graphique/tableau. Comme vous le remarquerez, ces onglets contiennent plus de données que celles présentées dans le tableau correspondant, afin d’assurer la continuité de nos statistiques. Nous fournissons également des données détaillées au niveau de l’employeur (onglet ‘employeurs’).

Sheet inhoudstafel-Table des matières
A1: Inhoudstafel | Table des matières
B2: naam tabblad | C2: Inhoud
A3: 1 | B3: Kercijfers_chifres clés | C3: aantal in de sociale zekerheid opgenomen studentenjobs, tewerkgestelde jobstudenten, gepresteerde uren en lonen, gemiddeld aantal jobs per student, gemiddeld aantal gepresteerde uren per jobstudent, gemiddeld loon per student en gemiddeld uurloon
A4: 2 | B4: Geslacht_Sexe | C4: Aantal in de sociale zekerheid opgenomen studentenjobs, tewerkgestelde jobstudenten, gepresteerde uren en lonen opgedeeld naar geslacht
A5: 3 | B5: NACE | C5: Aantal in de sociale zekerheid opgenomen studentenjobs, tewerkgestelde jobstudenten, gepresteerde uren en lonen opgedeeld naar activiteitstak van de werkgever (NACE-code)
A6: 4 | B6: dim | C6: Aantal in de sociale zekerheid opgenomen studentenjobs, tewerkgestelde jobstudenten, gepresteerde uren en lonen opgedeeld naar dimensie van de werkgever
A7: 5 | B7: dim_stu | C7: Aantal in de sociale zekerheid opgenomen studentenjobs, tewerkgestelde jobstudenten, gepresteerde uren en lonen opgedeeld naar dimensie van de werkgever. Bij deze dimensie wordt er enkel rekening gehouden met het aantal studenten die een werkgever tewerkstelt
A8: 6 | B8: kwrtl_trim_sexe | C8: Aantal tewerkgestelde jobstudenten, opgedeeld naar geslacht en de kwartalen waarin deze studenten gewerkt hebben
A9: 7 | B9: werkg_leeftijd | C9: Aantal in de sociale zekerheid opgenomen studentenjobs, tewerkgestelde jobstudenten, opgedeeld naar leeftijdsklasse het aantal werkgevers waar ze tewerkgesteld zijn
A10: 8 | B10: uren_lftd_sexe | C10: Aantal tewerkgestelde jobstudenten, opgedeeld naar het aantal gepresteerde uren (onderverdeeld in klassen), leeftijdsklasse en geslacht
A11: 9 | B11: gesl lftd-sexe age | C11: Aantal in de sociale zekerheid opgenomen studentenjobs, tewerkgestelde jobstudenten, gepresteerde uren en lonen opgedeeld naar geslacht en leeftijdsklasse van de tewerkgestelde student
A12: 10 | B12: Nace-sexe | C12: Aantal in de sociale zekerheid opgenomen studentenjobs, tewerkgestelde jobstudenten, gepresteerde uren en lonen opgedeeld naar geslacht en activiteitstak van de werkgever
A13: 11 | B13: Nace-age | C13: aantal in de sociale zekerheid opgenomen studentenjobs, tewerkgestelde jobstudenten gepresteerde uren en lonen opgedeeld naar leeftijdsklasse en activiteitstak van de werkgever
A14: 12 | B14: werkplaats-NACE | C14: aantal in de sociale zekerheid opgenomen studentenjobs, tewerkgestelde studenten en gepresteerde uren, opgedeeld naar het gewest van de belangrijkste uitbatingszetel en de activiteitstak van de werkgever
... A16: 14 | B16: dim_stud - NACE | C16: aantal tewerkgestelde jobstudenten en aantal werkgevers opgedeeld naar activiteitstak van de werkgever en het aantal tewerkgestelde studenten

Sheet kerncijfers_chifres clés
G1: Gemiddelden | Moyennes
A2: Jaar|Année | B2: Nombre d'étudiants Aantal studenten | C2: Aantal studentenjobs Nombre de jobs d'étudiants | D2: Bezoldigde uren Heures rémunérées | E2: Lonen in 1.000 Eur Salaires en 1.000 Eur | F2: Aantal werkgevers | G2: Aantal jobs per student Nombre de jobs par étudiant | H2: Aantal uren per student Nombre d'heures par étudiant | I2: Loon per student (Eur) Salaire par étudiant | J2: Uurloon (Eur) Salaire horaire (Eur)
A3: 2025 | B3: 649055 | C3: 1063167 | D3: 146015932 | E3: 2259515.4 | F3: 73510 | G3: =C3/B3 -> 1.638023 | H3: 224.96696 | I3: 3481.2387 | J3: 15.474444
A4: 2024 | B4: 640608 | C4: 1039047 | D4: 141114978 | E4: 2095561.8 | F4: 72505 | G4: =C4/B4 -> 1.6219701 | H4: =D4/B4 -> 220.28288 | I4: =E4*1000/B4 -> 3271.2077 | J4: =E4*1000/D4 -> 14.850031
A5: 2023 | B5: 632672 | C5: 1029446 | D5: 136788164 | E5: 2002895.5 | F5: 72617 | G5: =C5/B5 -> 1.6271401 | H5: =D5/B5 -> 216.20708 | I5: =E5*1000/B5 -> 3165.7723 | J5: =E5*1000/D5 -> 14.642316
A6: 2022 | B6: 626733 | C6: 1019299 | D6: 129269184 | E6: 1737239.1 | F6: 71751 | G6: =C6/B6 -> 1.6263688 | H6: =D6/B6 -> 206.25878 | I6: =E6*1000/B6 -> 2771.8967 | J6: =E6*1000/D6 -> 13.438927
A7: 2021 | B7: 565247 | C7: 883517 | D7: 117372968 | E7: 1500131 | F7: 68572 | G7: =C7/B7 -> 1.5630636 | H7: =D7/B7 -> 207.64899 | I7: =E7*1000/B7 -> 2653.9389 | J7: =E7*1000/D7 -> 12.78089
A8: 2020 | B8: 499359 | C8: 743817 | D8: 96126795 | E8: 1193747.6 | F8: 63675 | G8: =C8/B8 -> 1.4895436 | H8: =D8/B8 -> 192.50038 | I8: =E8*1000/B8 -> 2390.5598 | J8: =E8*1000/D8 -> 12.418468
A9: 2019 | B9: 560996 | C9: 871800 | D9: 103997471 | E9: 1261371.6 | F9: 65007 | G9: =C9/B9 -> 1.5540218 | H9: =D9/B9 -> 185.38006 | I9: =E9*1000/B9 -> 2248.4502 | J9: =E9*1000/D9 -> 12.128868
A10: 2018 | B10: 544749 | C10: 831442 | D10: 98104829 | E10: 1165181.3 | F10: 62722 | G10: =C10/B10 -> 1.5262846 | H10: =D10/B10 -> 180.0918 | I10: =E10*1000/B10 -> 2138.9324 | J10: =E10*1000/D10 -> 11.8769
A11: 2017 | B11: 522765 | C11: 778281 | D11: 89595003 | E11: 1043964.3 | F11: 59807 | G11: =C11/B11 -> 1.4887779 | H11: =D11/B11 -> 171.38677 | I11: =E11*1000/B11 -> 1997.005 | J11: =E11*1000/D11 -> 11.652037
A12: inhoudstafel - Table des matières

Sheet Geslacht_Sexe
G1: Gemiddelden | Moyennes
A2: Jaar Année | B2: Geslacht Sexe | C2: Nombre d'étudiants Aantal studenten | D2: Aantal studentenjobs Nombre de jobs d'étudiants | E2: Bezoldigde uren Heures rémunérées | F2: Lonen in 1.000 (Eur) Salaires en 1.000 (Eur) | G2: Aantal jobs per student Nombre de jobs par étudiant | H2: Aantal uren per student Nombre d'heures par étudiant | I2: Loon per student (Eur) Salaire par étudiant (Eur) | J2: Uurloon (Eur) Salaire horaire (Eur)
A3: 2025 | B3: Man-Homme | C3: 302932 | D3: 486146 | E3: 67159182 | F3: 1043235.6 | G3: =D3/C3 -> 1.6048024 | H3: 221.69722 | I3: 3443.7948 | J3: 15.533775
A4: 2025 | B4: Vrouw-Femme | C4: 346123 | D4: 577021 | E4: 78856750 | F4: 1216279.7 | G4: =D4/C4 -> 1.6670981 | H4: 227.82869 | I4: 3514.0101 | J4: 15.423914
A5: Totaal 2025 | C5: =SUBTOTAL(9,C3:C4) -> 649055 | D5: =SUBTOTAL(9,D3:D4) -> 1063167 | E5: =SUBTOTAL(9,E3:E4) -> 146015932 | F5: =SUBTOTAL(9,F3:F4) -> 2259515.4 | G5: =D5/C5 -> 1.638023 | H5: =E5/C5 -> 224.96696 | I5: =F5*1000/C5 -> 3481.2387 | J5: =F5*1000/E5 -> 15.474444
A6: 2024 | B6: Man-Homme | C6: 298102 | D6: 472783 | E6: 64319758 | F6: 957466.98 | G6: =D6/C6 -> 1.5859773 | H6: =E6/C6 -> 215.76426 | I6: =F6*1000/C6 -> 3211.8771 | J6: =F6*1000/E6 -> 14.886048
A7: 2024 | B7: Vrouw-Femme | C7: 342506 | D7: 566264 | E7: 76795220 | F7: 1138094.8 | G7: =D7/C7 -> 1.6532966 | H7: =E7/C7 -> 224.21569 | I7: =F7*1000/C7 -> 3322.8464 | J7: =F7*1000/E7 -> 14.819866
A8: Totaal 2024 | C8: =SUBTOTAL(9,C6:C7) -> 640608 | D8: =SUBTOTAL(9,D6:D7) -> 1039047 | E8: =SUBTOTAL(9,E6:E7) -> 141114978 | F8: =SUBTOTAL(9,F6:F7) -> 2095561.8 | G8: =D8/C8 -> 1.6219701 | H8: =E8/C8 -> 220.28288 | I8: =F8*1000/C8 -> 3271.2077 | J8: =F8*1000/E8 -> 14.850031
A9: 2023 | B9: Man-Homme | C9: 294526 | D9: 468373 | E9: 62131094 | F9: 911009.04 | G9: =D9/C9 -> 1.5902603 | H9: =E9/C9 -> 210.95283 | I9: =F9*1000/C9 -> 3093.1362 | J9: =F9*1000/E9 -> 14.662691
A10: 2023 | B10: Vrouw-Femme | C10: 338146 | D10: 561073 | E10: 74657070 | F10: 1091886.4 | G10: =D10/C10 -> 1.6592626 | H10: =E10/C10 -> 220.78354 | I10: =F10*1000/C10 -> 3229.0385 | J10: =F10*1000/E10 -> 14.625359
A11: Totaal 2023 | C11: =SUBTOTAL(9,C9:C10) -> 632672 | D11: =SUBTOTAL(9,D9:D10) -> 1029446 | E11: =SUBTOTAL(9,E9:E10) -> 136788164 | F11: =SUBTOTAL(9,F9:F10) -> 2002895.5 | G11: =D11/C11 -> 1.6271401 | H11: =E11/C11 -> 216.20708 | I11: =F11*1000/C11 -> 3165.7723 | J11: =F11*1000/E11 -> 14.642316
A12: 2022 | B12: Man-Homme | C12: 291248 | D12: 461574 | E12: 58230578 | F12: 782549.96 | G12: =D12/C12 -> 1.5848143 | H12: =E12/C12 -> 199.93469 | I12: =F12*1000/C12 -> 2686.8853 | J12: =F12*1000/E12 -> 13.438815
A13: 2022 | B13: Vrouw-Femme | C13: 335485 | D13: 557725 | E13: 71038606 | F13: 954689.15 | G13: =D13/C13 -> 1.6624439 | H13: =E13/C13 -> 211.74898 | I13: =F13*1000/C13 -> 2845.6985 | J13: =F13*1000/E13 -> 13.439019
A14: Totaal 2022 | C14: =SUBTOTAL(9,C12:C13) -> 626733 | D14: =SUBTOTAL(9,D12:D13) -> 1019299 | E14: =SUBTOTAL(9,E12:E13) -> 129269184 | F14: =SUBTOTAL(9,F12:F13) -> 1737239.1 | G14: =D14/C14 -> 1.6263688 | H14: =E14/C14 -> 206.25878 | I14: =F14*1000/C14 -> 2771.8967 | J14: =F14*1000/E14 -> 13.438927
A15: 2021 | B15: Man-Homme | C15: 260696 | D15: 396532 | E15: 52955259 | F15: 680271.8 | G15: =D15/C15 -> 1.5210513 | H15: =E15/C15 -> 203.13031 | I15: =F15*1000/C15 -> 2609.4447 | J15: =F15*1000/E15 -> 12.846161
A16: 2021 | B16: Vrouw-Femme | C16: 304551 | D16: 486985 | E16: 64417709 | F16: 819859.2 | G16: =D16/C16 -> 1.5990261 | H16: =E16/C16 -> 211.51698 | I16: =F16*1000/C16 -> 2692.026 | J16: =F16*1000/E16 -> 12.727233
A17: Totaal 2021 | C17: =SUBTOTAL(9,C15:C16) -> 565247 | D17: =SUBTOTAL(9,D15:D16) -> 883517 | E17: =SUBTOTAL(9,E15:E16) -> 117372968 | F17: =SUBTOTAL(9,F15:F16) -> 1500131 | G17: =D17/C17 -> 1.5630636 | H17: =E17/C17 -> 207.64899 | I17: =F17*1000/C17 -> 2653.9389 | J17: =F17*1000/E17 -> 12.78089
A18: 2020 | B18: Man-Homme | C18: 228642 | D18: 330623 | E18: 43511459 | F18: 544346.94 | G18: =D18/C18 -> 1.4460292 | H18: =E18/C18 -> 190.30388 | I18: =F18*1000/C18 -> 2380.7828 | J18: =F18*1000/E18 -> 12.510427
A19: 2020 | B19: Vrouw-Femme | C19: 270717 | D19: 413194 | E19: 52615336 | F19: 649400.62 | G19: =D19/C19 -> 1.526295 | H19: =E19/C19 -> 194.35549 | I19: =F19*1000/C19 -> 2398.8173 | J19: =F19*1000/E19 -> 12.342421
A20: Totaal 2020 | C20: =SUBTOTAL(9,C18:C19) -> 499359 | D20: =SUBTOTAL(9,D18:D19) -> 743817 | E20: =SUBTOTAL(9,E18:E19) -> 96126795 | F20: =SUBTOTAL(9,F18:F19) -> 1193747.6 | G20: =D20/C20 -> 1.4895436 | H20: =E20/C20 -> 192.50038 | I20: =F20*1000/C20 -> 2390.5598 | J20: =F20*1000/E20 -> 12.418468
A21: 2019 | B21: Man-Homme | C21: 260163 | D21: 391764 | E21: 47179003 | F21: 578483.28 | G21: =D21/C21 -> 1.5058406 | H21: =E21/C21 -> 181.34402 | I21: =F21*1000/C21 -> 2223.5417 | J21: =F21*1000/E21 -> 12.261456
A22: 2019 | B22: Vrouw-Femme | C22: 300833 | D22: 480036 | E22: 56818468 | F22: 682888.27 | G22: =D22/C22 -> 1.5956893 | H22: =E22/C22 -> 188.87046 | I22: =F22*1000/C22 -> 2269.9912 | J22: =F22*1000/E22 -> 12.018773
A23: Totaal 2019 | C23: =SUBTOTAL(9,C21:C22) -> 560996 | D23: =SUBTOTAL(9,D21:D22) -> 871800 | E23: =SUBTOTAL(9,E21:E22) -> 103997471 | F23: =SUBTOTAL(9,F21:F22) -> 1261371.6 | G23: =D23/C23 -> 1.5540218 | H23: =E23/C23 -> 185.38006 | I23: =F23*1000/C23 -> 2248.4502 | J23: =F23*1000/E23 -> 12.128868
A24: 2018 | B24: Man-Homme | C24: 253117 | D24: 374627 | E24: 44817619 | F24: 539032.26 | G24: =D24/C24 -> 1.4800547 | H24: =E24/C24 -> 177.06286 | I24: =F24*1000/C24 -> 2129.5775 | J24: =F24*1000/E24 -> 12.02724
A25: 2018 | B25: Vrouw-Femme | C25: 291632 | D25: 456815 | E25: 53287210 | F25: 626149.02 | G25: =D25/C25 -> 1.566409 | H25: =E25/C25 -> 182.72072 | I25: =F25*1000/C25 -> 2147.0518 | J25: =F25*1000/E25 -> 11.750456
A26: Totaal 2018 | C26: =SUBTOTAL(9,C24:C25) -> 544749 | D26: =SUBTOTAL(9,D24:D25) -> 831442 | E26: =SUBTOTAL(9,E24:E25) -> 98104829 | F26: =SUBTOTAL(9,F24:F25) -> 1165181.3 | G26: =D26/C26 -> 1.5262846 | H26: =E26/C26 -> 180.0918 | I26: =F26*1000/C26 -> 2138.9324 | J26: =F26*1000/E26 -> 11.8769
A27: 2017 | B27: Man-Homme | C27: 242824 | D27: 351392 | E27: 41126494 | F27: 485596.49 | G27: =D27/C27 -> 1.4471057 | H27: =E27/C27 -> 169.3675 | I27: =F27*1000/C27 -> 1999.7879 | J27: =F27*1000/E27 -> 11.807388
A28: 2017 | B28: Vrouw-Femme | C28: 279941 | D28: 426889 | E28: 48468509 | F28: 558367.81 | G28: =D28/C28 -> 1.5249249 | H28: =E28/C28 -> 173.1383 | I28: =F28*1000/C28 -> 1994.5911 | J28: =F28*1000/E28 -> 11.520219
A29: Totaal 2017 | C29: =SUBTOTAL(9,C27:C28) -> 522765 | D29: =SUBTOTAL(9,D27:D28) -> 778281 | E29: =SUBTOTAL(9,E27:E28) -> 89595003 | F29: =SUBTOTAL(9,F27:F28) -> 1043964.3 | G29: =D29/C29 -> 1.4887779 | H29: =E29/C29 -> 171.38677 | I29: =F29*1000/C29 -> 1997.005 | J29: =F29*1000/E29 -> 11.652037
A30: Inhoudstafel - Table des matières

Sheet NACE08
A1: Opmerking: In 2025 werd de NACE-nomenclatuur 2008 ingeruild voor de NACE-nomenclatuur 2025. Een heel aantal NACE-codes bleven overanderd, maar dat geldt zeker niet voor alle codes. In dit tabblad - en ook in de volgende tabbladen met een vermelding van NACE 2025 - brengen we dan ook de verdeling van de gegevens naar NACE- sectie volgens de NACE 25 nomenclatuur. Voor 2025 is dat vanzelfsprekend, maar ook voor de gegevens uit 2024 geven we hier de verdeling volgens NACE 25. We creëren als het ware een fictieve situatie waarin de nieuwe NACE-nomenclatuur 2025 al van kracht was in 2024. Dat is noodzakelijk om de gegevens uit 2025 te vergelijken met hun tegenhanger uit 2024. Deze retropolatie beperkt zich tot 2024. Voor de voorgaande jaren voorzien we enkel een verdeling naar de destijds van toepassing zijnde NACE-nomenclatuur 2008. Die gegevens vindt u onder de tabbladen met vermelding NACE 08. Remarque: En 2025, la nomenclature NACE 2008 a été remplacée par la nomenclature NACE 2025. Un certain nombre de codes NACE sont demeurés inchangés, mais cette stabilité ne s’applique pas à l’ensemble des codes. Dès lors, le présent onglet - et aussi les onglets suivants avec une mention du NACE 2025 - présente la répartition des données par section NACE selon la nomenclature NACE 2025. Pour l’année 2025, cette approche s’impose naturellement ; toutefois, pour les données relatives à l’année 2024, la répartition est également fournie sur la base de la nomenclature NACE 2025. Il s’agit ainsi de créer une situation fictive dans laquelle la nouvelle nomenclature NACE 2025 aurait déjà été d’application en 2024. Cette démarche est indispensable afin de permettre une comparaison cohérente entre les données de 2025 et celles de 2024. Pour les années précédentes, nous ne prévoyons qu’une répartition selon la nomenclature NACE 2008 alors en vigueur. Vous trouverez ces données sous les onglets portant la mention NACE 08.
A3: Jaar Annéé | B3: Section NACE NACE Sectie | C3: Label NACE Sectie | D3: Libellé section NACE | E3: Nombre d'étudiants jobiste Aantal jobstudenten | F3: Aantal studentenjobs Nombre de jobs d'étudiants | G3: Bezoldigde uren Heures rémunérées | H3: Lonen in 1.000 Eur Salaires en 1.000 Eur
A4: 2024 | B4: A | C4: Landbouw, bosbouw en visserij | D4: Agriculture, sylviculture et pêche | E4: 3041 | F4: 4421 | G4: 631021 | H4: 8014.9309
A5: 2024 | B5: B | C5: Winning van delfstoffen | D5: Industries extractives | E5: 21 | F5: 26 | G5: 4003 | H5: 58.39583
A6: 2024 | B6: C | C6: Industrie | D6: Industries manufacturières | E6: 17132 | F6: 24916 | G6: 3611755 | H6: 49503.681
A7: 2024 | B7: D | C7: Productie en distributie van elektriciteit, gas, stoom en gekoelde lucht | D7: Production et distribution d'électricité, de gaz, de vapeur et d'air conditionné | E7: 73 | F7: 86 | G7: 13299 | H7: 189.2987
A8: 2024 | B8: E | C8: Distributie van water; afval- en afvalwaterbeheer en sanering | D8: Production et distribution d'eau; assainissement, gestion des déchets et dépollution | E8: 903 | F8: 1242 | G8: 184730 | H8: 2724.314
A9: 2024 | B9: F | C9: Bouwnijverheid | D9: Construction | E9: 9304 | F9: 12413 | G9: 1935088 | H9: 31921.623
A10: 2024 | B10: G | C10: Groot- en detailhandel; reparatie van auto's en motorfietsen | D10: Commerce; réparation d'automobiles et de motocycles | E10: 100737 | F10: 145624 | G10: 24269816 | H10: 342085.02
A11: 2024 | B11: H | C11: Vervoer en opslag | D11: Transports et entreposage | E11: 8476 | F11: 13263 | G11: 2075751 | H11: 30934.806
A12: 2024 | B12: I | C12: Verschaffen van accommodatie en maaltijden | D12: Hébergement et restauration | E12: 129229 | F12: 215831 | G12: 30686285 | H12: 439634.01
A13: 2024 | B13: J | C13: Informatie et communicatie | D13: Information et communication | E13: 3552 | F13: 5243 | G13: 915086 | H13: 13809.526
A14: 2024 | B14: K | C14: Financiële activiteiten en verzekeringen | D14: Activités financières et 'assurance | E14: 2404 | F14: 3228 | G14: 550846 | H14: 8303.03
A15: 2024 | B15: L | C15: Exploitatie van en handel in onroerend goed | D15: Activités immobilières | E15: 1874 | F15: 2778 | G15: 408435 | H15: 5701.4945
... A25: 2024 | B25: U | C25: Extraterritoriale organisaties en lichamen | D25: Activités des organisations et organismes extraterritoriaux | E25: 42 | F25: 47 | G25: 8825 | H25: 132.16783
A26: Totaal 2024 | E26: =SUBTOTAL(9,E4:E25) -> 640608 | F26: =SUBTOTAL(9,F4:F25) -> 1039047 | G26: =SUBTOTAL(9,G4:G25) -> 141114978 | H26: =SUBTOTAL(9,H4:H25) -> 2095561.8
A27: 2023 | B27: A | C27: Landbouw, bosbouw en visserij | D27: Agriculture, sylviculture et pêche | E27: 2822 | F27: 4119 | G27: 550397 | H27: 6851.9943
A28: 2023 | B28: B | C28: Winning van delfstoffen | D28: Industries extractives | E28: 18 | F28: 19 | G28: 4187 | H28: 60.08165
A29: 2023 | B29: C | C29: Industrie | D29: Industries manufacturières | E29: 17482 | F29: 25507 | G29: 3605976 | H29: 47874.513
A30: 2023 | B30: D | C30: Productie en distributie van elektriciteit, gas, stoom en gekoelde lucht | D30: Production et distribution d'électricité, de gaz, de vapeur et d'air conditionné | E30: 48 | F30: 74 | G30: 9162 | H30: 126.72992
A31: 2023 | B31: E | C31: Distributie van water; afval- en afvalwaterbeheer en sanering | D31: Production et distribution d'eau; assainissement, gestion des déchets et dépollution | E31: 905 | F31: 1226 | G31: 169570 | H31: 2434.1846
A32: 2023 | B32: F | C32: Bouwnijverheid | D32: Construction | E32: 9318 | F32: 12652 | G32: 1920681 | H32: 28832.784
A33: 2023 | B33: G | C33: Groot- en detailhandel; reparatie van auto's en motorfietsen | D33: Commerce; réparation d'automobiles et de motocycles | E33: 100853 | F33: 151603 | G33: 23898163 | H33: 331962.25
A34: 2023 | B34: H | C34: Vervoer en opslag | D34: Transports et entreposage | E34: 8043 | F34: 12483 | G34: 1915851 | H34: 27805.161
A35: 2023 | B35: I | C35: Verschaffen van accommodatie en maaltijden | D35: Hébergement et restauration | E35: 128211 | F35: 211446 | G35: 29436338 | H35: 423302.32
A36: 2023 | B36: J | C36: Informatie et communicatie | D36: Information et communication | E36: 3662 | F36: 5379 | G36: 907671 | H36: 13390.746
A37: 2023 | B37: K | C37: Financiële activiteiten en verzekeringen | D37: Activités financières et 'assurance | E37: 2531 | F37: 3391 | G37: 573366 | H37: 8155.6754
A38: 2023 | B38: L | C38: Exploitatie van en handel in onroerend goed | D38: Activités immobilières | E38: 1764 | F38: 2664 | G38: 369491 | H38: 5029.2545
... A48: 2023 | B48: U | C48: Extraterritoriale organisaties en lichamen | D48: Activités des organisations et organismes extraterritoriaux | E48: 27 | F48: 37 | G48: 5672 | H48: 77.78454
A49: Totaal 2023 | E49: =SUBTOTAL(9,E27:E48) -> 632672 | F49: =SUBTOTAL(9,F27:F48) -> 1029446 | G49: =SUBTOTAL(9,G27:G48) -> 136788164 | H49: =SUBTOTAL(9,H27:H48) -> 2002895.5
A50: 2022 | B50: A | C50: Landbouw, bosbouw en visserij | D50: Agriculture, sylviculture et pêche | E50: 2728 | F50: 3950 | G50: 502237 | H50: 5644.379
A51: 2022 | B51: B | C51: Winning van delfstoffen | D51: Industries extractives | E51: 27 | F51: 31 | G51: 5827 | H51: 77.42448
A52: 2022 | B52: C | C52: Industrie | D52: Industries manufacturières | E52: 17595 | F52: 25755 | G52: 3482093 | H52: 42698.915
A53: 2022 | B53: D | C53: Productie en distributie van elektriciteit, gas, stoom en gekoelde lucht | D53: Production et distribution d'électricité, de gaz, de vapeur et d'air conditionné | E53: 61 | F53: 84 | G53: 11483 | H53: 140.30321
A54: 2022 | B54: E | C54: Distributie van water; afval- en afvalwaterbeheer en sanering | D54: Production et distribution d'eau; assainissement, gestion des déchets et dépollution | E54: 759 | F54: 1008 | G54: 143370 | H54: 1939.4327
A55: 2022 | B55: F | C55: Bouwnijverheid | D55: Construction | E55: 9187 | F55: 12478 | G55: 1817987 | H55: 22120.681
A56: 2022 | B56: G | C56: Groot- en detailhandel; reparatie van auto's en motorfietsen | D56: Commerce; réparation d'automobiles et de motocycles | E56: 98320 | F56: 145184 | G56: 22078863 | H56: 284070.31
A57: 2022 | B57: H | C57: Vervoer en opslag | D57: Transports et entreposage | E57: 7564 | F57: 11571 | G57: 1688995 | H57: 22652.716
A58: 2022 | B58: I | C58: Verschaffen van accommodatie en maaltijden | D58: Hébergement et restauration | E58: 123241 | F58: 205549 | G58: 26714393 | H58: 345566.67
A59: 2022 | B59: J | C59: Informatie et communicatie | D59: Information et communication | E59: 3757 | F59: 5697 | G59: 872954 | H59: 12066.517
...

Sheet NACE 2025
A1: Opmerking: In 2025 werd de NACE-nomenclatuur 2008 ingeruild voor de NACE-nomenclatuur 2025. Een heel aantal NACE-codes bleven overanderd, maar dat geldt zeker niet voor alle codes. In dit tabblad - en ook in de volgende tabbladen met een vermelding van NACE 2025 - brengen we dan ook de verdeling van de gegevens naar NACE- sectie volgens de NACE 25 nomenclatuur. Voor 2025 is dat vanzelfsprekend, maar ook voor de gegevens uit 2024 geven we hier de verdeling volgens NACE 25. We creëren als het ware een fictieve situatie waarin de nieuwe NACE-nomenclatuur 2025 al van kracht was in 2024. Dat is noodzakelijk om de gegevens uit 2025 te vergelijken met hun tegenhanger uit 2024. Deze retropolatie beperkt zich tot 2024. Voor de voorgaande jaren voorzien we enkel een verdeling naar de destijds van toepassing zijnde NACE-nomenclatuur 2008. Die gegevens vindt u onder de tabbladen met vermelding NACE 08. Remarque: En 2025, la nomenclature NACE 2008 a été remplacée par la nomenclature NACE 2025. Un certain nombre de codes NACE sont demeurés inchangés, mais cette stabilité ne s’applique pas à l’ensemble des codes. Dès lors, le présent onglet - et aussi les onglets suivants avec une mention du NACE 2025 - présente la répartition des données par section NACE selon la nomenclature NACE 2025. Pour l’année 2025, cette approche s’impose naturellement ; toutefois, pour les données relatives à l’année 2024, la répartition est également fournie sur la base de la nomenclature NACE 2025. Il s’agit ainsi de créer une situation fictive dans laquelle la nouvelle nomenclature NACE 2025 aurait déjà été d’application en 2024. Cette démarche est indispensable afin de permettre une comparaison cohérente entre les données de 2025 et celles de 2024. Pour les années précédentes, nous ne prévoyons qu’une répartition selon la nomenclature NACE 2008 alors en vigueur. Vous trouverez ces données sous les onglets portant la mention NACE 08.
A3: Jaar Annéé | B3: Section NACE NACE Sectie | C3: Label NACE Sectie | D3: Libellé section NACE | E3: Nombre d'étudiants jobiste Aantal jobstudenten | F3: Aantal studentenjobs Nombre de jobs d'étudiants | G3: Bezoldigde uren Heures rémunérées | H3: Lonen in 1.000 Eur Salaires en 1.000 Eur
A4: 2025 | B4: A | C4: Landbouw, bosbouw en visserij | D4: Agriculture, sylviculture et pêche | E4: 3251 | F4: 4753 | G4: 707772 | H4: 9332.9857
A5: 2025 | B5: B | C5: Winning van delfstoffen | D5: Industries extractives | E5: 13 | F5: 17 | G5: 2329 | H5: 38.28973
A6: 2025 | B6: C | C6: Industrie | D6: Industrie manufacturière | E6: 16904 | F6: 24548 | G6: 3634551 | H6: 51927.284
A7: 2025 | B7: D | C7: Productie en distributie van elektriciteit, gas, stoom en gekoelde lucht | D7: Production et distribution d'électricité, de gaz, de vapeur et d'air conditionné | E7: 85 | F7: 110 | G7: 16075 | H7: 245.94857
A8: 2025 | B8: E | C8: Distributie van water; afval- en afvalwaterbeheer en sanering | D8: Production et distribution d'eau, assainissement, gestion des déchets et dépollution | E8: 919 | F8: 1289 | G8: 190516 | H8: 2900.0746
A9: 2025 | B9: F | C9: Bouwnijverheid | D9: Construction | E9: 9708 | F9: 12945 | G9: 2098734 | H9: 35897.534
A10: 2025 | B10: G | C10: Groot- en detailhandel | D10: Commerce | E10: 100137 | F10: 142358 | G10: 24749794 | H10: 360501.84
A11: 2025 | B11: H | C11: Vervoer en opslag | D11: Transports et entreposage | E11: 8334 | F11: 13230 | G11: 2145485 | H11: 33051.894
A12: 2025 | B12: I | C12: Verschaffen van accommodatie en maaltijden | D12: Hébergement et restauration | E12: 134198 | F12: 223587 | G12: 32508410 | H12: 493214.54
A13: 2025 | B13: J | C13: Activiteiten van uitgeverijen, omroepactiviteiten en productie en distributie van inhoud | D13: Édition, diffusion et activités de production et de distribution de contenu | E13: 1355 | F13: 2147 | G13: 352648 | H13: 5516.3378
A14: 2025 | B14: K | C14: Telecommunicatie, computerprogrammering, consultancy, informatica-infrastructuur en andere activiteiten op het gebied van informatiediensten | D14: Télécommunications, programmation informatique, conseil, infrastructure informatique et autres activités de service d'information | E14: 1996 | F14: 2862 | G14: 532825 | H14: 8246.1691
A15: 2025 | B15: L | C15: Financiële activiteiten en verzekeringen | D15: Activités financières et d'assurance | E15: 2526 | F15: 3604 | G15: 615317 | H15: 9214.8323
... A26: 2025 | B26: V | C26: Activiteiten van extraterritoriale organisaties en instanties | D26: Activités des organisations et organismes extraterritoriaux | E26: 35 | F26: 37 | G26: 9612 | H26: 143.21076
A27: Totaal 2025 | E27: =SUBTOTAL(9,E4:E26) -> 649055 | F27: =SUBTOTAL(9,F4:F26) -> 1063167 | G27: =SUBTOTAL(9,G4:G26) -> 146015932 | H27: =SUBTOTAL(9,H4:H26) -> 2259515.4
A28: 2024 | B28: A | C28: Landbouw, bosbouw en visserij | D28: Agriculture, sylviculture et pêche | E28: 3045 | F28: 4423 | G28: 631252 | H28: 8017.0569
A29: 2024 | B29: B | C29: Winning van delfstoffen | D29: Industries extractives | E29: 20 | F29: 24 | G29: 3643 | H29: 54.88206
A30: 2024 | B30: C | C30: Industrie | D30: Industrie manufacturière | E30: 17131 | F30: 24913 | G30: 3612314 | H30: 49506.63
A31: 2024 | B31: D | C31: Productie en distributie van elektriciteit, gas, stoom en gekoelde lucht | D31: Production et distribution d'électricité, de gaz, de vapeur et d'air conditionné | E31: 73 | F31: 86 | G31: 13299 | H31: 189.2987
A32: 2024 | B32: E | C32: Distributie van water; afval- en afvalwaterbeheer en sanering | D32: Production et distribution d'eau, assainissement, gestion des déchets et dépollution | E32: 907 | F32: 1250 | G32: 186274 | H32: 2746.1937
A33: 2024 | B33: F | C33: Bouwnijverheid | D33: Construction | E33: 9206 | F33: 12251 | G33: 1910792 | H33: 31546.314
A34: 2024 | B34: G | C34: Groot- en detailhandel | D34: Commerce | E34: 99371 | F34: 143526 | G34: 23940138 | H34: 336961.03
A35: 2024 | B35: H | C35: Vervoer en opslag | D35: Transports et entreposage | E35: 8469 | F35: 13254 | G35: 2073974 | H35: 30904.169
A36: 2024 | B36: I | C36: Verschaffen van accommodatie en maaltijden | D36: Hébergement et restauration | E36: 129258 | F36: 215890 | G36: 30694649 | H36: 439753.62
A37: 2024 | B37: J | C37: Activiteiten van uitgeverijen, omroepactiviteiten en productie en distributie van inhoud | D37: Édition, diffusion et activités de production et de distribution de contenu | E37: 1365 | F37: 2136 | G37: 354124 | H37: 5475.2282
A38: 2024 | B38: K | C38: Telecommunicatie, computerprogrammering, consultancy, informatica-infrastructuur en andere activiteiten op het gebied van informatiediensten | D38: Télécommunications, programmation informatique, conseil, infrastructure informatique et autres activités de service d'information | E38: 2209 | F38: 3146 | G38: 565114 | H38: 8396.5593
A39: 2024 | B39: L | C39: Financiële activiteiten en verzekeringen | D39: Activités financières et d'assurance | E39: 2405 | F39: 3229 | G39: 551198 | H39: 8308.43
... A50: 2024 | B50: V | C50: Activiteiten van extraterritoriale organisaties en instanties | D50: Activités des organisations et organismes extraterritoriaux | E50: 42 | F50: 47 | G50: 8825 | H50: 132.16783
A51: Totaal 2024 | E51: =SUBTOTAL(9,E28:E50) -> 640608 | F51: =SUBTOTAL(9,F28:F50) -> 1039047 | G51: =SUBTOTAL(9,G28:G50) -> 141114978 | H51: =SUBTOTAL(9,H28:H50) -> 2095561.8

Sheet dimensieklasse|classe de dim
A1: Jaar Année | B1: Classe de dimension Dimensieklasse | C1: Label | D1: Libellé | E1: Nombre d'étudiants jobistes Aantal jobstudenten | F1: Aantal studentenjobs Nombre de jobs d'étudiants | G1: Bezoldigde uren Heures rémunérées | H1: Lonen in 1.000 Eur Salaires en 1.000 Eur | I1: Aantal werkgevers Nombre d'employeurs
A2: 2025 | B2: 0 | C2: Enkel tewerkgestelde studenten | D2: Uniquement étudiants jobistes | E2: 10394 | F2: 19152 | G2: 2365660 | H2: 36870.364 | I2: 6077
A3: 2025 | B3: 1 | C3: Minder dan 5 werknemers | D3: Moins de 5 travailleurs | E3: 82375 | F3: 137107 | G3: 18073095 | H3: 267309.06 | I3: 32265
A4: 2025 | B4: 2 | C4: 5-9 werkenemers | D4: 5-9 travailleurs | E4: 56762 | F4: 89866 | G4: 13419502 | H4: 196453.08 | I4: 14261
A5: 2025 | B5: 3 | C5: 10-19 werknemers | D5: 10-19 travailleurs | E5: 53287 | F5: 84457 | G5: 12863955 | H5: 188952.19 | I5: 9389
A6: 2025 | B6: 4 | C6: 20-49 werknemers | D6: 20-49 travailleurs | E6: 52101 | F6: 81122 | G6: 12479942 | H6: 184503.38 | I6: 6441
A7: 2025 | B7: 5 | C7: 50-99 werknemers | D7: 50-99 travailleurs | E7: 34558 | F7: 55651 | G7: 7817563 | H7: 119610.93 | I7: 2403
A8: 2025 | B8: 6 | C8: 100-199 werknemers | D8: 100-199 travailleurs | E8: 30612 | F8: 47184 | G8: 6709513 | H8: 109349.05 | I8: 1360
A9: 2025 | B9: 7 | C9: 200-499 werknemers | D9: 200-499 travailleurs | E9: 32028 | F9: 47634 | G9: 6998128 | H9: 116071.78 | I9: 800
A10: 2025 | B10: 8 | C10: 500-999 werknemers | D10: 500-999 travailleurs | E10: 39744 | F10: 65741 | G10: 8700444 | H10: 142669.08 | I10: 253
A11: 2025 | B11: 9 | C11: 1000 of meer werknemers | D11: 1000 travailleurs ou plus | E11: 257194 | F11: 435253 | G11: 56588130 | H11: 897726.45 | I11: 261
A12: Totaal 2025 | E12: =SUBTOTAL(9,E2:E11) -> 649055 | F12: =SUBTOTAL(9,F2:F11) -> 1063167 | G12: =SUBTOTAL(9,G2:G11) -> 146015932 | H12: =SUBTOTAL(9,H2:H11) -> 2259515.4 | I12: =SUBTOTAL(9,I2:I11) -> 73510
A13: 2024 | B13: 0 | C13: Enkel tewerkgestelde studenten | D13: Uniquement étudiants jobistes | E13: 10261 | F13: 18780 | G13: 2255739 | H13: 33808.601 | I13: 5783
A14: 2024 | B14: 1 | C14: minder dan 5 werknemers | D14: Moins de 5 travailleurs | E14: 80265 | F14: 133477 | G14: 17301569 | H14: 243486.33 | I14: 31855
A15: 2024 | B15: 2 | C15: 5-9 werkenemers | D15: 5-9 travailleurs | E15: 56678 | F15: 90839 | G15: 13156596 | H15: 182859.5 | I15: 14168
A16: 2024 | B16: 3 | C16: 10-19 werknemers | D16: 10-19 travailleurs | E16: 49873 | F16: 78565 | G16: 11767133 | H16: 164638.78 | I16: 9249
A17: 2024 | B17: 4 | C17: 20-49 werknemers | D17: 20-49 travailleurs | E17: 52596 | F17: 84101 | G17: 12247122 | H17: 173705.5 | I17: 6375
A18: 2024 | B18: 5 | C18: 50-99 werknemers | D18: 50-99 travailleurs | E18: 31698 | F18: 49520 | G18: 7038227 | H18: 104948.01 | I18: 2395
A19: 2024 | B19: 6 | C19: 100-199 werknemers | D19: 100-199 travailleurs | E19: 32070 | F19: 50451 | G19: 6692225 | H19: 105328.09 | I19: 1387
A20: 2024 | B20: 7 | C20: 200-499 werknemers | D20: 200-499 travailleurs | E20: 34609 | F20: 51287 | G20: 7485172 | H20: 118321.25 | I20: 786
A21: 2024 | B21: 8 | C21: 500-999 werknemers | D21: 500-999 travailleurs | E21: 34185 | F21: 59242 | G21: 7296651 | H21: 114997.02 | I21: 242
A22: 2024 | B22: 9 | C22: 1000 of meer werknemers | D22: 1000 travailleurs ou plus | E22: 258373 | F22: 422785 | G22: 55874544 | H22: 853468.74 | I22: 265
A23: Totaal 2024 | E23: =SUBTOTAL(9,E13:E22) -> 640608 | F23: =SUBTOTAL(9,F13:F22) -> 1039047 | G23: =SUBTOTAL(9,G13:G22) -> 141114978 | H23: =SUBTOTAL(9,H13:H22) -> 2095561.8 | I23: =SUBTOTAL(9,I13:I22) -> 72505
A24: 2023 | B24: 0 | C24: Enkel tewerkgestelde studenten | D24: Uniquement étudiants jobistes | E24: 10704 | F24: 19673 | G24: 2260314 | H24: 33002.865 | I24: 5862
A25: 2023 | B25: 1 | C25: minder dan 5 werknemers | D25: Moins de 5 travailleurs | E25: 81569 | F25: 134453 | G25: 17089457 | H25: 236933.55 | I25: 32318
A26: 2023 | B26: 2 | C26: 5-9 werkenemers | D26: 5-9 travailleurs | E26: 54808 | F26: 87765 | G26: 12350204 | H26: 169476.84 | I26: 13967
A27: 2023 | B27: 3 | C27: 10-19 werknemers | D27: 10-19 travailleurs | E27: 50499 | F27: 79095 | G27: 11599700 | H27: 159982.74 | I27: 9101
A28: 2023 | B28: 4 | C28: 20-49 werknemers | D28: 20-49 travailleurs | E28: 48243 | F28: 77307 | G28: 11187682 | H28: 157020.58 | I28: 6388
A29: 2023 | B29: 5 | C29: 50-99 werknemers | D29: 50-99 travailleurs | E29: 30157 | F29: 49116 | G29: 6506439 | H29: 96567.06 | I29: 2325
A30: 2023 | B30: 6 | C30: 100-199 werknemers | D30: 100-199 travailleurs | E30: 29177 | F30: 46056 | G30: 6051440 | H30: 94051.501 | I30: 1345
A31: 2023 | B31: 7 | C31: 200-499 werknemers | D31: 200-499 travailleurs | E31: 37068 | F31: 57171 | G31: 7800259 | H31: 120774.38 | I31: 802
A32: 2023 | B32: 8 | C32: 500-999 werknemers | D32: 500-999 travailleurs | E32: 26605 | F32: 42245 | G32: 5762921 | H32: 94536.09 | I32: 246
A33: 2023 | B33: 9 | C33: 1000 of meer werknemers | D33: 1000 travailleurs ou plus | E33: 263842 | F33: 436565 | G33: 56179748 | H33: 840549.89 | I33: 263
A34: Totaal 2023 | E34: =SUBTOTAL(9,E24:E33) -> 632672 | F34: =SUBTOTAL(9,F24:F33) -> 1029446 | G34: =SUBTOTAL(9,G24:G33) -> 136788164 | H34: =SUBTOTAL(9,H24:H33) -> 2002895.5 | I34: =SUBTOTAL(9,I24:I33) -> 72617
A35: 2022 | B35: 0 | C35: Enkel tewerkgestelde studenten | D35: Uniquement étudiants jobistes | E35: 10777 | F35: 19585 | G35: 2158675 | H35: 28552.726 | I35: 5901
A36: 2022 | B36: 1 | C36: minder dan 5 werknemers | D36: Moins de 5 travailleurs | E36: 80528 | F36: 134519 | G36: 16048669 | H36: 202027.61 | I36: 32207
A37: 2022 | B37: 2 | C37: 5-9 werkenemers | D37: 5-9 travailleurs | E37: 53749 | F37: 85894 | G37: 11515090 | H37: 143920.57 | I37: 13669
A38: 2022 | B38: 3 | C38: 10-19 werknemers | D38: 10-19 travailleurs | E38: 47944 | F38: 75457 | G38: 10367267 | H38: 130405.88 | I38: 8833
A39: 2022 | B39: 4 | C39: 20-49 werknemers | D39: 20-49 travailleurs | E39: 45230 | F39: 71326 | G39: 9900505 | H39: 127227.52 | I39: 6202
A40: 2022 | B40: 5 | C40: 50-99 werknemers | D40: 50-99 travailleurs | E40: 29172 | F40: 46688 | G40: 6124465 | H40: 83954.218 | I40: 2288
...

Sheet dim spec_student|étudiant
A1: Jaar Année Trimestre | B1: Specifieke dimensie studententewerkstelling Dimension spécifique emploi étudiant | C1: Label | D1: Libellé | E1: Nombre d'étudiants jobistes Aantal jobstudenten | F1: Aantal studentenjobs Nombre de jobs d'étudiants | G1: Volume in bezoldigde uren Volume en heures rémunérées | H1: Lonen in 1.000 Eur Salaires en 1.000 Eur | I1: Aantal werkgevers Nombre d'employeurs
A2: 2025 | B2: 1 | C2: minder dan 5 tewerkgestelde studenten | D2: Moins de 5 étudiants jobistes | E2: 58783 | F2: 87358 | G2: 13731711 | H2: 210894.64 | I2: 49439
A3: 2025 | B3: 2 | C3: 5 tot 9 tewerkgestelde studenten | D3: 5-9 étudiants jobistes | E3: 44247 | F3: 70210 | G3: 9886392 | H3: 146842.66 | I3: 10698
A4: 2025 | B4: 3 | C4: 10 tot 19 tewerkgestelde studenten | D4: 10-19 étudiants jobistes | E4: 59811 | F4: 95096 | G4: 13590256 | H4: 202059.64 | I4: 7046
A5: 2025 | B5: 4 | C5: 20 tot 49 tewerkgestelde studenten | D5: 20-49 étudiants jobistes | E5: 85808 | F5: 133161 | G5: 19703072 | H5: 295927.8 | I5: 4475
A6: 2025 | B6: 5 | C6: 50 tot 99 tewerkgestelde studenten | D6: 50-99 étudiants jobistes | E6: 50707 | F6: 76672 | G6: 11778133 | H6: 181834.21 | I6: 1137
A7: 2025 | B7: 6 | C7: 100 tot 199 tewerkgestelde studenten | D7: 100-199 étudiants jobistes | E7: 34398 | F7: 53447 | G7: 7879594 | H7: 125192.82 | I7: 399
A8: 2025 | B8: 7 | C8: 200 tot 499 tewerkgestelde studenten | D8: 200-499 étudiants jobistes | E8: 33524 | F8: 52819 | G8: 7526429 | H8: 127289.41 | I8: 180
A9: 2025 | B9: 8 | C9: 500 tot 999 tewerkgestelde studenten | D9: 500-999 étudiants jobistes | E9: 24436 | F9: 40166 | G9: 5723136 | H9: 95523.535 | I9: 59
A10: 2025 | B10: 9 | C10: 1.000 of meer tewerkgestelde studenten | D10: 1.000 étudiants jobistes ou plus | E10: 257341 | F10: 454238 | G10: 56197209 | H10: 873950.64 | I10: 77
A11: Totaal 2025 | E11: =SUBTOTAL(9,E2:E10) -> 649055 | F11: =SUBTOTAL(9,F2:F10) -> 1063167 | G11: =SUBTOTAL(9,G2:G10) -> 146015932 | H11: =SUBTOTAL(9,H2:H10) -> 2259515.4 | I11: =SUBTOTAL(9,I2:I10) -> 73510
A12: 2024 | B12: 1 | C12: minder dan 5 tewerkgestelde studenten | D12: Moins de 5 étudiants jobistes | E12: 58200 | F12: 86220 | G12: 13279528 | H12: 195494.22 | I12: 48842
A13: 2024 | B13: 2 | C13: 5 tot 9 tewerkgestelde studenten | D13: 5-9 étudiants jobistes | E13: 43928 | F13: 69482 | G13: 9631794 | H13: 136440.85 | I13: 10558
A14: 2024 | B14: 3 | C14: 10 tot 19 tewerkgestelde studenten | D14: 10-19 étudiants jobistes | E14: 58559 | F14: 92964 | G14: 12994833 | H14: 183741.06 | I14: 6897
A15: 2024 | B15: 4 | C15: 20 tot 49 tewerkgestelde studenten | D15: 20-49 étudiants jobistes | E15: 83460 | F15: 130269 | G15: 18808325 | H15: 270960.04 | I15: 4390
A16: 2024 | B16: 5 | C16: 50 tot 99 tewerkgestelde studenten | D16: 50-99 étudiants jobistes | E16: 49936 | F16: 76583 | G16: 11492779 | H16: 170367.96 | I16: 1143
A17: 2024 | B17: 6 | C17: 100 tot 199 tewerkgestelde studenten | D17: 100-199 étudiants jobistes | E17: 32493 | F17: 50299 | G17: 7092974 | H17: 110143.97 | I17: 369
A18: 2024 | B18: 7 | C18: 200 tot 499 tewerkgestelde studenten | D18: 200-499 étudiants jobistes | E18: 33760 | F18: 52594 | G18: 7408238 | H18: 119275.33 | I18: 177
A19: 2024 | B19: 8 | C19: 500 tot 999 tewerkgestelde studenten | D19: 500-999 étudiants jobistes | E19: 24180 | F19: 38856 | G19: 5250190 | H19: 83836.934 | I19: 55
A20: 2024 | B20: 9 | C20: 1.000 of meer tewerkgestelde studenten | D20: 1.000 étudiants jobistes ou plus | E20: 256092 | F20: 441780 | G20: 55156317 | H20: 825301.47 | I20: 74
A21: Totaal 2024 | E21: =SUBTOTAL(9,E12:E20) -> 640608 | F21: =SUBTOTAL(9,F12:F20) -> 1039047 | G21: =SUBTOTAL(9,G12:G20) -> 141114978 | H21: =SUBTOTAL(9,H12:H20) -> 2095561.8 | I21: =SUBTOTAL(9,I12:I20) -> 72505
A22: 2023 | B22: 1 | C22: minder dan 5 tewerkgestelde studenten | D22: Moins de 5 étudiants jobistes | E22: 58954 | F22: 87460 | G22: 13063090 | H22: 186297.03 | I22: 49370
A23: 2023 | B23: 2 | C23: 5 tot 9 tewerkgestelde studenten | D23: 5-9 étudiants jobistes | E23: 43993 | F23: 69911 | G23: 9373635 | H23: 130434.95 | I23: 10596
A24: 2023 | B24: 3 | C24: 10 tot 19 tewerkgestelde studenten | D24: 10-19 étudiants jobistes | E24: 58165 | F24: 91792 | G24: 12557491 | H24: 175274.77 | I24: 6790
A25: 2023 | B25: 4 | C25: 20 tot 49 tewerkgestelde studenten | D25: 20-49 étudiants jobistes | E25: 79974 | F25: 124432 | G25: 17645444 | H25: 251994.12 | I25: 4191
A26: 2023 | B26: 5 | C26: 50 tot 99 tewerkgestelde studenten | D26: 50-99 étudiants jobistes | E26: 45783 | F26: 69407 | G26: 10399178 | H26: 155239.74 | I26: 1029
A27: 2023 | B27: 6 | C27: 100 tot 199 tewerkgestelde studenten | D27: 100-199 étudiants jobistes | E27: 31689 | F27: 48485 | G27: 6945164 | H27: 107735.01 | I27: 351
A28: 2023 | B28: 7 | C28: 200 tot 499 tewerkgestelde studenten | D28: 200-499 étudiants jobistes | E28: 28504 | F28: 45696 | G28: 6183349 | H28: 96280.702 | I28: 156
A29: 2023 | B29: 8 | C29: 500 tot 999 tewerkgestelde studenten | D29: 500-999 étudiants jobistes | E29: 23707 | F29: 37662 | G29: 5008746 | H29: 79008.254 | I29: 55
A30: 2023 | B30: 9 | C30: 1000 of meer tewerkgestelde studenten | D30: 1000 étudiants jobistes ou plus | E30: 261903 | F30: 454601 | G30: 55612067 | H30: 820630.91 | I30: 79
A31: Totaal 2023 | E31: =SUBTOTAL(9,E22:E30) -> 632672 | F31: =SUBTOTAL(9,F22:F30) -> 1029446 | G31: =SUBTOTAL(9,G22:G30) -> 136788164 | H31: =SUBTOTAL(9,H22:H30) -> 2002895.5 | I31: =SUBTOTAL(9,I22:I30) -> 72617
A32: 2022 | B32: 1 | C32: minder dan 5 tewerkgestelde studenten | D32: Moins de 5 étudiants jobistes | E32: 58340 | F32: 86370 | G32: 12219932 | H32: 158378.43 | I32: 48850
A33: 2022 | B33: 2 | C33: 5 tot 9 tewerkgestelde studenten | D33: 5-9 étudiants jobistes | E33: 43753 | F33: 69706 | G33: 8869362 | H33: 112647.62 | I33: 10590
A34: 2022 | B34: 3 | C34: 10 tot 19 tewerkgestelde studenten | D34: 10-19 étudiants jobistes | E34: 56803 | F34: 90309 | G34: 11778094 | H34: 150629.88 | I34: 6697
A35: 2022 | B35: 4 | C35: 20 tot 49 tewerkgestelde studenten | D35: 20-49 étudiants jobistes | E35: 75335 | F35: 116711 | G35: 15858857 | H35: 208225.3 | I35: 3964
A36: 2022 | B36: 5 | C36: 50 tot 99 tewerkgestelde studenten | D36: 50-99 étudiants jobistes | E36: 44325 | F36: 68110 | G36: 9431740 | H36: 128125.74 | I36: 1020
A37: 2022 | B37: 6 | C37: 100 tot 199 tewerkgestelde studenten | D37: 100-199 étudiants jobistes | E37: 30615 | F37: 46495 | G37: 6497415 | H37: 93019.996 | I37: 336
A38: 2022 | B38: 7 | C38: 200 tot 499 tewerkgestelde studenten | D38: 200-499 étudiants jobistes | E38: 29045 | F38: 46600 | G38: 5925744 | H38: 85873.684 | I38: 160
A39: 2022 | B39: 8 | C39: 500 tot 999 tewerkgestelde studenten | D39: 500-999 étudiants jobistes | E39: 23991 | F39: 38596 | G39: 5015864 | H39: 72156.351 | I39: 55
A40: 2022 | B40: 9 | C40: 1000 of meer tewerkgestelde studenten | D40: 1000 étudiants jobistes ou plus | E40: 264526 | F40: 456402 | G40: 53672176 | H40: 728182.12 | I40: 79
...

Sheet Kwrtl-trim_sexe
A1: Jaar Année | B1: Kwartalen Trimestres | F1: Code | G1: Geslacht|Sexe | H1: Aantal jobstudenten Nombre d'étudiants jobistes
A2: 2025 | B2: 0 | C2: 0 | D2: 0 | E2: 1 | F2: 0001 | G2: Man-Homme | H2: 19255
A3: 2025 | B3: 0 | C3: 0 | D3: 0 | E3: 1 | F3: 0001 | G3: Vrouw-Femme | H3: 20722
A4: 2025 | B4: 0 | C4: 0 | D4: 1 | E4: 0 | F4: 0010 | G4: Man-Homme | H4: 46517
A5: 2025 | B5: 0 | C5: 0 | D5: 1 | E5: 0 | F5: 0010 | G5: Vrouw-Femme | H5: 39973
A6: 2025 | B6: 0 | C6: 0 | D6: 1 | E6: 1 | F6: 0011 | G6: Man-Homme | H6: 24486
A7: 2025 | B7: 0 | C7: 0 | D7: 1 | E7: 1 | F7: 0011 | G7: Vrouw-Femme | H7: 27973
A8: 2025 | B8: 0 | C8: 1 | D8: 0 | E8: 0 | F8: 0100 | G8: Man-Homme | H8: 7657
A9: 2025 | B9: 0 | C9: 1 | D9: 0 | E9: 0 | F9: 0100 | G9: Vrouw-Femme | H9: 6792
A10: 2025 | B10: 0 | C10: 1 | D10: 0 | E10: 1 | F10: 0101 | G10: Man-Homme | H10: 1750
A11: 2025 | B11: 0 | C11: 1 | D11: 0 | E11: 1 | F11: 0101 | G11: Vrouw-Femme | H11: 1665
A12: 2025 | B12: 0 | C12: 1 | D12: 1 | E12: 0 | F12: 0110 | G12: Man-Homme | H12: 22452
A13: 2025 | B13: 0 | C13: 1 | D13: 1 | E13: 0 | F13: 0110 | G13: Vrouw-Femme | H13: 19073
... A31: 2025 | B31: 1 | C31: 1 | D31: 1 | E31: 1 | F31: 1111 | G31: Vrouw-Femme | H31: 127044
A32: Totaal 2025 | H32: =SUBTOTAL(9,H2:H31) -> 649055
A33: 2024 | B33: 1 | C33: 0 | D33: 0 | E33: 0 | F33: 1000 | G33: Man-Homme | H33: 10537
A34: 2024 | B34: 1 | C34: 0 | D34: 0 | E34: 0 | F34: 1000 | G34: Vrouw-Femme | H34: 11288
A35: 2024 | B35: 1 | C35: 0 | D35: 0 | E35: 1 | F35: 1001 | G35: Man-Homme | H35: 1743
A36: 2024 | B36: 1 | C36: 0 | D36: 0 | E36: 1 | F36: 1001 | G36: Vrouw-Femme | H36: 1966
A37: 2024 | B37: 1 | C37: 0 | D37: 1 | E37: 0 | F37: 1010 | G37: Man-Homme | H37: 5315
A38: 2024 | B38: 1 | C38: 0 | D38: 1 | E38: 0 | F38: 1010 | G38: Vrouw-Femme | H38: 5512
A39: 2024 | B39: 1 | C39: 0 | D39: 1 | E39: 1 | F39: 1011 | G39: Man-Homme | H39: 5303
A40: 2024 | B40: 1 | C40: 0 | D40: 1 | E40: 1 | F40: 1011 | G40: Vrouw-Femme | H40: 6411
A41: 2024 | B41: 1 | C41: 1 | D41: 0 | E41: 0 | F41: 1100 | G41: Man-Homme | H41: 11098
A42: 2024 | B42: 1 | C42: 1 | D42: 0 | E42: 0 | F42: 1100 | G42: Vrouw-Femme | H42: 11691
A43: 2024 | B43: 1 | C43: 1 | D43: 0 | E43: 1 | F43: 1101 | G43: Man-Homme | H43: 3160
A44: 2024 | B44: 1 | C44: 1 | D44: 0 | E44: 1 | F44: 1101 | G44: Vrouw-Femme | H44: 3550
... A48: 2024 | B48: 1 | C48: 1 | D48: 1 | E48: 1 | F48: 1111 | G48: Vrouw-Femme | H48: 119974
A49: 2024 | B49: 0 | C49: 0 | D49: 0 | E49: 1 | F49: 0001 | G49: Man-Homme | H49: 19950
A50: 2024 | B50: 0 | C50: 0 | D50: 0 | E50: 1 | F50: 0001 | G50: Vrouw-Femme | H50: 21137
A51: 2024 | B51: 0 | C51: 0 | D51: 1 | E51: 0 | F51: 0010 | G51: Man-Homme | H51: 51167
A52: 2024 | B52: 0 | C52: 0 | D52: 1 | E52: 0 | F52: 0010 | G52: Vrouw-Femme | H52: 44155
A53: 2024 | B53: 0 | C53: 0 | D53: 1 | E53: 1 | F53: 0011 | G53: Man-Homme | H53: 26359
A54: 2024 | B54: 0 | C54: 0 | D54: 1 | E54: 1 | F54: 0011 | G54: Vrouw-Femme | H54: 29737
A55: 2024 | B55: 0 | C55: 1 | D55: 0 | E55: 0 | F55: 0100 | G55: Man-Homme | H55: 7275
A56: 2024 | B56: 0 | C56: 1 | D56: 0 | E56: 0 | F56: 0100 | G56: Vrouw-Femme | H56: 6621
A57: 2024 | B57: 0 | C57: 1 | D57: 0 | E57: 1 | F57: 0101 | G57: Man-Homme | H57: 1690
A58: 2024 | B58: 0 | C58: 1 | D58: 0 | E58: 1 | F58: 0101 | G58: Vrouw-Femme | H58: 1746
A59: 2024 | B59: 0 | C59: 1 | D59: 1 | E59: 0 | F59: 0110 | G59: Man-Homme | H59: 19056
A60: 2024 | B60: 0 | C60: 1 | D60: 1 | E60: 0 | F60: 0110 | G60: Vrouw-Femme | H60: 17076
...

Sheet werkg_leeftijd|empl_sexe
A1: Jaar Année | B1: Aantal werkgevers Nombre d'employeurs | C1: Leeftijdsklasse Classes d'âge | D1: Tewerkgestelde Studenten Étudiants occupés | E1: Studentenjobs Jobs d'étudiants
A2: 2025 | B2: 1 | C2: 15-17 | D2: 106698 | E2: 106698
A3: 2025 | B3: 1 | C3: 18-20 | D3: 141272 | E3: 141272
A4: 2025 | B4: 1 | C4: 21-23 | D4: 92123 | E4: 92123
A5: 2025 | B5: 1 | C5: 24-26 | D5: 33239 | E5: 33239
A6: 2025 | B6: 1 | C6: 27-29 | D6: 6317 | E6: 6317
A7: 2025 | B7: 1 | C7: 30-39 | D7: 3741 | E7: 3741
A8: 2025 | B8: 1 | C8: 40-49 | D8: 610 | E8: 610
A9: 2025 | B9: 1 | C9: 50-64 | D9: 136 | E9: 136
A10: 2025 | B10: 1 | C10: 65+ | D10: 7 | E10: 7
A11: 2025 | B11: 1 | C11: onbekend-inconnu | D11: 19 | E11: 19
A12: 2025 | B12: 2 | C12: 15-17 | D12: 32028 | E12: 64056
A13: 2025 | B13: 2 | C13: 18-20 | D13: 66800 | E13: 133601
... A35: 2025 | B35: 4 | C35: 50-64 | D35: 1 | E35: 4
A36: 2025 | B36: >4 | C36: 15-17 | D36: 770 | E36: 4166
A37: 2025 | B37: >4 | C37: 18-20 | D37: 4308 | E37: 23846
A38: 2025 | B38: >4 | C38: 21-23 | D38: 4509 | E38: 25180
A39: 2025 | B39: >4 | C39: 24-26 | D39: 1491 | E39: 8400
A40: 2025 | B40: >4 | C40: 27-29 | D40: 331 | E40: 1894
A41: 2025 | B41: >4 | C41: 30-39 | D41: 250 | E41: 1405
A42: 2025 | B42: >4 | C42: 40-49 | D42: 13 | E42: 74
A43: Totaal 2025 | D43: =SUBTOTAL(9,D2:D42) -> 649055 | E43: =SUBTOTAL(9,E2:E42) -> 1063167
A44: 2024 | B44: 1 | C44: 15-17 | D44: 108013 | E44: 108013
A45: 2024 | B45: 1 | C45: 18-20 | D45: 140710 | E45: 140710
A46: 2024 | B46: 1 | C46: 21-23 | D46: 92567 | E46: 92567
A47: 2024 | B47: 1 | C47: 24-26 | D47: 32358 | E47: 32358
A48: 2024 | B48: 1 | C48: 27-29 | D48: 6039 | E48: 6039
A49: 2024 | B49: 1 | C49: 30-39 | D49: 3625 | E49: 3625
A50: 2024 | B50: 1 | C50: 40-49 | D50: 551 | E50: 551
A51: 2024 | B51: 1 | C51: 50-64 | D51: 134 | E51: 134
A52: 2024 | B52: 1 | C52: 65+ | D52: 11 | E52: 11
A53: 2024 | B53: 1 | C53: onbekend-inconnu | D53: 24 | E53: 24
A54: 2024 | B54: 2 | C54: 15-17 | D54: 32053 | E54: 64106
A55: 2024 | B55: 2 | C55: 18-20 | D55: 66001 | E55: 132002
... A77: 2024 | B77: 4 | C77: 40-49 | D77: 14 | E77: 56
A78: 2024 | B78: >4 | C78: 15-17 | D78: 724 | E78: 3867
A79: 2024 | B79: >4 | C79: 18-20 | D79: 4515 | E79: 25011
A80: 2024 | B80: >4 | C80: 21-23 | D80: 4003 | E80: 22343
A81: 2024 | B81: >4 | C81: 24-26 | D81: 1274 | E81: 7134
A82: 2024 | B82: >4 | C82: 27-29 | D82: 273 | E82: 1573
...

Sheet uren_lftd_sexe|hr_age_sexe
A1: Jaar Année | B1: Gewerkte uren Heures prestées | C1: Geslacht|Sexe | D1: Leeftijdsklasse Classe d'âge | E1: Tewerkgestelde studenten Étudiants occupés
A2: 2025 | B2: 0-50 | C2: Man-Homme | D2: 15 - 17 | E2: 21188
A3: 2025 | B3: 0-50 | C3: Man-Homme | D3: 18 - 20 | E3: 18592
A4: 2025 | B4: 0-50 | C4: Man-Homme | D4: 21 - 23 | E4: 9865
A5: 2025 | B5: 0-50 | C5: Man-Homme | D5: 24 - 26 | E5: 3496
A6: 2025 | B6: 0-50 | C6: Man-Homme | D6: 27 - 29 | E6: 783
A7: 2025 | B7: 0-50 | C7: Man-Homme | D7: 30 - 39 | E7: 510
A8: 2025 | B8: 0-50 | C8: Man-Homme | D8: 40-49 | E8: 89
A9: 2025 | B9: 0-50 | C9: Man-Homme | D9: 50-64 | E9: 28
A10: 2025 | B10: 0-50 | C10: Man-Homme | D10: 65+ | E10: 4
A11: 2025 | B11: 0-50 | C11: Man-Homme | D11: Onbekend | E11: 7
A12: 2025 | B12: 0-50 | C12: Vrouw-Femme | D12: 15 - 17 | E12: 21454
A13: 2025 | B13: 0-50 | C13: Vrouw-Femme | D13: 18 - 20 | E13: 18746
... A217: 2025 | B217: >650 | C217: Vrouw-Femme | D217: 50-64 | E217: 1
A218: Totaal 2025 | E218: =SUBTOTAL(9,E2:E217) -> 649055
A219: 2024 | B219: 0-50 | C219: Man-Homme | D219: 15-17 | E219: 20385
A220: 2024 | B220: 0-50 | C220: Man-Homme | D220: 18-20 | E220: 17810
A221: 2024 | B221: 0-50 | C221: Man-Homme | D221: 21-23 | E221: 9688
A222: 2024 | B222: 0-50 | C222: Man-Homme | D222: 24-26 | E222: 3465
A223: 2024 | B223: 0-50 | C223: Man-Homme | D223: 27-29 | E223: 731
A224: 2024 | B224: 0-50 | C224: Man-Homme | D224: 30-39 | E224: 553
A225: 2024 | B225: 0-50 | C225: Man-Homme | D225: 40-49 | E225: 86
A226: 2024 | B226: 0-50 | C226: Man-Homme | D226: 50-64 | E226: 26
A227: 2024 | B227: 0-50 | C227: Man-Homme | D227: 65+ | E227: 5
A228: 2024 | B228: 0-50 | C228: Man-Homme | D228: onbekend-inconnu | E228: 8
A229: 2024 | B229: 0-50 | C229: Vrouw-Femme | D229: 15-17 | E229: 21024
A230: 2024 | B230: 0-50 | C230: Vrouw-Femme | D230: 18-20 | E230: 18000
... A436: 2024 | B436: >650 | C436: Vrouw-Femme | D436: 50-64 | E436: 2
A437: Totaal 2024 | E437: =SUBTOTAL(9,E219:E436) -> 640608
A438: 2023 | B438: 0-50 | C438: Man-Homme | D438: 15-17 | E438: 20248
A439: 2023 | B439: 0-50 | C439: Man-Homme | D439: 18-20 | E439: 17434
A440: 2023 | B440: 0-50 | C440: Man-Homme | D440: 21-23 | E440: 9764
A441: 2023 | B441: 0-50 | C441: Man-Homme | D441: 24-26 | E441: 3436
A442: 2023 | B442: 0-50 | C442: Man-Homme | D442: 27-29 | E442: 777
A443: 2023 | B443: 0-50 | C443: Man-Homme | D443: 30-39 | E443: 503
A444: 2023 | B444: 0-50 | C444: Man-Homme | D444: 40-49 | E444: 70
A445: 2023 | B445: 0-50 | C445: Man-Homme | D445: 50-64 | E445: 26
A446: 2023 | B446: 0-50 | C446: Man-Homme | D446: 65+ | E446: 1
A447: 2023 | B447: 0-50 | C447: Man-Homme | D447: onbekend-inconnu | E447: 14
A448: 2023 | B448: 0-50 | C448: Vrouw-Femme | D448: 15-17 | E448: 21097
...

Sheet gesl lftd-sexe age
H1: Gemiddelden | Moyennes
A2: Jaar Année | B2: Geslacht Sexe | C2: Tranche d'âge Leeftijdsklasse | D2: Nombre d'étudiants jobistes Aantal jobstudenten | E2: Aantal studentenjobs Nombre de jobs d'étudiants | F2: Bezoldigde uren Heures rémunérées | G2: Lonen in 1.000 Eur Salaires en 1.000 Eur | H2: Aantal jobs per student Nombre de jobs par étudiant | I2: Aantal uren per student Nombre d'heures par étudiant | J2: Loon per student (Eur) Salaire par étudiant (Eur) | K2: Uurloon (Eur) Salaire horaire (Eur)
A3: 2025 | B3: Man-Homme | C3: 15 - 17 | D3: 76698 | E3: 105393 | F3: 10918790 | G3: 146056.39 | H3: =E3/D3 -> 1.3741297 | I3: 142.36082 | J3: 1904.305 | K3: 13.376609
A4: 2025 | B4: Man-Homme | C4: 18 - 20 | D4: 119050 | E4: 195879 | F4: 26503067 | G4: 411039 | H4: =E4/D4 -> 1.6453507 | I4: 222.62131 | J4: 3452.6585 | K4: 15.509111
A5: 2025 | B5: Man-Homme | C5: 21 - 23 | D5: 73076 | E5: 126352 | F5: 19248427 | G5: 311941.28 | H5: =E5/D5 -> 1.7290492 | I5: 263.40285 | J5: 4268.7241 | K5: 16.206066
A6: 2025 | B6: Man-Homme | C6: 24 - 26 | D6: 25012 | E6: 42328 | F6: 7357478 | G6: 120957.28 | H6: =E6/D6 -> 1.6923077 | I6: 294.15792 | J6: 4835.9699 | K6: 16.440046
A7: 2025 | B7: Man-Homme | C7: 27 - 29 | D7: 5069 | E7: 8879 | F7: 1679411 | G7: 28251.158 | H7: =E7/D7 -> 1.7516275 | I7: 331.31012 | J7: 5573.3198 | K7: 16.822063
A8: 2025 | B8: Man-Homme | C8: 30 - 39 | D8: 3539 | E8: 6563 | F8: 1308430 | G8: 22541.193 | H8: =E8/D8 -> 1.8544787 | I8: 369.71743 | J8: 6369.3678 | K8: 17.227664
A9: 2025 | B9: Man-Homme | C9: 40 - 49 | D9: 406 | E9: 649 | F9: 128770 | G9: 2183.4156 | H9: =E9/D9 -> 1.5985222 | I9: 317.16749 | J9: 5377.8709 | K9: 16.955934
A10: 2025 | B10: Man-Homme | C10: 50 - 64 | D10: 69 | E10: 90 | F10: 14463 | G10: 261.04882 | H10: =E10/D10 -> 1.3043478 | I10: 209.6087 | J10: 3783.3162 | K10: 18.049424
A11: 2025 | B11: Man-Homme | C11: 65+ | D11: 4 | E11: 4 | F11: 24 | G11: 0.39905 | H11: =E11/D11 -> 1 | I11: 6 | J11: 99.7625 | K11: 16.627083
A12: 2025 | B12: Man-Homme | C12: Onbekend - Inconnu | D12: 9 | E12: 9 | F12: 322 | G12: 4.475 | H12: =E12/D12 -> 1 | I12: 35.777778 | J12: 497.22222 | K12: 13.897516
A13: 2025 | B13: Vrouw-Femme | C13: 15 - 17 | D13: 73647 | E13: 104166 | F13: 10161757 | G13: 131844.59 | H13: =E13/D13 -> 1.4143957 | I13: 137.97924 | J13: 1790.2235 | K13: 12.974586
A14: 2025 | B14: Vrouw-Femme | C14: 18 - 20 | D14: 128077 | E14: 216028 | F14: 28393938 | G14: 431633.15 | H14: =E14/D14 -> 1.6867041 | I14: 221.69428 | J14: 3370.1067 | K14: 15.201595
... A22: 2025 | B22: Vrouw-Femme | C22: Onbekend - Inconnu | D22: 10 | E22: 10 | F22: 275 | G22: 4.24078 | H22: =E22/D22 -> 1 | I22: 27.5 | J22: 424.078 | K22: 15.421018
A23: Totaal 2025 | D23: =SUBTOTAL(9,D3:D22) -> 649055 | E23: =SUBTOTAL(9,E3:E22) -> 1063167 | F23: =SUBTOTAL(9,F3:F22) -> 146015932 | G23: =SUBTOTAL(9,G3:G22) -> 2259515.4 | H23: =E23/D23 -> 1.638023 | I23: =F23/D23 -> 224.96696 | J23: =G23*1000/D23 -> 3481.2387 | K23: =G23*1000/F23 -> 15.474444
A24: 2024 | B24: Man - Homme | C24: 15-17 | D24: 76840 | E24: 105189 | F24: 10981696 | G24: 141985.45 | H24: =E24/D24 -> 1.3689355 | I24: =F24/D24 -> 142.9164 | J24: =G24*1000/D24 -> 1847.8065 | K24: =G24*1000/F24 -> 12.929283
A25: 2024 | B25: Man - Homme | C25: 18-20 | D25: 117211 | E25: 191929 | F25: 25635255 | G25: 379130.63 | H25: =E25/D25 -> 1.6374658 | I25: =F25/D25 -> 218.71032 | J25: =G25*1000/D25 -> 3234.5994 | K25: =G25*1000/F25 -> 14.789423
A26: 2024 | B26: Man - Homme | C26: 21-23 | D26: 71387 | E26: 120890 | F26: 18141358 | G26: 282882.29 | H26: =E26/D26 -> 1.6934456 | I26: =F26/D26 -> 254.12691 | J26: =G26*1000/D26 -> 3962.6583 | K26: =G26*1000/F26 -> 15.593226
A27: 2024 | B27: Man - Homme | C27: 24-26 | D27: 24006 | E27: 39827 | F27: 6747925 | G27: 107365.28 | H27: =E27/D27 -> 1.6590436 | I27: =F27/D27 -> 281.09327 | J27: =G27*1000/D27 -> 4472.435 | K27: =G27*1000/F27 -> 15.910858
A28: 2024 | B28: Man - Homme | C28: 27-29 | D28: 4917 | E28: 8381 | F28: 1554670 | G28: 25248.059 | H28: =E28/D28 -> 1.7044946 | I28: =F28/D28 -> 316.18263 | J28: =G28*1000/D28 -> 5134.8504 | K28: =G28*1000/F28 -> 16.240141
A29: 2024 | B29: Man - Homme | C29: 30-39 | D29: 3296 | E29: 5890 | F29: 1137420 | G29: 18834.108 | H29: =E29/D29 -> 1.7870146 | I29: =F29/D29 -> 345.09102 | J29: =G29*1000/D29 -> 5714.2317 | K29: =G29*1000/F29 -> 16.558622
A30: 2024 | B30: Man - Homme | C30: 40-49 | D30: 355 | E30: 569 | F30: 105215 | G30: 1752.3598 | H30: =E30/D30 -> 1.6028169 | I30: =F30/D30 -> 296.38028 | J30: =G30*1000/D30 -> 4936.2248 | K30: =G30*1000/F30 -> 16.655038
A31: 2024 | B31: Man - Homme | C31: 50-64 | D31: 70 | E31: 88 | F31: 15260 | G31: 256.13247 | H31: =E31/D31 -> 1.2571429 | I31: =F31/D31 -> 218 | J31: =G31*1000/D31 -> 3659.0353 | K31: =G31*1000/F31 -> 16.784566
A32: 2024 | B32: Man - Homme | C32: 65+ | D32: 6 | E32: 6 | F32: 275 | G32: 4.77414 | H32: =E32/D32 -> 1 | I32: =F32/D32 -> 45.833333 | J32: =G32*1000/D32 -> 795.69 | K32: =G32*1000/F32 -> 17.360509
A33: 2024 | B33: Man - Homme | C33: onbekend-inconnu | D33: 14 | E33: 14 | F33: 684 | G33: 7.89711 | H33: =E33/D33 -> 1 | I33: =F33/D33 -> 48.857143 | J33: =G33*1000/D33 -> 564.07929 | K33: =G33*1000/F33 -> 11.545482
A34: 2024 | B34: Vrouw - Femme | C34: 15-17 | D34: 74804 | E34: 105615 | F34: 10468833 | G34: 131984.19 | H34: =E34/D34 -> 1.4118897 | I34: =F34/D34 -> 139.95018 | J34: =G34*1000/D34 -> 1764.4002 | K34: =G34*1000/F34 -> 12.607345
A35: 2024 | B35: Vrouw - Femme | C35: 18-20 | D35: 127587 | E35: 215219 | F35: 28259515 | G35: 409667.86 | H35: =E35/D35 -> 1.6868411 | I35: =F35/D35 -> 221.49212 | J35: =G35*1000/D35 -> 3210.8903 | K35: =G35*1000/F35 -> 14.496634
... A43: 2024 | B43: Vrouw - Femme | C43: onbekend-inconnu | D43: 11 | E43: 12 | F43: 280 | G43: 4.07903 | H43: =E43/D43 -> 1.0909091 | I43: =F43/D43 -> 25.454545 | J43: =G43*1000/D43 -> 370.82091 | K43: =G43*1000/F43 -> 14.567964
A44: Totaal 2024 | D44: =SUBTOTAL(9,D24:D43) -> 640608 | E44: =SUBTOTAL(9,E24:E43) -> 1039047 | F44: =SUBTOTAL(9,F24:F43) -> 141114978 | G44: =SUBTOTAL(9,G24:G43) -> 2095561.8 | H44: =E44/D44 -> 1.6219701 | I44: =F44/D44 -> 220.28288 | J44: =G44*1000/D44 -> 3271.2077 | K44: =G44*1000/F44 -> 14.850031
A45: 2023 | B45: Man - Homme | C45: 15-17 | D45: 76742 | E45: 106512 | F45: 10842389 | G45: 137486.36 | H45: =E45/D45 -> 1.3879232 | I45: =F45/D45 -> 141.28364 | J45: =G45*1000/D45 -> 1791.54 | K45: =G45*1000/F45 -> 12.680449
A46: 2023 | B46: Man - Homme | C46: 18-20 | D46: 114764 | E46: 187853 | F46: 24521589 | G46: 359940.22 | H46: =E46/D46 -> 1.6368635 | I46: =F46/D46 -> 213.6697 | J46: =G46*1000/D46 -> 3136.3513 | K46: =G46*1000/F46 -> 14.678503
